Workbook

Sheet 01.TCD
A1: UBND THÀNH PHỐ ĐỒNG NAI
A2: THANH TRA THÀNH PHỐ
A3: 01/TCD
A4: TỔNG HỢP KẾT QUẢ TIẾP CÔNG DÂN THƯỜNG XUYÊN, ĐỊNH KỲ VÀ ĐỘT XUẤT THÁNG 09/2026
A5: Số liệu tính từ ngày 06/8/2026 đến ngày 05/9/2026
A6: (Kèm theo Báo cáo số ………/BC-TT ngày ………/9/2026 của Thanh tra thành phố Đồng Nai)
A7: Đơn vị | B7: Tổng số lượt tiếp | C7: Tổng số người được tiếp | D7: Tổng số vụ việc tiếp | E7: Tổng số đoàn đông người | F7: Tiếp thường xuyên | K7: Tiếp định kỳ và đột xuất của Thủ trưởng
F8: Số lượt tiếp | G8: Số người được tiếp | H8: Số vụ việc | I8: Trong đó đoàn đông người | K8: Thủ trưởng tiếp | Q8: Ủy quyền tiếp
I9: Số đoàn được tiếp | J9: Số người được tiếp | K9: Số ngày tiếp | L9: Số lượt tiếp | M9: Số người được tiếp | N9: Số vụ việc | O9: Trong đó đoàn đông người | Q9: Số ngày tiếp | R9: Số lượt tiếp | S9: Số người được tiếp | T9: Số vụ việc | U9: Trong đó đoàn đông người
O10: Số đoàn được tiếp | P10: Số người được tiếp | U10: Số đoàn được tiếp | V10: Số người được tiếp
A11: MS | B11: 1=5+11+17 | C11: 2=6+12+18 | D11: 3=7+13+19 | E11: 4=8+14+20 | F11: 5 | G11: 6 | H11: 7 | I11: 8 | J11: 9 | K11: 10 | L11: 11 | M11: 12 | N11: 13 | O11: 14 | P11: 15 | Q11: 16 | R11: 17 | S11: 18 | T11: 19 | U11: 20 | V11: 21
A12: Thanh tra thành phố | B12: =F12+L12+R12 -> 25 | C12: =G12+M12+S12 -> 25 | D12: =H12+N12+T12 -> 25 | E12: =I12+O12+U12 -> 0 | F12: 25 | G12: 25 | H12: 25 | I12: 0 | J12: 0 | K12: 0 | L12: 0 | M12: 0 | N12: 0 | O12: 0 | P12: 0 | Q12: 0 | R12: 0 | S12: 0 | T12: 0 | U12: 0 | V12: 0
A14: 22. Ghi chú:
A15: Hướng dẫn cách ghi biểu:
A16: - Đây là Biểu tổng hợp kết quả chung về tiếp công dân qua công tác tiếp dân thường xuyên, định kỳ và đột xuất của Thủ trưởng
A17: - Cột (1) = (5) + (11) + (17) là Tổng số lượt tiếp, gồm số lượt tiếp thường xuyên và số lượt tiếp của Thủ trưởng (trực tiếp hoặc ủy quyền tiếp)
A18: - Cột (2) = (6) + (12) + (18) là Tổng số người được tiếp, bao gồm tiếp thường xuyên và tiếp của Thủ trưởng (trực tiếp hoặc ủy quyền tiếp)
A19: - Cột (3) = (7) + (13) + (19) là Tổng số vụ việc tiếp, gồm số vụ việc tiếp thường xuyên và số vụ việc Thủ trưởng tiếp (trực tiếp hoặc ủy quyền tiếp)
A20: - Đoàn đông người là đoàn có từ 5 người trở lên
A21: - Cột (4) = (8) + (14) + (20) là Tổng số đoàn đông người được tiếp, gồm đoàn đông người tiếp thường xuyên và đoàn đông người do Thủ trưởng tiếp (trực tiếp hoặc ủy quyền tiếp)
A22: - Đối với vụ việc tiếp công dân thường xuyên có Thủ trưởng tiếp thì chỉ nhập số liệu 1 lần vào mục Thủ trưởng tiếp
A23: - Cột (10), (16) là số ngày tiếp công dân định kỳ và đột xuất của Thủ trưởng được thông báo công khai.
A24: - Cột (11), (12), (17), (18) là số lượt tiếp, số người được tiếp thực tế.
A25: - Nội dung ghi chú viết vào dòng 22 (nếu có)

Sheet 02.XLD
A1: UBND THÀNH PHỐ ĐỒNG NAI
A2: THANH TRA THÀNH PHỐ
A3: 02/XLD
A4: TỔNG HỢP KẾT QUẢ XỬ LÝ ĐƠN THÁNG 09/2026
A5: ='01.TCD'!A5:V5 -> Số liệu tính từ ngày 06/8/2026 đến ngày 05/9/2026
A6: ='01.TCD'!A6:V6 -> (Kèm theo Báo cáo số ………/BC-TT ngày ………/9/2026 của Thanh tra thành phố Đồng Nai)
A7: Đơn vị | B7: Tổng số đơn | C7: Số đơn đã xử lý | D7: Số đơn đủ điều kiện xử lý | E7: Số đơn thuộc thẩm quyền | F7: Số vụ việc thuộc thẩm quyền | G7: Số đơn thuộc thẩm quyền | X7: Số đơn không thuộc thẩm quyền | AA7: Số đơn không đủ điều kiện xử lý trong kỳ | AB7: Chưa xử lý chuyển kỳ sau
G8: Khiếu nại | M8: Tố cáo | T8: Kiến nghị, phản ánh
G9: Tổng số đơn | H9: Phân loại theo thẩm quyền giải quyết | J9: Phân loại theo lĩnh vực | M9: Tổng số đơn | N9: Phân loại theo thẩm quyền giải quyết | P9: Phân loại theo lĩnh vực | T9: Tổng số đơn | U9: Phân loại theo lĩnh vực | X9: Tổng số đơn | Y9: Phân loại theo kết quả xử lý
H10: Khiếu nại lần đầu | I10: Khiếu nại lần 2 | J10: Đất đai | K10: Chế độ, chính sách | L10: Khác | N10: Tố cáo lần đầu | O10: Tố cáo tiếp | P10: Hành chính | Q10: Tham nhũng | R10: Tư pháp | S10: Khác | U10: Chế độ, chính sách | V10: Đất đai | W10: Khác | Y10: Hướng dẫn | Z10: Chuyển đơn
A11: MS | B11: 1 | C11: 2 | D11: 3=4+23 | E11: 4=6+12+19 | F11: 5 | G11: 6=7+8=9+10+11 | H11: 7 | I11: 8 | J11: 9 | K11: 10 | L11: 11 | M11: 12=13+14=15+16+ 17+18 | N11: 13 | O11: 14 | P11: 15 | Q11: 16 | R11: 17 | S11: 18 | T11: 19=20+21+22 | U11: 20 | V11: 21 | W11: 22 | X11: 23=24+25 | Y11: 24 | Z11: 25
A12: Thanh tra thành phố | B12: 197 | C12: =D12+AA12 -> 145 | D12: =E12+X12 -> 83 | E12: =G12+M12+T12 -> 0 | F12: 0 | G12: =SUM(H12:L12) -> 0 | H12: 0 | I12: 0 | J12: 0 | K12: 0 | L12: 0 | M12: =SUM(N12:S12) -> 0 | N12: 0 | O12: 0 | P12: 0 | Q12: 0 | R12: 0 | S12: 0 | T12: =SUM(U12:W12) -> 0 | U12: 0 | V12: 0 | W12: 0 | X12: =SUM(Y12:Z12) -> 83 | Y12: 26 | Z12: 57 | AA12: 62 | AB12: =B12-C12 -> 52
A14: 26. Ghi chú:
A15: Hướng dẫn cách ghi biểu
A16: - Cột (1) là Tổng số đơn KN, TC, KNPA tiếp nhận trong kỳ và đơn chưa xử lý từ kỳ trước chuyển sang; đơn nhận được qua tiếp công dân và đơn nhận từ các nguồn khác (gửi qua dịch vụ chuyển phát, cơ quan khác chuyển, ...)
A17: - Cột (2) Số đơn đã xử lý là Số đơn đã hoàn thành quy trình xem xét về điều kiện xử lý, gồm đơn đủ điều kiện xử lý và đơn không đủ điều kiện xử lý (kết quả cuối cùng: thụ lý giải quyết, lưu đơn, hướng dẫn, chuyển ...) theo quy định; Cột (2) <= Cột (1)
A18: - Cột (3) = (4) + (23). Từ cột (3) là các đơn đủ điều kiện xử lý; Cột (3) <= Cột (2)
A19: - Cột (4) = (6) + (12) + (19) là tổng số đơn thuộc thẩm quyền giải quyết; Cột (4) <= Cột (3)
A20: - Cột (5) là số vụ việc thuộc thẩm quyền giải quyết; Cột (5) <= Cột (4)
A21: - Cột (9), (10), (11) là các đơn khiếu nại thuộc thẩm quyền giải quyết chia theo lĩnh vực, tổng = Cột (6)
A22: - Cột (15), (16), (17), (18) là các đơn tố cáo thuộc thẩm quyền giải quyết chia theo lĩnh vực, tổng = Cột (12)
A23: - Cột (15) là đơn tố cáo thuộc thẩm quyền lĩnh vực hành chính gồm chế độ, chính sách, đất đai (Bồi thường, hỗ trợ, tái định cư, cấp giấy chứng nhận QSDT, thu hồi, đòi đất, nhà,…), công chức, công vụ,…
A24: - Cột (20), (21), (22) là các đơn kiến nghị, phản ánh thuộc thẩm quyền giải quyết chia theo lĩnh vực, tổng = Cột (19)
A25: - Cột (23) là tổng số đơn không thuộc thẩm quyền, phân loại theo kết quả xử lý = Cột (24) + Cột (25)
A26: - Nội dung ghi chú viết vào dòng 26 (nếu có)

Sheet 03.GQKN
A1: UBND THÀNH PHỐ ĐỒNG NAI
A2: THANH TRA THÀNH PHỐ
A3: 03/GQKN
A4: TỔNG HỢP KẾT QUẢ GIẢI QUYẾT KHIẾU NẠI THÁNG 09/2026
A5: ='01.TCD'!A5:V5 -> Số liệu tính từ ngày 06/8/2026 đến ngày 05/9/2026
A6: ='01.TCD'!A6:V6 -> (Kèm theo Báo cáo số ………/BC-TT ngày ………/9/2026 của Thanh tra thành phố Đồng Nai)
A7: Đơn vị | B7: Tổng số đơn khiếu nại thuộc thẩm quyền | C7: Tổng số vụ việc | D7: Phân tích kết quả | H7: Tổng số Quyết định ban hành trong kỳ | I7: Giải quyết lần đầu | L7: Giải quyết lần 2 | N7: Kiến nghị thu hồi cho Nhà nước | P7: Trả lại cho tổ chức, cá nhân | T7: Kiến nghị xử lý hành chính | V7: Chuyển cơ quan điều tra
D8: Đang xem xét điều kiện thụ lý | E8: Đã thụ lý giải quyết | F8: Không thụ lý | G8: Rút đơn, đình chỉ giải quyết | I8: Khiếu nại đúng | J8: Khiếu nại sai | K8: Khiếu nại đúng 1 phần | L8: Công nhận kết quả lần đầu | M8: Hủy, sửa kết quả lần đầu | N8: Tiền (Trđ) | O8: Đất (m2) | P8: Tiền (Trđ) | Q8: Đất (m2) | R8: Số tổ chức được trả lại quyền lợi | S8: Số cá nhân được trả lại quyền lợi | T8: Tổng số người bị kiến nghị xử lý | U8: Trong đó số cán bộ, công chức, viên chức | V8: Số vụ | W8: Tổng số người | X8: Trong đó số cán bộ, công chức, viên chức
A10: MS | B10: 1 | C10: 2=3+4+5+6 | D10: 3 | E10: 4 | F10: 5 | G10: 6 | H10: 7=8+9+10+11+12 | I10: 8 | J10: 9 | K10: 10 | L10: 11 | M10: 12 | N10: 13 | O10: 14 | P10: 15 | Q10: 16 | R10: 17 | S10: 18 | T10: 19 | U10: 20 | V10: 21 | W10: 22 | X10: 23
A11: Thanh tra thành phố | B11: 0 | C11: =0 -> 0 | D11: 0 | E11: 0 | F11: 0 | G11: 0 | H11: =SUM(I11:M11) -> 0 | I11: 0 | J11: 0 | K11: 0 | L11: 0 | M11: 0 | N11: 0 | O11: 0 | P11: 0 | Q11: 0 | R11: 0 | S11: 0 | T11: 0 | U11: 0 | V11: 0 | W11: 0 | X11: 0
A13: 24. Ghi chú:
A14: Hướng dẫn cách ghi biểu
A15: - Cột (1) là số đơn khiếu nại thuộc thẩm quyền đủ điều kiện xử lý = Cột (6) ở Biểu 02/XLD
A16: - Cột (2): Tổng số vụ việc khiếu nại thuộc thẩm quyền, <= Cột (1)
A17: - Cột (6): Chỉ thống kê các vụ việc rút toàn bộ nội dung, đã đình chỉ giải quyết; trường hợp không rút toàn bộ thì không thống kê vào cột này
A18: - Cột (7) là Số Quyết định giải quyết khiếu nại ban hành trong kỳ
A19: - Cột (19): Thống kê số người bị kiến nghị xử lý hành chính do vi phạm phát hiện khi giải quyết khiếu nại
A20: - Cột (20): Thống kê số cán bộ, công chức, viên chức bị kiến nghị xử lý hành chính do vi phạm phát hiện khi giải quyết khiếu nại, <= Cột (19)
A21: - Cột (21): Thống kê số vụ việc bị kiến nghị chuyển cơ quan điều tra tiếp tục xử lý do vi phạm phát hiện khi giải quyết khiếu nại
A22: - Cột (22): Thống kê số người bị kiến nghị chuyển cơ quan điều tra tiếp tục xử lý do vi phạm phát hiện khi giải quyết khiếu nại
A23: - Cột (23): Thống kê số cán bộ, công chức, viên chức bị kiến nghị chuyển cơ quan điều tra tiếp tục xử lý do vi phạm phát hiện khi giải quyết khiếu nại (<= Cột 22)
A24: - Nội dung ghi chú viết vào dòng 24 (nếu có)

Sheet 04.GQTC
A1: UBND THÀNH PHỐ ĐỒNG NAI
A2: THANH TRA THÀNH PHỐ
A3: 04/GQTC
A4: TỔNG HỢP KẾT QUẢ GIẢI QUYẾT TỐ CÁO THÁNG 09/2026
A5: ='01.TCD'!A5:V5 -> Số liệu tính từ ngày 06/8/2026 đến ngày 05/9/2026
A6: ='01.TCD'!A6:V6 -> (Kèm theo Báo cáo số ………/BC-TT ngày ………/9/2026 của Thanh tra thành phố Đồng Nai)
A8: Đơn vị | B8: Tổng số đơn tố cáo thuộc thẩm quyền | C8: Tổng số vụ việc | D8: Phân tích kết quả | H8: Tổng số Kết luận ban hành trong kỳ | I8: Tố cáo lần đầu | L8: Tố cáo tiếp | O8: Kiến nghị thu hồi cho Nhà nước | Q8: Trả lại cho tổ chức, cá nhân | U8: Kiến nghị xử lý hành chính | X8: Chuyển cơ quan điều tra
D9: Đang xem xét điều kiện thụ lý | E9: Đã thụ lý giải quyết | F9: Không thụ lý | G9: Rút đơn, đình chỉ giải quyết | I9: Tố cáo đúng | J9: Tố cáo sai | K9: Tố cáo có đúng có sai | L9: Tố cáo tiếp đúng | M9: Tố cáo tiếp sai | N9: Tố cáo tiếp có đúng có sai | O9: Tiền (Trđ) | P9: Đất (m2) | Q9: Tiền (Trđ) | R9: Đất (m2) | S9: Số tổ chức được trả lại quyền lợi | T9: Số cá nhân được trả lại quyền lợi | U9: Tổ chức | V9: Cá nhân | W9: Trong đó, Cán bộ, công chức | X9: Số vụ | Y9: Số đối tượng | Z9: Trong đó số cán bộ, công chức, viên chức
A11: MS | B11: 1 | C11: 2=3+4+5+6 | D11: 3 | E11: 4 | F11: 5 | G11: 6 | H11: 7=8+9+10+11+12+13 | I11: 8 | J11: 9 | K11: 10 | L11: 11 | M11: 12 | N11: 13 | O11: 14 | P11: 15 | Q11: 16 | R11: 17 | S11: 18 | T11: 19 | U11: 20 | V11: 21 | W11: 22 | X11: 23 | Y11: 24 | Z11: 25
A12: Thanh tra thành phố | B12: 0 | C12: =D12+E12+F12+G12 -> 0 | D12: 0 | E12: 0 | F12: 0 | G12: 0 | H12: =SUM(I12:N12) -> 0 | I12: 0 | J12: 0 | K12: 0 | L12: 0 | M12: 0 | N12: 0 | O12: 0 | P12: 0 | Q12: 0 | R12: 0 | S12: 0 | T12: 0 | U12: 0 | V12: 0 | W12: 0 | X12: 0 | Y12: 0 | Z12: 0
A14: 26. Ghi chú:
A15: Hướng dẫn cách ghi biểu
A16: - Cột (1) là số đơn tố cáo thuộc thẩm quyền đủ điều kiện xử lý = Cột (12) ở Biểu 02/XLD
A17: - Cột (2) Tổng số vụ việc tố cáo thuộc thẩm quyền, <= Cột (1)
A18: - Cột (6): Chỉ thống kê các vụ việc rút toàn bộ nội dung, đã đình chỉ giải quyết; trường hợp không rút toàn bộ thì không thống kê vào cột này
A19: - Cột (7) là Số Kết luận tố cáo ban hành trong kỳ
A20: - Cột (20), (21): Thống kê số tổ chức, cá nhân bị kiến nghị xử lý hành chính do vi phạm phát hiện khi giải quyết tố cáo
A21: - Cột (22): Thống kê số cán bộ, công chức, viên chức bị kiến nghị xử lý hành chính do vi phạm phát hiện khi giải quyết tố cáo (<= Cột 21)
A22: - Cột (23): Thống kê số vụ việc bị kiến nghị chuyển cơ quan điều tra tiếp tục xử lý do vi phạm phát hiện khi giải quyết tố cáo
A23: - Cột (24): Thống kê số đối tượng bị kiến nghị chuyển cơ quan điều tra tiếp tục xử lý do vi phạm phát hiện khi giải quyết tố cáo
A24: - Cột (25): Thống kê số cán bộ, công chức, viên chức bị kiến nghị chuyển cơ quan điều tra tiếp tục xử lý do vi phạm phát hiện khi giải quyết tố cáo (<= Cột 24)
A25: - Nội dung ghi chú viết vào dòng 26 (nếu có)

Sheet 05.KQTH
A1: UBND THÀNH PHỐ ĐỒNG NAI
A2: THANH TRA THÀNH PHỐ
A3: 05/KQTH
A4: TỔNG HỢP KẾT QUẢ THI HÀNH QUYẾT ĐỊNH, THỰC HIỆN KẾT LUẬN THÁNG 09/2026
A5: ='01.TCD'!A5:V5 -> Số liệu tính từ ngày 06/8/2026 đến ngày 05/9/2026
A6: ='01.TCD'!A6:V6 -> (Kèm theo Báo cáo số ………/BC-TT ngày ………/9/2026 của Thanh tra thành phố Đồng Nai)
A8: Đơn vị | B8: Kết quả thi hành Quyết định giải quyết khiếu nại | Q8: Kết quả thực hiện Kết luận nội dung tố cáo
B9: Tổng số Quyết định phải thi hành trong kỳ | C9: Tổng số Quyết định đã thi hành xong | D9: Thu hồi cho Nhà nước | H9: Trả lại cho tổ chức, cá nhân | L9: Đã xử lý hành chính | N9: Đã khởi tố | Q9: Tổng số Kết luận phải thực hiện trong kỳ | R9: Tổng số Kết luận đã thực hiện xong | S9: Thu hồi cho Nhà nước | W9: Trả lại cho tổ chức, cá nhân | AA9: Đã xử lý hành chính | AD9: Đã khởi tố
D10: Phải thu | F10: Đã thu | H10: Phải trả | J10: Đã trả | L10: Tổng số người bị xử lý | M10: Trong đó số cán bộ, công chức, viên chức | N10: Số vụ | O10: Số người | P10: Trong đó số cán bộ, công chức, viên chức | S10: Phải thu | U10: Đã thu | W10: Phải trả | Y10: Đã trả | AA10: Tổng số tổ chức bị xử lý | AB10: Tổng số cá nhân bị xử lý | AC10: Trong đó số cán bộ, công chức, viên chức | AD10: Số vụ | AE10: Số đối tượng | AF10: Trong đó số cán bộ, công chức, viên chức
D11: Tiền (Trđ) | E11: Đất (m2) | F11: Tiền (Trđ) | G11: Đất (m2) | H11: Tiền (Trđ) | I11: Đất (m2) | J11: Tiền (Trđ) | K11: Đất (m2) | S11: Tiền (Trđ) | T11: Đất (m2) | U11: Tiền (Trđ) | V11: Đất (m2) | W11: Tiền (Trđ) | X11: Đất (m2) | Y11: Tiền (Trđ) | Z11: Đất (m2)
A12: MS | B12: 1 | C12: 2 | D12: 3 | E12: 4 | F12: 5 | G12: 6 | H12: 7 | I12: 8 | J12: 9 | K12: 10 | L12: 11 | M12: 12 | N12: 13 | O12: 14 | P12: 15 | Q12: 16 | R12: 17 | S12: 18 | T12: 19 | U12: 20 | V12: 21 | W12: 22 | X12: 23 | Y12: 24 | Z12: 25 | AA12: 26 | AB12: 27 | AC12: 28 | AD12: 29 | AE12: 30 | AF12: 31
A13: Thanh tra thành phố | B13: 0 | C13: 0 | D13: 0 | E13: 0 | F13: 0 | G13: 0 | H13: 0 | I13: 0 | J13: 0 | K13: 0 | L13: 0 | M13: 0 | N13: 0 | O13: 0 | P13: 0 | Q13: 0 | R13: 0 | S13: 0 | T13: 0 | U13: 0 | V13: 0 | W13: 0 | X13: 0 | Y13: 0 | Z13: 0 | AA13: 0 | AB13: 0 | AC13: 0 | AD13: 0 | AE13: 0 | AF13: 0
A15: 32. Ghi chú:
A16: Hướng dẫn cách ghi biểu
A17: Đây là biểu tổng hợp kết quả thi hành Quyết định giải quyết khiếu nại và thực hiện Kết luận nội dung tố cáo
A18: - Cột (1): Số Quyết định giải quyết khiếu nại phải thi hành trong kỳ, bao gồm số quyết định chưa thực hiện xong của kỳ báo cáo trước chuyển sang và số quyết định ban hành trong kỳ báo cáo phải thực hiện, cột (1) >= Cột (7) ở Biểu 03/GQKN
A19: - Cột (2): Số Quyết định giải quyết khiếu nại đã thi hành xong trong kỳ, <=Cột (1)
A20: - Cột (11): Thống kê số người đã bị xử lý hành chính do vi phạm phát hiên khi giải quyết khiếu nại
A21: - Cột (12): Thống kê số cán bộ, công chức, viên chức đã bị xử lý hành chính do vi phạm phát hiên khi giải quyết khiếu nại, <= Cột (11)
A22: - Cột (13): Thống kê số vụ việc đã khởi tố do vi phạm phát hiên khi giải quyết khiếu nại
A23: - Cột (14): Thống kê số người đã khởi tố do vi phạm phát hiên khi giải quyết khiếu nại
A24: - Cột (15): Thống kê số cán bộ, công chức, viên chức đã khởi tố do vi phạm phát hiên khi giải quyết khiếu nại, <= Cột (14)
A25: - Cột (16): Số Kết luận nội dung tố cáo phải thực hiện trong kỳ báo cáo, bao gồm số kết luận chưa thực hiện xong của kỳ báo cáo trước chuyển sang và số kết luận ban hành trong kỳ báo cáo phải thực hiện, cột (16) >= Cột (7) ở Biểu 04/GQTC
A26: - Cột (17): Số Kết luận nội dung tố cáo đã thực hiện xong trong kỳ báo cáo, <= Cột (16)
... A32: - Nội dung ghi chú viết vào dòng 32 (nếu có)

Sheet 06.QLKNTC
A1: UBND THÀNH PHỐ ĐỒNG NAI
A2: THANH TRA THÀNH PHỐ
R3: 06/QLKNTC
A4: TỔNG HỢP CÔNG TÁC QUẢN LÝ NHÀ NƯỚC VỀ TIẾP CÔNG DÂN, GIẢI QUYẾT KHIẾU NẠI, TỐ CÁO THÁNG 09/2026
A5: ='01.TCD'!A5:V5 -> Số liệu tính từ ngày 06/8/2026 đến ngày 05/9/2026
A6: ='01.TCD'!A6:V6 -> (Kèm theo Báo cáo số ………/BC-TT ngày ………/9/2026 của Thanh tra thành phố Đồng Nai)
A7: Đơn vị | B7: Ban hành văn bản quản lý, chỉ đạo (Bộ, ngành, tỉnh, TP) về công tác TCD, KN, TC | E7: Tập huấn, tuyên truyền, giáo dục pháp luật về TCD, KN, TC | G7: Thanh tra trách nhiệm | N7: Kết quả thực hiện kết luận, quyết định xử lý về thanh tra trách nhiệm
B8: Số văn bản ban hành mới | C8: Số văn bản được sửa đổi, bổ sung | D8: Số văn bản hủy bỏ | E8: Số lớp | F8: Số người | G8: Thực hiện pháp luật về TCD, KN, TC | I8: Số cuộc đã ban hành kết luận | J8: Kiến nghị xử lý | N8: Tổng số KLTT thực hiện | O8: Đã xử lý hành chính | Q8: Đã khởi tố
G9: Số cuộc | H9: Số đơn vị | J9: Hành chính | L9: Chuyển cơ quan điều tra | O9: Tổ chức | P9: Cá nhân | Q9: Vụ | R9: Đối tượng
J10: Tổ chức | K10: Cá nhân | L10: Tổ chức | M10: Cá nhân
A11: MS | B11: 1 | C11: 2 | D11: 3 | E11: 4 | F11: 5 | G11: 6 | H11: 7 | I11: 8 | J11: 9 | K11: 10 | L11: 11 | M11: 12 | N11: 13 | O11: 14 | P11: 15 | Q11: 16 | R11: 17
A12: Thanh tra thành phố | B12: 0 | C12: 0 | D12: 0 | E12: 0 | F12: 0 | G12: 1 | H12: 7 | I12: 1 | J12: 0 | K12: 0 | L12: 0 | M12: 0 | N12: 0 | O12: 0 | P12: 0 | Q12: 0 | R12: 0
A14: 18. Ghi chú:
A15: Chánh Thanh tra ban hành Kết luận thanh tra số 31/KL-TT ngày 17/8/2026 (Đoàn thanh tra theo Quyết định số 227/QĐ-UBND ngày 21/4/2026) đối với 07 đơn vị được thanh tra
