Workbook

Sheet 01.TCD
A1: UBND THÀNH PHỐ ĐỒNG NAI
A2: THANH TRA THÀNH PHỐ | U2: 01/TCD
B3: TỔNG HỢP KẾT QUẢ TIẾP CÔNG DÂN THƯỜNG XUYÊN, ĐỊNH KỲ VÀ ĐỘT XUẤT TRONG 09 THÁNG ĐẦU NĂM 2026 CỦA THÀNH PHỐ ĐỒNG NAI
B4: Số liệu tính từ ngày 06/12/2025 đến ngày 05/9/2026
B5: (Kèm theo Báo cáo số: /BC-TT ngày /9/2026 của Thanh tra thành phố Đồng Nai)
A6: Đơn vị | B6: Tổng số lượt tiếp | C6: Tổng số người được tiếp | D6: Tổng số vụ việc tiếp | E6: Tổng số đoàn đông người | F6: Tiếp thường xuyên | K6: Tiếp định kỳ và đột xuất của Thủ trưởng
F7: Số lượt tiếp | G7: Số người được tiếp | H7: Số vụ việc | I7: Trong đó đoàn đông người | K7: Thủ trưởng tiếp | Q7: Ủy quyền tiếp
I8: Số đoàn được tiếp | J8: Số người được tiếp | K8: Số ngày tiếp | L8: Số lượt tiếp | M8: Số người được tiếp | N8: Số vụ việc | O8: Trong đó đoàn đông người | Q8: Số ngày tiếp | R8: Số lượt tiếp | S8: Số người được tiếp | T8: Số vụ việc | U8: Trong đó đoàn đông người
O9: Số đoàn được tiếp | P9: Số người được tiếp | U9: Số đoàn được tiếp | V9: Số người được tiếp
A10: MS | B10: 1=5+11+17 | C10: 2=6+12+18 | D10: 3=7+13+19 | E10: 4=8+14+20 | F10: 5 | G10: 6 | H10: 7 | I10: 8 | J10: 9 | K10: 10 | L10: 11 | M10: 12 | N10: 13 | O10: 14 | P10: 15 | Q10: 16 | R10: 17 | S10: 18 | T10: 19 | U10: 20 | V10: 21
A11: UBND THÀNH PHỐ | B11: =F11+L11+R11 -> 1158 | C11: =G11+M11+S11 -> 1914 | D11: =H11+N11+T11 -> 1156 | E11: =I11+O11+U11 -> 33 | F11: 1146 | G11: 1901 | H11: 1146 | I11: 33 | J11: 667 | K11: 1 | L11: 1 | M11: 1 | N11: 1 | O11: 0 | P11: 0 | Q11: 4 | R11: 11 | S11: 12 | T11: 9 | U11: 0 | V11: 0
A12: CẤP SỞ, NGÀNH | B12: =F12+L12+R12 -> 1335 | C12: =G12+M12+S12 -> 1478 | D12: =H12+N12+T12 -> 1335 | E12: =I12+O12+U12 -> 3 | F12: =SUM(F13:F25) -> 1308 | G12: =SUM(G13:G25) -> 1449 | H12: =SUM(H13:H25) -> 1306 | I12: =SUM(I13:I25) -> 3 | J12: =SUM(J13:J25) -> 24 | K12: =SUM(K13:K25) -> 24 | L12: =SUM(L13:L25) -> 12 | M12: =SUM(M13:M25) -> 12 | ... V12: =SUM(V13:V25) -> 0
A13: Sở Dân tộc và tôn giáo | B13: =F13+L13+R13 -> 0 | C13: =G13+M13+S13 -> 0 | D13: =H13+N13+T13 -> 0 | E13: =I13+O13+U13 -> 0
A14: Sở Công Thương | B14: =F14+L14+R14 -> 2 | C14: =G14+M14+S14 -> 2 | D14: =H14+N14+T14 -> 2 | E14: =I14+O14+U14 -> 0 | F14: 0 | G14: 0 | H14: 0 | I14: 0 | J14: 0 | K14: 2 | L14: 2 | M14: 2 | N14: 2 | O14: 0 | P14: 0 | Q14: 0 | R14: 0 | S14: 0 | T14: 0 | U14: 0 | V14: 0
A15: Sở GD&ĐT | B15: =F15+L15+R15 -> 11 | C15: =G15+M15+S15 -> 20 | D15: =H15+N15+T15 -> 11 | E15: =I15+O15+U15 -> 2 | F15: 11 | G15: 20 | H15: 11 | I15: 2 | J15: 11 | K15: 9 | L15: 0 | M15: 0 | N15: 0 | O15: 0 | P15: 0 | Q15: 0 | R15: 0 | S15: 0 | T15: 0 | U15: 0 | V15: 0
A16: Sở KH&CN | B16: =F16+L16+R16 -> 0 | C16: =G16+M16+S16 -> 0 | D16: =H16+N16+T16 -> 0 | E16: =I16+O16+U16 -> 0
A17: Sở NN&MT | B17: =F17+L17+R17 -> 364 | C17: =G17+M17+S17 -> 367 | D17: =H17+N17+T17 -> 364 | E17: =I17+O17+U17 -> 0 | F17: 358 | G17: 361 | H17: 358 | I17: 0 | J17: 0 | K17: 4 | L17: 1 | M17: 1 | N17: 1 | O17: 0 | P17: 0 | Q17: 5 | R17: 5 | S17: 5 | T17: 5 | U17: 0 | V17: 0
A18: Sở Nội vụ | B18: =F18+L18+R18 -> 530 | C18: =G18+M18+S18 -> 530 | D18: =H18+N18+T18 -> 529 | E18: =I18+O18+U18 -> 0 | F18: 527 | G18: 527 | H18: 526 | I18: 0 | J18: 0 | K18: 0 | L18: 0 | M18: 0 | N18: 0 | O18: 0 | P18: 0 | Q18: 2 | R18: 3 | S18: 3 | T18: 3 | U18: 0 | V18: 0
A19: Sở Ngoại vụ | B19: =F19+L19+R19 -> 0 | C19: =G19+M19+S19 -> 0 | D19: =H19+N19+T19 -> 0 | E19: =I19+O19+U19 -> 0
A20: Sở Tài chính | B20: =F20+L20+R20 -> 7 | C20: =G20+M20+S20 -> 20 | D20: =H20+N20+T20 -> 7 | E20: =I20+O20+U20 -> 1 | F20: 6 | G20: 19 | H20: 6 | I20: 1 | J20: 13 | K20: 0 | L20: 0 | M20: 0 | N20: 0 | O20: 0 | P20: 0 | Q20: 1 | R20: 1 | S20: 1 | T20: 1 | U20: 0 | V20: 0
A21: Sở Tư pháp | B21: =F21+L21+R21 -> 39 | C21: =G21+M21+S21 -> 40 | D21: =H21+N21+T21 -> 38 | E21: =I21+O21+U21 -> 0 | F21: 33 | G21: 34 | H21: 32 | I21: 0 | J21: 0 | K21: 2 | L21: 2 | M21: 2 | N21: 2 | O21: 0 | P21: 0 | Q21: 4 | R21: 4 | S21: 4 | T21: 4 | U21: 0 | V21: 0
A22: Sở VHTT&DL | B22: =F22+L22+R22 -> 0 | C22: =G22+M22+S22 -> 0 | D22: =H22+N22+T22 -> 0 | E22: =I22+O22+U22 -> 0
A23: Sở Xây dựng | B23: =F23+L23+R23 -> 132 | C23: =G23+M23+S23 -> 239 | D23: =H23+N23+T23 -> 134 | E23: =I23+O23+U23 -> 0 | F23: 130 | G23: 235 | H23: 130 | I23: 0 | J23: 0 | K23: 0 | L23: 0 | M23: 0 | N23: 0 | O23: 0 | P23: 0 | Q23: 2 | R23: 2 | S23: 4 | T23: 4 | U23: 0 | V23: 0
A24: Sở Y tế | B24: =F24+L24+R24 -> 5 | C24: =G24+M24+S24 -> 5 | D24: =H24+N24+T24 -> 5 | E24: =I24+O24+U24 -> 0 | F24: 4 | G24: 4 | H24: 4 | I24: 0 | J24: 0 | K24: 1 | L24: 1 | M24: 1 | N24: 1 | O24: 0 | P24: 0 | Q24: 0 | R24: 0 | S24: 0 | T24: 0 | U24: 0 | V24: 0
A25: Thanh tra tỉnh | B25: =F25+L25+R25 -> 245 | C25: =G25+M25+S25 -> 255 | D25: =H25+N25+T25 -> 245 | E25: =I25+O25+U25 -> 0 | F25: 239 | G25: 249 | H25: 239 | I25: 0 | J25: 0 | K25: 6 | L25: 6 | M25: 6 | N25: 6 | O25: 0 | P25: 0 | Q25: 0 | R25: 0 | S25: 0 | T25: 0 | U25: 0 | V25: 0
A26: UBND CẤP XÃ | B26: =F26+L26+R26 -> 12987 | C26: =G26+M26+S26 -> 11515 | D26: =H26+N26+T26 -> 9931 | E26: =I26+O26+U26 -> 59 | F26: =SUM(F27:F121) -> 10896 | G26: =SUM(G27:G121) -> 9575 | H26: =SUM(H27:H121) -> 8405 | I26: =SUM(I27:I121) -> 11 | J26: =SUM(J27:J121) -> 367 | K26: =SUM(K27:K121) -> 3135 | L26: =SUM(L27:L121) -> 1906 | M26: =SUM(M27:M121) -> 1724 | ... V26: =SUM(V27:V121) -> 20
A27: Phường Trấn Biên | B27: =F27+L27+R27 -> 279 | C27: =G27+M27+S27 -> 293 | D27: =H27+N27+T27 -> 264 | E27: =I27+O27+U27 -> 0 | F27: 233 | G27: 234 | H27: 218 | I27: 0 | J27: 0 | K27: 34 | L27: 20 | M27: 31 | N27: 20 | O27: 0 | P27: 0 | Q27: 17 | R27: 26 | S27: 28 | T27: 26 | U27: 0 | V27: 0
A28: Phường Biên Hòa | B28: =F28+L28+R28 -> 119 | C28: =G28+M28+S28 -> 93 | D28: =H28+N28+T28 -> 93 | E28: =I28+O28+U28 -> 0 | F28: 83 | G28: 83 | H28: 83 | I28: 0 | J28: 0 | K28: 36 | L28: 36 | M28: 10 | N28: 10 | O28: 0 | P28: 0 | Q28: 0 | R28: 0 | S28: 0 | T28: 0 | U28: 0 | V28: 0
A29: Phường Tam Hiệp | B29: =F29+L29+R29 -> 194 | C29: =G29+M29+S29 -> 57 | D29: =H29+N29+T29 -> 50 | E29: =I29+O29+U29 -> 0 | F29: 156 | G29: 57 | H29: 50 | I29: 0 | J29: 0 | K29: 38 | L29: 38 | M29: 0 | N29: 0 | O29: 0 | P29: 0 | Q29: 0 | R29: 0 | S29: 0 | T29: 0 | U29: 0 | V29: 0
A30: Phường Long Bình | B30: =F30+L30+R30 -> 80 | C30: =G30+M30+S30 -> 82 | D30: =H30+N30+T30 -> 80 | E30: =I30+O30+U30 -> 0 | F30: 73 | G30: 73 | H30: 73 | I30: 0 | J30: 0 | K30: 28 | L30: 7 | M30: 9 | N30: 7 | O30: 0 | P30: 0 | Q30: 0 | R30: 0 | S30: 0 | T30: 0 | U30: 0 | V30: 0
A31: Phường Trảng Dài | B31: =F31+L31+R31 -> 158 | C31: =G31+M31+S31 -> 338 | D31: =H31+N31+T31 -> 158 | E31: =I31+O31+U31 -> 1 | F31: 151 | G31: 330 | H31: 151 | I31: 1 | J31: 180 | K31: 28 | L31: 7 | M31: 8 | N31: 7 | O31: 0 | P31: 0 | Q31: 0 | R31: 0 | S31: 0 | T31: 0 | U31: 0 | V31: 0
A32: Phường Hố Nai | B32: =F32+L32+R32 -> 53 | C32: =G32+M32+S32 -> 50 | D32: =H32+N32+T32 -> 52 | E32: =I32+O32+U32 -> 0 | F32: 51 | G32: 48 | H32: 50 | I32: 0 | J32: 0 | K32: 36 | L32: 2 | M32: 2 | N32: 2 | O32: 0 | P32: 0 | Q32: 0 | R32: 0 | S32: 0 | T32: 0 | U32: 0 | V32: 0
A33: Phường Long Hưng | B33: =F33+L33+R33 -> 93 | C33: =G33+M33+S33 -> 117 | D33: =H33+N33+T33 -> 81 | E33: =I33+O33+U33 -> 0 | F33: 84 | G33: 100 | H33: 72 | I33: 0 | J33: 0 | K33: 31 | L33: 9 | M33: 17 | N33: 9 | O33: 0 | P33: 0 | Q33: 0 | R33: 0 | S33: 0 | T33: 0 | U33: 0 | V33: 0
A34: Phường Phước Tân | B34: =F34+L34+R34 -> 64 | C34: =G34+M34+S34 -> 64 | D34: =H34+N34+T34 -> 64 | E34: =I34+O34+U34 -> 0 | F34: 59 | G34: 59 | H34: 59 | I34: 0 | J34: 0 | K34: 5 | L34: 5 | M34: 5 | N34: 5 | O34: 0 | P34: 0 | Q34: 0 | R34: 0 | S34: 0 | T34: 0 | U34: 0 | V34: 0
A35: Phường Tam Phước | B35: =F35+L35+R35 -> 50 | C35: =G35+M35+S35 -> 50 | D35: =H35+N35+T35 -> 31 | E35: =I35+O35+U35 -> 0 | F35: 25 | G35: 25 | H35: 6 | I35: 0 | J35: 0 | K35: 25 | L35: 25 | M35: 25 | N35: 25 | O35: 0 | P35: 0 | Q35: 0 | R35: 0 | S35: 0 | T35: 0 | U35: 0 | V35: 0
A36: Phường Long Khánh | B36: =F36+L36+R36 -> 348 | C36: =G36+M36+S36 -> 348 | D36: =H36+N36+T36 -> 336 | E36: =I36+O36+U36 -> 1 | F36: 330 | G36: 330 | H36: 318 | I36: 1 | J36: 5 | K36: 18 | L36: 18 | M36: 18 | N36: 18 | O36: 0 | P36: 0 | Q36: 0 | R36: 0 | S36: 0 | T36: 0 | U36: 0 | V36: 0
A37: Phường Bình Lộc | B37: =F37+L37+R37 -> 106 | C37: =G37+M37+S37 -> 112 | D37: =H37+N37+T37 -> 106 | E37: =I37+O37+U37 -> 0 | F37: 100 | G37: 100 | H37: 100 | I37: 0 | J37: 0 | K37: 38 | L37: 6 | M37: 12 | N37: 6 | O37: 0 | P37: 0 | Q37: 0 | R37: 0 | S37: 0 | T37: 0 | U37: 0 | V37: 0
A38: Phường Bảo Vinh | B38: =F38+L38+R38 -> 66 | C38: =G38+M38+S38 -> 67 | D38: =H38+N38+T38 -> 66 | E38: =I38+O38+U38 -> 0 | F38: 56 | G38: 56 | H38: 56 | I38: 0 | J38: 0 | K38: 34 | L38: 10 | M38: 11 | N38: 10 | O38: 0 | P38: 0 | Q38: 0 | R38: 0 | S38: 0 | T38: 0 | U38: 0 | V38: 0
... A48: Xã Gia Kiệm | B48: =F48+L48+R48 -> 186 | C48: =G48+M48+S48 -> 186 | D48: =H48+N48+T48 -> 32 | E48: =I48+O48+U48 -> 0 | F48: 161 | G48: 161 | H48: 32 | I48: 0 | J48: 0 | K48: 25 | L48: 25 | M48: 25 | N48: 0 | O48: 0 | P48: 0 | Q48: 0 | R48: 0 | S48: 0 | T48: 0 | U48: 0 | V48: 0
A49: Xã Cẩm Mỹ | B49: =F49+L49+R49 -> 32 | C49: =G49+M49+S49 -> 32 | D49: =H49+N49+T49 -> 32 | E49: =I49+O49+U49 -> 0 | F49: 29 | G49: 29 | H49: 29 | I49: 0 | J49: 0 | K49: 3 | L49: 3 | M49: 3 | N49: 3 | O49: 0 | P49: 0 | Q49: 0 | R49: 0 | S49: 0 | T49: 0 | U49: 0 | V49: 0 | W49: 0
A50: Xã Xuân Quế | B50: =F50+L50+R50 -> 50 | C50: =G50+M50+S50 -> 52 | D50: =H50+N50+T50 -> 50 | E50: =I50+O50+U50 -> 0 | F50: 39 | G50: 41 | H50: 39 | I50: 0 | J50: 0 | K50: 31 | L50: 11 | M50: 11 | N50: 11 | O50: 0 | P50: 0 | Q50: 0 | R50: 0 | S50: 0 | T50: 0 | U50: 0 | V50: 0
A51: Xã Xuân Đường | B51: =F51+L51+R51 -> 79 | C51: =G51+M51+S51 -> 88 | D51: =H51+N51+T51 -> 80 | E51: =I51+O51+U51 -> 0 | F51: 70 | G51: 77 | H51: 70 | I51: 0 | J51: 0 | K51: 33 | L51: 8 | M51: 8 | N51: 9 | O51: 0 | P51: 0 | Q51: 1 | R51: 1 | S51: 3 | T51: 1 | U51: 0 | V51: 0
A52: Xã Xuân Đông | B52: =F52+L52+R52 -> 59 | C52: =G52+M52+S52 -> 74 | D52: =H52+N52+T52 -> 59 | E52: =I52+O52+U52 -> 1 | F52: 54 | G52: 54 | H52: 54 | I52: 0 | J52: 0 | K52: 48 | L52: 2 | M52: 2 | N52: 2 | O52: 0 | P52: 0 | Q52: 3 | R52: 3 | S52: 18 | T52: 3 | U52: 1 | V52: 15
A53: Xã Sông Ray | B53: =F53+L53+R53 -> 88 | C53: =G53+M53+S53 -> 94 | D53: =H53+N53+T53 -> 88 | E53: =I53+O53+U53 -> 0 | F53: 72 | G53: 72 | H53: 72 | I53: 0 | J53: 0 | K53: 18 | L53: 14 | M53: 20 | N53: 14 | O53: 0 | P53: 0 | Q53: 2 | R53: 2 | S53: 2 | T53: 2 | U53: 0 | V53: 0
A54: Phường Xuân Lộc | B54: =F54+L54+R54 -> 98 | C54: =G54+M54+S54 -> 105 | D54: =H54+N54+T54 -> 105 | E54: =I54+O54+U54 -> 0 | F54: 79 | G54: 85 | H54: 85 | I54: 0 | J54: 0 | K54: 20 | L54: 19 | M54: 20 | N54: 20 | O54: 0 | P54: 0 | Q54: 0 | R54: 0 | S54: 0 | T54: 0 | U54: 0 | V54: 0
A55: Xã Xuân Định | B55: =F55+L55+R55 -> 184 | C55: =G55+M55+S55 -> 175 | D55: =H55+N55+T55 -> 166 | E55: =I55+O55+U55 -> 40 | F55: 100 | G55: 97 | H55: 86 | I55: 0 | J55: 0 | K55: 44 | L55: 44 | M55: 40 | N55: 40 | O55: 40 | P55: 0 | Q55: 40 | R55: 40 | S55: 38 | T55: 40 | U55: 0 | V55: 0
A56: Xã Xuân Phú | B56: =F56+L56+R56 -> 0 | C56: =G56+M56+S56 -> 0 | D56: =H56+N56+T56 -> 0 | E56: =I56+O56+U56 -> 0
A57: Xã Xuân Hòa | B57: =F57+L57+R57 -> 143 | C57: =G57+M57+S57 -> 87 | D57: =H57+N57+T57 -> 87 | E57: =I57+O57+U57 -> 0 | F57: 109 | G57: 77 | H57: 77 | I57: 0 | J57: 0 | K57: 34 | L57: 34 | M57: 10 | N57: 10 | O57: 0 | P57: 0 | Q57: 6 | R57: 0 | S57: 0 | T57: 0 | U57: 0 | V57: 0
A58: Xã Xuân Thành | B58: =F58+L58+R58 -> 180 | C58: =G58+M58+S58 -> 3 | D58: =H58+N58+T58 -> 3 | E58: =I58+O58+U58 -> 0 | F58: 144 | G58: 2 | H58: 2 | I58: 0 | J58: 0 | K58: 36 | L58: 36 | M58: 1 | N58: 1 | O58: 0 | P58: 0 | Q58: 0 | R58: 0 | S58: 0 | T58: 0 | U58: 0 | V58: 0
A59: Xã Xuân Bắc | B59: =F59+L59+R59 -> 119 | C59: =G59+M59+S59 -> 119 | D59: =H59+N59+T59 -> 119 | E59: =I59+O59+U59 -> 0 | F59: 85 | G59: 85 | H59: 85 | I59: 0 | J59: 0 | K59: 34 | L59: 34 | M59: 34 | N59: 34 | O59: 0 | P59: 0 | Q59: 0 | R59: 0 | S59: 0 | T59: 0 | U59: 0 | V59: 0
A60: Phường Nhơn Trạch | B60: =F60+L60+R60 -> 250 | C60: =G60+M60+S60 -> 250 | D60: =H60+N60+T60 -> 250 | E60: =I60+O60+U60 -> 0 | F60: 219 | G60: 219 | H60: 219 | I60: 0 | J60: 0 | K60: 31 | L60: 31 | M60: 31 | N60: 31 | O60: 0 | P60: 0 | Q60: 0 | R60: 0 | S60: 0 | T60: 0 | U60: 0 | V60: 0
A61: Xã Đại Phước | B61: =F61+L61+R61 -> 374 | C61: =G61+M61+S61 -> 376 | D61: =H61+N61+T61 -> 374 | E61: =I61+O61+U61 -> 0 | F61: 339 | G61: 339 | H61: 339 | I61: 0 | J61: 0 | K61: 33 | L61: 33 | M61: 35 | N61: 33 | O61: 0 | P61: 0 | Q61: 2 | R61: 2 | S61: 2 | T61: 2 | U61: 0 | V61: 0
A62: Xã Phước An | B62: =F62+L62+R62 -> 274 | C62: =G62+M62+S62 -> 286 | D62: =H62+N62+T62 -> 274 | E62: =I62+O62+U62 -> 2 | F62: 244 | G62: 244 | H62: 244 | I62: 0 | J62: 0 | K62: 28 | L62: 28 | M62: 40 | N62: 28 | O62: 2 | P62: 14 | Q62: 2 | R62: 2 | S62: 2 | T62: 2 | U62: 0 | V62: 0
A63: Phường Long Thành | B63: =F63+L63+R63 -> 437 | C63: =G63+M63+S63 -> 439 | D63: =H63+N63+T63 -> 439 | E63: =I63+O63+U63 -> 0 | F63: 394 | G63: 394 | H63: 394 | I63: 0 | J63: 0 | K63: 43 | L63: 43 | M63: 45 | N63: 45 | O63: 0 | P63: 0 | Q63: 0 | R63: 0 | S63: 0 | T63: 0 | U63: 0 | V63: 0
A64: Xã Phước Thái | B64: =F64+L64+R64 -> 306 | C64: =G64+M64+S64 -> 310 | D64: =H64+N64+T64 -> 337 | E64: =I64+O64+U64 -> 0 | F64: 288 | G64: 288 | H64: 327 | I64: 0 | J64: 0 | K64: 18 | L64: 18 | M64: 22 | N64: 10 | O64: 0 | P64: 0 | Q64: 0 | R64: 0 | S64: 0 | T64: 0 | U64: 0 | V64: 0
A65: Xã Long Phước | B65: =F65+L65+R65 -> 276 | C65: =G65+M65+S65 -> 276 | D65: =H65+N65+T65 -> 276 | E65: =I65+O65+U65 -> 0 | F65: 243 | G65: 243 | H65: 243 | I65: 0 | J65: 0 | K65: 39 | L65: 33 | M65: 33 | N65: 33 | O65: 0 | P65: 0 | Q65: 0 | R65: 0 | S65: 0 | T65: 0 | U65: 0 | V65: 0
A66: Xã Bình An | B66: =F66+L66+R66 -> 262 | C66: =G66+M66+S66 -> 262 | D66: =H66+N66+T66 -> 250 | E66: =I66+O66+U66 -> 0 | F66: 224 | G66: 224 | H66: 224 | I66: 0 | J66: 0 | K66: 38 | L66: 38 | M66: 38 | N66: 26 | O66: 0 | P66: 0 | Q66: 0 | R66: 0 | S66: 0 | T66: 0 | U66: 0 | V66: 0
A67: Xã An Phước | B67: =F67+L67+R67 -> 385 | C67: =G67+M67+S67 -> 385 | D67: =H67+N67+T67 -> 385 | E67: =I67+O67+U67 -> 0 | F67: 356 | G67: 356 | H67: 356 | I67: 0 | J67: 0 | K67: 19 | L67: 19 | M67: 19 | N67: 19 | O67: 0 | P67: 0 | Q67: 10 | R67: 10 | S67: 10 | T67: 10 | U67: 0 | V67: 0
A68: Xã Định Quán | B68: =F68+L68+R68 -> 254 | C68: =G68+M68+S68 -> 254 | D68: =H68+N68+T68 -> 254 | E68: =I68+O68+U68 -> 0 | F68: 190 | G68: 190 | H68: 190 | I68: 0 | J68: 0 | K68: 29 | L68: 56 | M68: 56 | N68: 56 | O68: 0 | P68: 0 | Q68: 4 | R68: 8 | S68: 8 | T68: 8 | U68: 0 | V68: 0
A69: Xã La Ngà | B69: =F69+L69+R69 -> 45 | C69: =G69+M69+S69 -> 45 | D69: =H69+N69+T69 -> 45 | E69: =I69+O69+U69 -> 0 | F69: 33 | G69: 33 | H69: 33 | I69: 0 | J69: 0 | K69: 28 | L69: 12 | M69: 12 | N69: 12 | O69: 0 | P69: 0 | Q69: 0 | R69: 0 | S69: 0 | T69: 0 | U69: 0 | V69: 0
A70: Xã Thanh Sơn | B70: =F70+L70+R70 -> 150 | C70: =G70+M70+S70 -> 150 | D70: =H70+N70+T70 -> 150 | E70: =I70+O70+U70 -> 0 | F70: 126 | G70: 126 | H70: 126 | K70: 26 | L70: 24 | M70: 24 | N70: 24 | O70: 0 | P70: 0 | Q70: 0 | R70: 0 | S70: 0 | T70: 0 | U70: 0 | V70: 0
A71: Xã Phú Vinh | B71: =F71+L71+R71 -> 198 | C71: =G71+M71+S71 -> 125 | D71: =H71+N71+T71 -> 17 | E71: =I71+O71+U71 -> 0 | F71: 103 | G71: 92 | H71: 12 | I71: 0 | J71: 0 | K71: 95 | L71: 95 | M71: 33 | N71: 5 | O71: 0 | P71: 0 | Q71: 0 | R71: 0 | S71: 0 | T71: 0 | U71: 0 | V71: 0
A72: Xã Phú Hòa | B72: =F72+L72+R72 -> 85 | C72: =G72+M72+S72 -> 85 | D72: =H72+N72+T72 -> 85 | E72: =I72+O72+U72 -> 0 | F72: 44 | G72: 44 | H72: 44 | I72: 0 | J72: 0 | K72: 77 | L72: 40 | M72: 40 | N72: 40 | O72: 0 | P72: 0 | Q72: 1 | R72: 1 | S72: 1 | T72: 1 | U72: 0 | V72: 0
A73: Phường Tân Phú | B73: =F73+L73+R73 -> 50 | C73: =G73+M73+S73 -> 50 | D73: =H73+N73+T73 -> 50 | E73: =I73+O73+U73 -> 0 | F73: 24 | G73: 24 | H73: 24 | I73: 0 | J73: 0 | K73: 18 | L73: 26 | M73: 26 | N73: 26 | O73: 0 | P73: 0 | Q73: 0 | R73: 0 | S73: 0 | T73: 0 | U73: 0 | V73: 0
A74: Xã Tà Lài | B74: =F74+L74+R74 -> 61 | C74: =G74+M74+S74 -> 64 | D74: =H74+N74+T74 -> 61 | E74: =I74+O74+U74 -> 0 | F74: 43 | G74: 45 | H74: 43 | I74: 0 | J74: 0 | K74: 16 | L74: 16 | M74: 17 | N74: 16 | O74: 0 | P74: 0 | Q74: 2 | R74: 2 | S74: 2 | T74: 2 | U74: 0 | V74: 0
A75: Xã Nam Cát Tiên | B75: =F75+L75+R75 -> 45 | C75: =G75+M75+S75 -> 59 | D75: =H75+N75+T75 -> 45 | E75: =I75+O75+U75 -> 0 | F75: 37 | G75: 49 | H75: 37 | I75: 0 | J75: 0 | K75: 8 | L75: 8 | M75: 10 | N75: 8 | O75: 0 | P75: 0 | Q75: 0 | R75: 0 | S75: 0 | T75: 0 | U75: 0 | V75: 0
A76: Xã Phú Lâm | B76: =F76+L76+R76 -> 181 | C76: =G76+M76+S76 -> 181 | D76: =H76+N76+T76 -> 181 | E76: =I76+O76+U76 -> 0 | F76: 145 | G76: 145 | H76: 145 | I76: 0 | J76: 0 | K76: 36 | L76: 36 | M76: 36 | N76: 36 | O76: 0 | P76: 0 | Q76: 0 | R76: 0 | S76: 0 | T76: 0 | U76: 0 | V76: 0
A77: Xã Đak Lua | B77: =F77+L77+R77 -> 45 | C77: =G77+M77+S77 -> 45 | D77: =H77+N77+T77 -> 45 | E77: =I77+O77+U77 -> 0 | F77: 19 | G77: 19 | H77: 19 | I77: 0 | J77: 0 | K77: 26 | L77: 26 | M77: 26 | N77: 26 | O77: 0 | P77: 0 | Q77: 0 | R77: 0 | S77: 0 | T77: 0 | U77: 0 | V77: 0
A78: Phường Trị An | B78: =F78+L78+R78 -> 262 | C78: =G78+M78+S78 -> 268 | D78: =H78+N78+T78 -> 262 | E78: =I78+O78+U78 -> 1 | F78: 244 | G78: 244 | H78: 244 | I78: 0 | J78: 0 | K78: 31 | L78: 18 | M78: 24 | N78: 18 | O78: 1 | P78: 5 | Q78: 0 | R78: 0 | S78: 0 | T78: 0 | U78: 0 | V78: 0
A79: Phường Tân Triều | B79: =F79+L79+R79 -> 253 | C79: =G79+M79+S79 -> 253 | D79: =H79+N79+T79 -> 244 | E79: =I79+O79+U79 -> 0 | F79: 204 | G79: 204 | H79: 204 | I79: 0 | J79: 0 | K79: 47 | L79: 49 | M79: 49 | N79: 40 | O79: 0 | P79: 0 | Q79: 0 | R79: 0 | S79: 0 | T79: 0 | U79: 0 | V79: 0
A80: Xã Tân An | B80: =F80+L80+R80 -> 109 | C80: =G80+M80+S80 -> 109 | D80: =H80+N80+T80 -> 109 | E80: =I80+O80+U80 -> 0 | F80: 97 | G80: 97 | H80: 97 | I80: 0 | J80: 0 | K80: 30 | L80: 12 | M80: 12 | N80: 12 | O80: 0 | P80: 0 | Q80: 0 | R80: 0 | S80: 0 | T80: 0 | U80: 0 | V80: 0
A81: Xã Phú Lý | B81: =F81+L81+R81 -> 19 | C81: =G81+M81+S81 -> 19 | D81: =H81+N81+T81 -> 19 | E81: =I81+O81+U81 -> 0 | F81: 16 | G81: 16 | H81: 16 | I81: 0 | J81: 0 | K81: 3 | L81: 3 | M81: 3 | N81: 3 | O81: 0 | P81: 0 | Q81: 0 | R81: 0 | S81: 0 | T81: 0 | U81: 0 | V81: 0
A82: Phường Bình Phước | B82: =F82+L82+R82 -> 512 | C82: =G82+M82+S82 -> 773 | D82: =H82+N82+T82 -> 512 | E82: =I82+O82+U82 -> 6 | F82: 487 | G82: 648 | H82: 487 | I82: 5 | J82: 162 | K82: 32 | L82: 25 | M82: 125 | N82: 25 | O82: 1 | P82: 96 | Q82: 0 | R82: 0 | S82: 0 | T82: 0 | U82: 0 | V82: 0
... A103: Xã Tân Hưng | B103: =F103+L103+R103 -> 52 | C103: =G103+M103+S103 -> 52 | D103: =H103+N103+T103 -> 52 | E103: =I103+O103+U103 -> 0 | F103: 41 | G103: 41 | H103: 41 | I103: 0 | J103: 0 | K103: 36 | L103: 11 | M103: 11 | N103: 11 | O103: 0 | P103: 0 | Q103: 0 | R103: 0 | S103: 0 | T103: 0 | U103: 0 | V103: 0
A104: Xã Lộc Quang | B104: =F104+L104+R104 -> 0 | C104: =G104+M104+S104 -> 0 | D104: =H104+N104+T104 -> 0 | E104: =I104+O104+U104 -> 0
A105: Xã Lộc Thành | B105: =F105+L105+R105 -> 58 | C105: =G105+M105+S105 -> 58 | D105: =H105+N105+T105 -> 55 | E105: =I105+O105+U105 -> 0 | F105: 51 | G105: 51 | H105: 48 | I105: 0 | J105: 0 | K105: 47 | L105: 6 | M105: 6 | N105: 6 | O105: 0 | P105: 0 | Q105: 2 | R105: 1 | S105: 1 | T105: 1 | U105: 0 | V105: 0
A106: Phường Lộc Ninh | B106: =F106+L106+R106 -> 82 | C106: =G106+M106+S106 -> 77 | D106: =H106+N106+T106 -> 23 | E106: =I106+O106+U106 -> 0 | F106: 75 | G106: 75 | H106: 22 | I106: 0 | J106: 0 | K106: 59 | L106: 7 | M106: 2 | N106: 1 | O106: 0 | P106: 0 | Q106: 0 | R106: 0 | S106: 0 | T106: 0 | U106: 0 | V106: 0
A107: Xã Lộc Tấn | B107: =F107+L107+R107 -> 44 | C107: =G107+M107+S107 -> 26 | D107: =H107+N107+T107 -> 5 | E107: =I107+O107+U107 -> 0 | F107: 39 | G107: 21 | H107: 5 | I107: 0 | J107: 0 | K107: 35 | L107: 5 | M107: 5 | N107: 0 | O107: 0 | P107: 0 | Q107: 0 | R107: 0 | S107: 0 | T107: 0 | U107: 0 | V107: 0
A108: Xã Hưng Phước | B108: =F108+L108+R108 -> 198 | C108: =G108+M108+S108 -> 25 | D108: =H108+N108+T108 -> 16 | E108: =I108+O107+U108 -> 0 | F108: 189 | G108: 16 | H108: 16 | I108: 0 | J108: 0 | K108: 36 | L108: 9 | M108: 9 | N108: 0 | O108: 0 | P108: 0 | Q108: 0 | R108: 0 | S108: 0 | T108: 0 | U108: 0 | V108: 0
A109: Xã Tân Tiến | B109: =F109+L109+R109 -> 0 | C109: =G109+M109+S109 -> 0 | D109: =H109+N109+T109 -> 0 | E109: =I109+O108+U109 -> 0
A110: Xã Bù Gia Mập | B110: =F110+L110+R110 -> 184 | C110: =G110+M110+S110 -> 29 | D110: =H110+N110+T110 -> 22 | E110: =I110+O109+U110 -> 0 | F110: 181 | G110: 23 | H110: 19 | I110: 0 | J110: 0 | K110: 61 | L110: 3 | M110: 6 | N110: 3 | O110: 0 | P110: 0 | Q110: 9 | R110: 0 | S110: 0 | T110: 0 | U110: 0 | V110: 0
A111: Xã Phú Nghĩa | B111: =F111+L111+R111 -> 72 | C111: =G111+M111+S111 -> 75 | D111: =H111+N111+T111 -> 72 | E111: =I111+O110+U111 -> 0 | F111: 62 | G111: 64 | H111: 62 | I111: 0 | J111: 0 | K111: 32 | L111: 10 | M111: 11 | N111: 10 | O111: 0 | P111: 0 | Q111: 0 | R111: 0 | S111: 0 | T111: 0 | U111: 0 | V111: 0
A112: Xã Bình Tân | B112: =F112+L112+R112 -> 201 | C112: =G112+M112+S112 -> 23 | D112: =H112+N112+T112 -> 25 | E112: =I112+O112+U112 -> 0 | F112: 184 | G112: 23 | H112: 25 | I112: 0 | J112: 0 | K112: 36 | L112: 17 | M112: 0 | N112: 0 | O112: 0 | P112: 0 | Q112: 0 | R112: 0 | S112: 0 | T112: 0 | U112: 0 | V112: 0
A113: Xã Long Hà | B113: =F113+L113+R113 -> 198 | C113: =G113+M113+S113 -> 60 | D113: =H113+N113+T113 -> 59 | E113: =I113+O113+U113 -> 0 | F113: 154 | G113: 43 | H113: 43 | I113: 0 | J113: 0 | K113: 44 | L113: 44 | M113: 17 | N113: 16 | O113: 0 | P113: 0 | Q113: 0 | R113: 0 | S113: 0 | T113: 0 | U113: 0 | V113: 0
A114: Xã Thuận Lợi | B114: =F114+L114+R114 -> 34 | C114: =G114+M114+S114 -> 39 | D114: =H114+N114+T114 -> 34 | E114: =I114+O114+U114 -> 0 | F114: 30 | G114: 33 | H114: 30 | I114: 0 | J114: 0 | K114: 51 | L114: 2 | M114: 2 | N114: 2 | O114: 0 | P114: 0 | Q114: 11 | R114: 2 | S114: 4 | T114: 2 | U114: 0 | V114: 0
A115: Xã Đồng Tâm | B115: =F115+L115+R115 -> 218 | C115: =G115+M115+S115 -> 144 | D115: =H115+N115+T115 -> 84 | E115: =I115+O115+U115 -> 0 | F115: 191 | G115: 117 | H115: 68 | I115: 0 | J115: 0 | K115: 51 | L115: 27 | M115: 27 | N115: 16 | O115: 0 | P115: 0 | Q115: 0 | R115: 0 | S115: 0 | T115: 0 | U115: 0 | V115: 0
A116: Xã Phước Sơn | B116: =F116+L116+R116 -> 22 | C116: =G116+M116+S116 -> 23 | D116: =H116+N116+T116 -> 22 | E116: =I116+O116+U116 -> 0 | F116: 22 | G116: 23 | H116: 22 | I116: 0 | J116: 0 | K116: 34 | L116: 0 | M116: 0 | N116: 0 | O116: 0 | P116: 0 | Q116: 0 | R116: 0 | S116: 0 | T116: 0 | U116: 0 | V116: 0
A117: Xã Nghĩa Trung | B117: =F117+L117+R117 -> 79 | C117: =G117+M117+S117 -> 86 | D117: =H117+N117+T117 -> 47 | E117: =I117+O117+U117 -> 2 | F117: 68 | G117: 72 | H117: 41 | I117: 2 | J117: 10 | K117: 29 | L117: 9 | M117: 11 | N117: 4 | O117: 0 | P117: 0 | Q117: 6 | R117: 2 | S117: 3 | T117: 2 | U117: 0 | V117: 0
A118: Xã Thọ Sơn | B118: =F118+L118+R118 -> 51 | C118: =G118+M118+S118 -> 42 | D118: =H118+N118+T118 -> 51 | E118: =I118+O118+U118 -> 0 | F118: 51 | G118: 40 | H118: 51 | I118: 0 | J118: 0 | K118: 25 | L118: 0 | M118: 1 | N118: 0 | O118: 0 | P118: 0 | Q118: 8 | R118: 0 | S118: 1 | T118: 0 | U118: 0 | V118: 0
A119: Xã Đak Nhau | B119: =F119+L119+R119 -> 53 | C119: =G119+M119+S119 -> 51 | D119: =H119+N119+T119 -> 49 | E119: =I119+O119+U119 -> 0 | F119: 43 | G119: 42 | H119: 40 | I119: 0 | J119: 0 | K119: 27 | L119: 9 | M119: 8 | N119: 8 | O119: 0 | P119: 0 | Q119: 1 | R119: 1 | S119: 1 | T119: 1 | U119: 0 | V119: 0
A120: Xã Minh Đức | B120: =F120+L120+R120 -> 28 | C120: =G120+M120+S120 -> 37 | D120: =H120+N120+T120 -> 28 | E120: =I120+O120+U120 -> 0 | F120: 20 | G120: 24 | H120: 20 | I120: 0 | J120: 0 | K120: 30 | L120: 8 | M120: 13 | N120: 8 | O120: 0 | P120: 0 | Q120: 4 | R120: 0 | S120: 0 | T120: 0 | U120: 0 | V120: 0
A121: Xã Phú Trung | B121: =F121+L121+R121 -> 165 | C121: =G121+M121+S121 -> 90 | D121: =H121+N121+T121 -> 23 | E121: =I121+O121+U121 -> 0 | F121: 126 | G121: 71 | H121: 13 | I121: 0 | J121: 0 | K121: 32 | L121: 39 | M121: 19 | N121: 10 | O121: 0 | P121: 0 | Q121: 0 | R121: 0 | S121: 0 | T121: 0 | U121: 0 | V121: 0
A122: TỔNG | B122: =B26+B12+B11 -> 15480 | C122: =C26+C12+C11 -> 14907 | D122: =D26+D12+D11 -> 12422 | E122: =E26+E12+E11 -> 95 | F122: =F26+F12+F11 -> 13350 | G122: =G26+G12+G11 -> 12925 | H122: =H26+H12+H11 -> 10857 | I122: =I26+I12+I11 -> 47 | ... V122: =V26+V12+V11 -> 20
J123: =J122+P122+V122 -> 1203 | L123: =L122+R122 -> 2130 | M123: =M122+S122 -> 1982 | N123: =N122+T122 -> 1565 | O123: =O122+U122 -> 48 | P123: =P122+V122 -> 145

Sheet 02.XLD
A1: UBND THÀNH PHỐ ĐỒNG NAI
A2: THANH TRA THÀNH PHỐ | Z2: 02.XLD
B3: TỔNG HỢP KẾT QUẢ XỬ LÝ ĐƠN TRONG 09 THÁNG ĐẦU NĂM 2026 CỦA THÀNH PHỐ ĐỒNG NAI
B4: Số liệu tính từ ngày 06/12/2025 đến ngày 05/9/2026
B5: (Kèm theo Báo cáo số: /BC-TT ngày /9/2026 của Thanh tra thành phố Đồng Nai)
A6: Đơn vị | B6: Tổng số đơn | C6: Số đơn đã xử lý | D6: Số đơn đủ điều kiện xử lý | E6: Số đơn thuộc thẩm quyền | F6: Số vụ việc thuộc thẩm quyền | G6: Số đơn thuộc thẩm quyền | X6: Số đơn không thuộc thẩm quyền | AA6: Số đơn Kiến nghị, phản ánh thuộc thẩm quyền đã giải quyết | AB6: Số đơn kỳ trước chuyển sang | AC6: Số đơn trong kỳ | AD6: Số đơn tồn chuyển kỳ sau
G7: Khiếu nại | M7: Tố cáo | T7: Kiến nghị, phản ánh
G8: Tổng số đơn | H8: Phân loại theo thẩm quyền giải quyết | J8: Phân loại theo lĩnh vực | M8: Tổng số đơn | N8: Phân loại theo thẩm quyền giải quyết | P8: Phân loại theo lĩnh vực | T8: Tổng số đơn | U8: Phân loại theo lĩnh vực | X8: Tổng số đơn | Y8: Phân loại theo kết quả xử lý
H9: Khiếu nại lần đầu | I9: Khiếu nại lần 2 | J9: Đất đai | K9: Chế độ, chính sách | L9: Khác | N9: Tố cáo lần đầu | O9: Tố cáo tiếp | P9: Hành chính | Q9: Tham nhũng | R9: Tư pháp | S9: Khác | U9: Chế độ, chính sách | V9: Đất đai | W9: Khác | Y9: Hướng dẫn | Z9: Chuyển đơn
A10: MS | B10: 1 | C10: 2 | D10: 3=4+23 | E10: 4=6+12+19 | F10: 5 | G10: 6=7+8=9+10+11 | H10: 7 | I10: 8 | J10: 9 | K10: 10 | L10: 11 | M10: 12=13+14=15+16+ 17+18 | N10: 13 | O10: 14 | P10: 15 | Q10: 16 | R10: 17 | S10: 18 | T10: 19=20+21+22 | U10: 20 | V10: 21 | W10: 22 | X10: 23=24+25 | Y10: 24 | Z10: 25 | AA10: 26 | AB10: 27 | AC10: 28 | AD10: 29 | AE10: =E11-F11 -> 0
A11: UBND THÀNH PHỐ | B11: =AB11+AC11 -> 3747 | C11: 3551 | D11: =E11+X11 -> 2701 | E11: =G11+M11+T11 -> 188 | F11: 188 | G11: =IFERROR(IF((H11+I11)=(J11+K11+L11),IF(AND((H11+I11)=0,(J11+K11+L11)>0),"Lỗi",(H11+I11)),"Lỗi"),"Lỗi") -> 161 | H11: 0 | I11: 161 | J11: 161 | K11: 0 | L11: 0 | M11: =IFERROR(IF((N11+O11)=(P11+Q11+R11+S11),IF(AND((N11+O11)=0,(P11+Q11+R11+S11)>0),"Lỗi",(N11+O11)),"Lỗi"),"Lỗi") -> 27 | N11: 25 | O11: 2 | P11: 27 | Q11: 0 | R11: 0 | S11: 0 | T11: =U11+V11+W11 -> 0 | U11: 0 | V11: 0 | W11: 0 | X11: =Y11+Z11 -> 2513 | Y11: 209 | Z11: 2304 | AA11: 0 | AB11: 307 | AC11: 3440 | AD11: =B11-C11+T11-AA11+'03.GQKN'!AA10+'04.GQTC'!AC10 -> 312 | AE11: =E11-F11 -> 0 | AF11: 312 | AG11: =AD11-AF11 -> 0
A12: CẤP SỞ, NGÀNH | B12: =AB12+AC12 -> 2718 | C12: =SUM(C13:C25) -> 2666 | D12: =SUM(D13:D25) -> 2135 | E12: =SUM(E13:E25) -> 1090 | F12: =SUM(F13:F24) -> 1019 | G12: =IFERROR(IF((H12+I12)=(J12+K12+L12),IF(AND((H12+I12)=0,(J12+K12+L12)>0),"Lỗi",(H12+I12)),"Lỗi"),"Lỗi") -> 76 | H12: =SUM(H13:H25) -> 63 | I12: =SUM(I13:I25) -> 13 | J12: =SUM(J13:J25) -> 30 | K12: =SUM(K13:K25) -> 17 | L12: =SUM(L13:L25) -> 29 | M12: =SUM(M13:M25) -> 173 | N12: =SUM(N13:N25) -> 173 | O12: =SUM(O13:O25) -> 0 | ... AA12: =SUM(AA13:AA25) -> 809 | AB12: 36 | AC12: =SUM(AC13:AC25) -> 2682 | AD12: =SUM(AD13:AD25) -> 98 | AE12: =E12-F12 -> 71 | AF12: 98 | AG12: =AD12-AF12 -> 0
A13: Sở Dân tộc và tôn giáo | B13: =AB13+AC13 -> 46 | C13: 46 | D13: =E13+X13 -> 46 | E13: =G13+M13+T13 -> 46 | G13: =IFERROR(IF((H13+I13)=(J13+K13+L13),IF(AND((H13+I13)=0,(J13+K13+L13)>0),"Lỗi",(H13+I13)),"Lỗi"),"Lỗi") -> 0 | H13: 0 | I13: 0 | J13: 0 | K13: 0 | L13: 0 | M13: =IFERROR(IF((N13+O13)=(P13+Q13+R13+S13),IF(AND((N13+O13)=0,(P13+Q13+R13+S13)>0),"Lỗi",(N13+O13)),"Lỗi"),"Lỗi") -> 0 | N13: 0 | O13: 0 | P13: 0 | Q13: 0 | R13: 0 | S13: 0 | T13: =U13+V13+W13 -> 46 | U13: 46 | V13: 0 | W13: 0 | X13: =Y13+Z13 -> 0 | Y13: 0 | Z13: 0 | AA13: 46 | AB13: 0 | AC13: 46 | AD13: =B13-C13+T13-AA13+'03.GQKN'!AA12+'04.GQTC'!AC12 -> 0 | AE13: =E13-F13 -> 46 | AF13: 0 | AG13: =AD13-AF13 -> 0
A14: Sở Công Thương | B14: =AB14+AC14 -> 24 | C14: 24 | D14: =E14+X14 -> 23 | E14: =G14+M14+T14 -> 16 | F14: 16 | G14: =IFERROR(IF((H14+I14)=(J14+K14+L14),IF(AND((H14+I14)=0,(J14+K14+L14)>0),"Lỗi",(H14+I14)),"Lỗi"),"Lỗi") -> 0 | H14: 0 | I14: 0 | J14: 0 | K14: 0 | L14: 0 | M14: =IFERROR(IF((N14+O14)=(P14+Q14+R14+S14),IF(AND((N14+O14)=0,(P14+Q14+R14+S14)>0),"Lỗi",(N14+O14)),"Lỗi"),"Lỗi") -> 1 | N14: 1 | O14: 0 | P14: 0 | Q14: 0 | R14: 0 | S14: 1 | T14: =U14+V14+W14 -> 15 | U14: 0 | V14: 0 | W14: 15 | X14: =Y14+Z14 -> 7 | Y14: 0 | Z14: 7 | AA14: 15 | AC14: 24 | AD14: =B14-C14+T14-AA14+'03.GQKN'!AA13+'04.GQTC'!AC13 -> 0 | AE14: =E14-F14 -> 0 | AF14: 0 | AG14: =AD14-AF14 -> 0
A15: Sở GD&ĐT | B15: =AB15+AC15 -> 130 | C15: 130 | D15: =E15+X15 -> 77 | E15: =G15+M15+T15 -> 14 | F15: 14 | G15: =IFERROR(IF((H15+I15)=(J15+K15+L15),IF(AND((H15+I15)=0,(J15+K15+L15)>0),"Lỗi",(H15+I15)),"Lỗi"),"Lỗi") -> 0 | H15: 0 | I15: 0 | J15: 0 | K15: 0 | L15: 0 | M15: =IFERROR(IF((N15+O15)=(P15+Q15+R15+S15),IF(AND((N15+O15)=0,(P15+Q15+R15+S15)>0),"Lỗi",(N15+O15)),"Lỗi"),"Lỗi") -> 2 | N15: 2 | O15: 0 | P15: 0 | Q15: 0 | R15: 0 | S15: 2 | T15: =U15+V15+W15 -> 12 | U15: 0 | V15: 0 | W15: 12 | X15: =Y15+Z15 -> 63 | Y15: 6 | Z15: 57 | AA15: 12 | AB15: 0 | AC15: 130 | AD15: =B15-C15+T15-AA15+'03.GQKN'!AA14+'04.GQTC'!AC14 -> 0 | AE15: =E15-F15 -> 0 | AF15: 0 | AG15: =AD15-AF15 -> 0
A16: Sở KH&CN | B16: =AB16+AC16 -> 0 | D16: =E16+X16 -> 0 | E16: =G16+M16+T16 -> 0 | G16: =IFERROR(IF((H16+I16)=(J16+K16+L16),IF(AND((H16+I16)=0,(J16+K16+L16)>0),"Lỗi",(H16+I16)),"Lỗi"),"Lỗi") -> 0 | M16: =IFERROR(IF((N16+O16)=(P16+Q16+R16+S16),IF(AND((N16+O16)=0,(P16+Q16+R16+S16)>0),"Lỗi",(N16+O16)),"Lỗi"),"Lỗi") -> 0 | T16: =U16+V16+W16 -> 0 | X16: =Y16+Z16 -> 0 | AB16: 0 | AD16: =B16-C16+T16-AA16+'03.GQKN'!AA15+'04.GQTC'!AC15 -> 0 | AE16: =E16-F16 -> 0 | AF16: 0 | AG16: =AD16-AF16 -> 0
A17: Sở NN&MT | B17: =AB17+AC17 -> 903 | C17: 903 | D17: =E17+X17 -> 903 | E17: =G17+M17+T17 -> 698 | F17: 698 | G17: =IFERROR(IF((H17+I17)=(J17+K17+L17),IF(AND((H17+I17)=0,(J17+K17+L17)>0),"Lỗi",(H17+I17)),"Lỗi"),"Lỗi") -> 33 | H17: 32 | I17: 1 | J17: 30 | K17: 0 | L17: 3 | M17: =IFERROR(IF((N17+O17)=(P17+Q17+R17+S17),IF(AND((N17+O17)=0,(P17+Q17+R17+S17)>0),"Lỗi",(N17+O17)),"Lỗi"),"Lỗi") -> 146 | N17: 146 | O17: 0 | P17: 143 | Q17: 0 | R17: 0 | S17: 3 | T17: =U17+V17+W17 -> 519 | U17: 0 | V17: 508 | W17: 11 | X17: =Y17+Z17 -> 205 | Y17: 76 | Z17: 129 | AA17: 500 | AB17: 0 | AC17: 903 | AD17: =B17-C17+T17-AA17+'03.GQKN'!AA16+'04.GQTC'!AC16 -> 29 | AE17: =E17-F17 -> 0 | AF17: 29 | AG17: =AD17-AF17 -> 0
A18: Sở Nội vụ | B18: =AB18+AC18 -> 274 | C18: 274 | D18: =E18+X18 -> 273 | E18: =G18+M18+T18 -> 93 | F18: 93 | G18: =IFERROR(IF((H18+I18)=(J18+K18+L18),IF(AND((H18+I18)=0,(J18+K18+L18)>0),"Lỗi",(H18+I18)),"Lỗi"),"Lỗi") -> 19 | H18: 10 | I18: 9 | J18: 0 | K18: 16 | L18: 3 | M18: =IFERROR(IF((N18+O18)=(P18+Q18+R18+S18),IF(AND((N18+O18)=0,(P18+Q18+R18+S18)>0),"Lỗi",(N18+O18)),"Lỗi"),"Lỗi") -> 5 | N18: 5 | O18: 0 | P18: 0 | Q18: 0 | R18: 0 | S18: 5 | T18: =U18+V18+W18 -> 69 | U18: 56 | V18: 0 | W18: 13 | X18: =Y18+Z18 -> 180 | Y18: 25 | Z18: 155 | AA18: 68 | AB18: 0 | AC18: 274 | AD18: =B18-C18+T18-AA18+'03.GQKN'!AA17+'04.GQTC'!AC17 -> 1 | AE18: =E18-F18 -> 0 | AF18: 1 | AG18: =AD18-AF18 -> 0
A19: Sở Ngoại vụ | B19: =AB19+AC19 -> 0 | D19: =E19+X19 -> 0 | E19: =G19+M19+T19 -> 0 | G19: =IFERROR(IF((H19+I19)=(J19+K19+L19),IF(AND((H19+I19)=0,(J19+K19+L19)>0),"Lỗi",(H19+I19)),"Lỗi"),"Lỗi") -> 0 | M19: =IFERROR(IF((N19+O19)=(P19+Q19+R19+S19),IF(AND((N19+O19)=0,(P19+Q19+R19+S19)>0),"Lỗi",(N19+O19)),"Lỗi"),"Lỗi") -> 0 | T19: =U19+V19+W19 -> 0 | X19: =Y19+Z19 -> 0 | AD19: =B19-C19+T19-AA19+'03.GQKN'!AA18+'04.GQTC'!AC18 -> 0 | AE19: =E19-F19 -> 0 | AF19: 0 | AG19: =AD19-AF19 -> 0
A20: Sở Tài chính | B20: =AB20+AC20 -> 102 | C20: 102 | D20: =E20+X20 -> 102 | E20: =G20+M20+T20 -> 93 | F20: 93 | G20: =IFERROR(IF((H20+I20)=(J20+K20+L20),IF(AND((H20+I20)=0,(J20+K20+L20)>0),"Lỗi",(H20+I20)),"Lỗi"),"Lỗi") -> 5 | H20: 3 | I20: 2 | J20: 0 | K20: 0 | L20: 5 | M20: =IFERROR(IF((N20+O20)=(P20+Q20+R20+S20),IF(AND((N20+O20)=0,(P20+Q20+R20+S20)>0),"Lỗi",(N20+O20)),"Lỗi"),"Lỗi") -> 2 | N20: 2 | O20: 0 | P20: 0 | Q20: 0 | R20: 0 | S20: 2 | T20: =U20+V20+W20 -> 86 | U20: 0 | V20: 0 | W20: 86 | X20: =Y20+Z20 -> 9 | Y20: 5 | Z20: 4 | AA20: 76 | AB20: 0 | AC20: 102 | AD20: =B20-C20+T20-AA20+'03.GQKN'!AA19+'04.GQTC'!AC19 -> 12 | AE20: =E20-F20 -> 0 | AF20: 12 | AG20: =AD20-AF20 -> 0
A21: Sở Tư pháp | B21: =AB21+AC21 -> 105 | C21: 105 | D21: =E21+X21 -> 105 | E21: =G21+M21+T21 -> 47 | F21: 30 | G21: =IFERROR(IF((H21+I21)=(J21+K21+L21),IF(AND((H21+I21)=0,(J21+K21+L21)>0),"Lỗi",(H21+I21)),"Lỗi"),"Lỗi") -> 18 | H21: 18 | I21: 0 | J21: 0 | K21: 0 | L21: 18 | M21: =IFERROR(IF((N21+O21)=(P21+Q21+R21+S21),IF(AND((N21+O21)=0,(P21+Q21+R21+S21)>0),"Lỗi",(N21+O21)),"Lỗi"),"Lỗi") -> 15 | N21: 15 | O21: 0 | P21: 0 | Q21: 0 | R21: 0 | S21: 15 | T21: =U21+V21+W21 -> 14 | U21: 0 | V21: 0 | W21: 14 | X21: =Y21+Z21 -> 58 | Y21: 58 | Z21: 0 | AA21: 14 | AB21: 0 | AC21: 105 | AD21: =B21-C21+T21-AA21+'03.GQKN'!AA20+'04.GQTC'!AC20 -> 1 | AE21: =E21-F21 -> 17 | AF21: 1 | AG21: =AD21-AF21 -> 0
A22: Sở VHTT&DL | B22: =AB22+AC22 -> 3 | C22: 3 | D22: =E22+X22 -> 3 | E22: =G22+M22+T22 -> 3 | G22: =IFERROR(IF((H22+I22)=(J22+K22+L22),IF(AND((H22+I22)=0,(J22+K22+L22)>0),"Lỗi",(H22+I22)),"Lỗi"),"Lỗi") -> 0 | H22: 0 | I22: 0 | J22: 0 | K22: 0 | L22: 0 | M22: =IFERROR(IF((N22+O22)=(P22+Q22+R22+S22),IF(AND((N22+O22)=0,(P22+Q22+R22+S22)>0),"Lỗi",(N22+O22)),"Lỗi"),"Lỗi") -> 1 | N22: 1 | O22: 0 | P22: 0 | Q22: 0 | R22: 0 | S22: 1 | T22: =U22+V22+W22 -> 2 | U22: 0 | V22: 0 | W22: 2 | X22: =Y22+Z22 -> 0 | Y22: 0 | Z22: 0 | AA22: 2 | AB22: 0 | AC22: 3 | AD22: =B22-C22+T22-AA22+'03.GQKN'!AA21+'04.GQTC'!AC21 -> 0 | AE22: =E22-F22 -> 3 | AF22: 0 | AG22: =AD22-AF22 -> 0
A23: Sở Xây dựng | B23: =AB23+AC23 -> 53 | C23: 53 | D23: =E23+X23 -> 53 | E23: =G23+M23+T23 -> 51 | F23: 51 | G23: =IFERROR(IF((H23+I23)=(J23+K23+L23),IF(AND((H23+I23)=0,(J23+K23+L23)>0),"Lỗi",(H23+I23)),"Lỗi"),"Lỗi") -> 0 | H23: 0 | I23: 0 | J23: 0 | K23: 0 | L23: 0 | M23: =IFERROR(IF((N23+O23)=(P23+Q23+R23+S23),IF(AND((N23+O23)=0,(P23+Q23+R23+S23)>0),"Lỗi",(N23+O23)),"Lỗi"),"Lỗi") -> 1 | N23: 1 | O23: 0 | P23: 0 | Q23: 0 | R23: 0 | S23: 1 | T23: =U23+V23+W23 -> 50 | U23: 0 | V23: 0 | W23: 50 | X23: =Y23+Z23 -> 2 | Y23: 0 | Z23: 2 | AA23: 49 | AB23: 0 | AC23: 53 | AD23: =B23-C23+T23-AA23+'03.GQKN'!AA22+'04.GQTC'!AC22 -> 2 | AE23: =E23-F23 -> 0 | AF23: 2 | AG23: =AD23-AF23 -> 0
A24: Sở Y tế | B24: =AB24+AC24 -> 72 | C24: 72 | D24: =E24+X24 -> 51 | E24: =G24+M24+T24 -> 24 | F24: 24 | G24: =IFERROR(IF((H24+I24)=(J24+K24+L24),IF(AND((H24+I24)=0,(J24+K24+L24)>0),"Lỗi",(H24+I24)),"Lỗi"),"Lỗi") -> 1 | H24: 0 | I24: 1 | J24: 0 | K24: 1 | L24: 0 | M24: =IFERROR(IF((N24+O24)=(P24+Q24+R24+S24),IF(AND((N24+O24)=0,(P24+Q24+R24+S24)>0),"Lỗi",(N24+O24)),"Lỗi"),"Lỗi") -> 0 | N24: 0 | O24: 0 | P24: 0 | Q24: 0 | R24: 0 | S24: 0 | T24: =U24+V24+W24 -> 23 | U24: 1 | V24: 0 | W24: 22 | X24: =Y24+Z24 -> 27 | Y24: 3 | Z24: 24 | AA24: 22 | AB24: 0 | AC24: 72 | AD24: =B24-C24+T24-AA24+'03.GQKN'!AA23+'04.GQTC'!AC23 -> 1 | AE24: =E24-F24 -> 0 | AF24: 1 | AG24: =AD24-AF24 -> 0
A25: Thanh tra tỉnh | B25: =AB25+AC25 -> 1006 | C25: 954 | D25: =E25+X25 -> 499 | E25: =G25+M25+T25 -> 5 | F25: 5 | G25: =IFERROR(IF((H25+I25)=(J25+K25+L25),IF(AND((H25+I25)=0,(J25+K25+L25)>0),"Lỗi",(H25+I25)),"Lỗi"),"Lỗi") -> 0 | H25: 0 | I25: 0 | J25: 0 | K25: 0 | L25: 0 | M25: =IFERROR(IF((N25+O25)=(P25+Q25+R25+S25),IF(AND((N25+O25)=0,(P25+Q25+R25+S25)>0),"Lỗi",(N25+O25)),"Lỗi"),"Lỗi") -> 0 | N25: 0 | O25: 0 | P25: 0 | Q25: 0 | R25: 0 | S25: 0 | T25: =U25+V25+W25 -> 5 | U25: 0 | V25: 0 | W25: 5 | X25: =Y25+Z25 -> 494 | Y25: 178 | Z25: 316 | AA25: 5 | AB25: 36 | AC25: 970 | AD25: =B25-C25+T25-AA25+'03.GQKN'!AA24+'04.GQTC'!AC24 -> 52 | AE25: =E25-F25 -> 0 | AF25: 52 | AG25: =AD25-AF25 -> 0
A26: UBND CẤP XÃ | B26: =AB26+AC26 -> 11571 | C26: =SUM(C27:C121) -> 10476 | D26: =SUM(D27:D121) -> 10288 | E26: =SUM(E27:E121) -> 8952 | F26: =SUM(F27:F121) -> 8942 | G26: =SUM(G27:G121) -> 641 | H26: =SUM(H27:H121) -> 641 | I26: =SUM(I27:I121) -> 0 | J26: =SUM(J27:J121) -> 542 | ... AD26: =SUM(AD27:AD121) -> 2382 | AE26: =E26-F26 -> 10 | AF26: 2404 | AG26: =AD26-AF26 -> -22
A27: Phường Trấn Biên | B27: =AB27+AC27 -> 395 | C27: 395 | D27: =E27+X27 -> 395 | E27: =G27+M27+T27 -> 362 | F27: 362 | G27: =IFERROR(IF((H27+I27)=(J27+K27+L27),IF(AND((H27+I27)=0,(J27+K27+L27)>0),"Lỗi",(H27+I27)),"Lỗi"),"Lỗi") -> 21 | H27: 21 | I27: 0 | J27: 20 | K27: 0 | L27: 1 | M27: =IFERROR(IF((N27+O27)=(P27+Q27+R27+S27),IF(AND((N27+O27)=0,(P27+Q27+R27+S27)>0),"Lỗi",(N27+O27)),"Lỗi"),"Lỗi") -> 2 | N27: 2 | O27: 0 | P27: 0 | Q27: 0 | R27: 0 | S27: 2 | T27: =U27+V27+W27 -> 339 | U27: 26 | V27: 233 | W27: 80 | X27: =Y27+Z27 -> 33 | Y27: 11 | Z27: 22 | AA27: 315 | AB27: 33 | AC27: 362 | AD27: =B27-C27+T27-AA27+'03.GQKN'!AA26+'04.GQTC'!AC26 -> 32 | AE27: =E27-F27 -> 0 | AF27: 32 | AG27: =AD27-AF27 -> 0
A28: Phường Biên Hòa | B28: =AB28+AC28 -> 201 | C28: 190 | D28: =E28+X28 -> 190 | E28: =G28+M28+T28 -> 190 | F28: 190 | G28: =IFERROR(IF((H28+I28)=(J28+K28+L28),IF(AND((H28+I28)=0,(J28+K28+L28)>0),"Lỗi",(H28+I28)),"Lỗi"),"Lỗi") -> 3 | H28: 3 | J28: 3 | M28: =IFERROR(IF((N28+O28)=(P28+Q28+R28+S28),IF(AND((N28+O28)=0,(P28+Q28+R28+S28)>0),"Lỗi",(N28+O28)),"Lỗi"),"Lỗi") -> 3 | N28: 3 | S28: 3 | T28: =U28+V28+W28 -> 184 | V28: 184 | X28: =Y28+Z28 -> 0 | AA28: 147 | AB28: 38 | AC28: 163 | AD28: =B28-C28+T28-AA28+'03.GQKN'!AA27+'04.GQTC'!AC27 -> 50 | AE28: =E28-F28 -> 0 | AF28: 50 | AG28: =AD28-AF28 -> 0
A29: Phường Tam Hiệp | B29: =AB29+AC29 -> 160 | C29: 122 | D29: =E29+X29 -> 122 | E29: =G29+M29+T29 -> 122 | F29: 120 | G29: =IFERROR(IF((H29+I29)=(J29+K29+L29),IF(AND((H29+I29)=0,(J29+K29+L29)>0),"Lỗi",(H29+I29)),"Lỗi"),"Lỗi") -> 4 | H29: 4 | I29: 0 | J29: 4 | K29: 0 | L29: 0 | M29: =IFERROR(IF((N29+O29)=(P29+Q29+R29+S29),IF(AND((N29+O29)=0,(P29+Q29+R29+S29)>0),"Lỗi",(N29+O29)),"Lỗi"),"Lỗi") -> 2 | N29: 2 | O29: 0 | P29: 2 | Q29: 0 | R29: 0 | S29: 0 | T29: =U29+V29+W29 -> 116 | U29: 1 | V29: 76 | W29: 39 | X29: =Y29+Z29 -> 0 | Y29: 0 | Z29: 0 | AA29: 74 | AB29: 44 | AC29: 116 | AD29: =B29-C29+T29-AA29+'03.GQKN'!AA28+'04.GQTC'!AC28 -> 80 | AE29: =E29-F29 -> 2 | AF29: 80 | AG29: =AD29-AF29 -> 0
A30: Phường Long Bình | B30: =AB30+AC30 -> 144 | C30: 128 | D30: =E30+X30 -> 127 | E30: =G30+M30+T30 -> 127 | F30: 125 | G30: =IFERROR(IF((H30+I30)=(J30+K30+L30),IF(AND((H30+I30)=0,(J30+K30+L30)>0),"Lỗi",(H30+I30)),"Lỗi"),"Lỗi") -> 1 | H30: 1 | I30: 0 | J30: 1 | K30: 0 | L30: 0 | M30: =IFERROR(IF((N30+O30)=(P30+Q30+R30+S30),IF(AND((N30+O30)=0,(P30+Q30+R30+S30)>0),"Lỗi",(N30+O30)),"Lỗi"),"Lỗi") -> 1 | N30: 1 | O30: 0 | P30: 0 | Q30: 0 | R30: 0 | S30: 1 | T30: =U30+V30+W30 -> 125 | U30: 15 | V30: 96 | W30: 14 | X30: =Y30+Z30 -> 0 | Y30: 0 | Z30: 0 | AA30: 103 | AB30: 19 | AC30: 125 | AD30: =B30-C30+T30-AA30+'03.GQKN'!AA29+'04.GQTC'!AC29 -> 38 | AE30: =E30-F30 -> 2 | AF30: 38 | AG30: =AD30-AF30 -> 0
A31: Phường Trảng Dài | B31: =AB31+AC31 -> 824 | C31: 824 | D31: =E31+X31 -> 824 | E31: =G31+M31+T31 -> 175 | F31: 175 | G31: =IFERROR(IF((H31+I31)=(J31+K31+L31),IF(AND((H31+I31)=0,(J31+K31+L31)>0),"Lỗi",(H31+I31)),"Lỗi"),"Lỗi") -> 1 | H31: 1 | I31: 0 | J31: 0 | K31: 0 | L31: 1 | M31: =IFERROR(IF((N31+O31)=(P31+Q31+R31+S31),IF(AND((N31+O31)=0,(P31+Q31+R31+S31)>0),"Lỗi",(N31+O31)),"Lỗi"),"Lỗi") -> 0 | N31: 0 | O31: 0 | P31: 0 | Q31: 0 | R31: 0 | S31: 0 | T31: =U31+V31+W31 -> 174 | U31: 0 | V31: 111 | W31: 63 | X31: =Y31+Z31 -> 649 | Y31: 649 | Z31: 0 | AA31: 151 | AB31: 0 | AC31: 824 | AD31: =B31-C31+T31-AA31+'03.GQKN'!AA30+'04.GQTC'!AC30 -> 23 | AE31: =E31-F31 -> 0 | AF31: 23 | AG31: =AD31-AF31 -> 0
A32: Phường Hố Nai | B32: =AB32+AC32 -> 74 | C32: 74 | D32: =E32+X32 -> 72 | E32: =G32+M32+T32 -> 65 | F32: 65 | G32: =IFERROR(IF((H32+I32)=(J32+K32+L32),IF(AND((H32+I32)=0,(J32+K32+L32)>0),"Lỗi",(H32+I32)),"Lỗi"),"Lỗi") -> 1 | H32: 1 | I32: 0 | J32: 1 | K32: 0 | L32: 0 | M32: =IFERROR(IF((N32+O32)=(P32+Q32+R32+S32),IF(AND((N32+O32)=0,(P32+Q32+R32+S32)>0),"Lỗi",(N32+O32)),"Lỗi"),"Lỗi") -> 1 | N32: 1 | O32: 0 | P32: 0 | Q32: 0 | R32: 0 | S32: 1 | T32: =U32+V32+W32 -> 63 | U32: 0 | V32: 46 | W32: 17 | X32: =Y32+Z32 -> 7 | Y32: 1 | Z32: 6 | AA32: 61 | AB32: 0 | AC32: 74 | AD32: =B32-C32+T32-AA32+'03.GQKN'!AA31+'04.GQTC'!AC31 -> 2 | AE32: =E32-F32 -> 0 | AF32: 2 | AG32: =AD32-AF32 -> 0
A33: Phường Long Hưng | B33: =AB33+AC33 -> 131 | C33: 99 | D33: =E33+X33 -> 97 | E33: =G33+M33+T33 -> 97 | F33: 97 | G33: =IFERROR(IF((H33+I33)=(J33+K33+L33),IF(AND((H33+I33)=0,(J33+K33+L33)>0),"Lỗi",(H33+I33)),"Lỗi"),"Lỗi") -> 16 | H33: 16 | I33: 0 | J33: 13 | K33: 3 | L33: 0 | M33: =IFERROR(IF((N33+O33)=(P33+Q33+R33+S33),IF(AND((N33+O33)=0,(P33+Q33+R33+S33)>0),"Lỗi",(N33+O33)),"Lỗi"),"Lỗi") -> 3 | N33: 3 | O33: 0 | P33: 3 | Q33: 0 | R33: 0 | S33: 0 | T33: =U33+V33+W33 -> 78 | U33: 0 | V33: 77 | W33: 1 | X33: =Y33+Z33 -> 0 | Y33: 0 | Z33: 0 | AA33: 55 | AB33: 26 | AC33: 105 | AD33: =B33-C33+T33-AA33+'03.GQKN'!AA32+'04.GQTC'!AC32 -> 66 | AE33: =E33-F33 -> 0 | AF33: 66 | AG33: =AD33-AF33 -> 0
A34: Phường Phước Tân | B34: =AB34+AC34 -> 274 | C34: 274 | D34: =E34+X34 -> 223 | E34: =G34+M34+T34 -> 198 | F34: 198 | G34: =IFERROR(IF((H34+I34)=(J34+K34+L34),IF(AND((H34+I34)=0,(J34+K34+L34)>0),"Lỗi",(H34+I34)),"Lỗi"),"Lỗi") -> 35 | H34: 35 | I34: 0 | J34: 34 | K34: 0 | L34: 1 | M34: =IFERROR(IF((N34+O34)=(P34+Q34+R34+S34),IF(AND((N34+O34)=0,(P34+Q34+R34+S34)>0),"Lỗi",(N34+O34)),"Lỗi"),"Lỗi") -> 3 | N34: 3 | O34: 0 | P34: 1 | Q34: 0 | R34: 0 | S34: 2 | T34: =U34+V34+W34 -> 160 | U34: 0 | V34: 142 | W34: 18 | X34: =Y34+Z34 -> 25 | Y34: 12 | Z34: 13 | AA34: 89 | AB34: 54 | AC34: 220 | AD34: =B34-C34+T34-AA34+'03.GQKN'!AA33+'04.GQTC'!AC33 -> 79 | AE34: =E34-F34 -> 0 | AF34: 79 | AG34: =AD34-AF34 -> 0
A35: Phường Tam Phước | B35: =AB35+AC35 -> 116 | C35: 107 | D35: =E35+X35 -> 107 | E35: =G35+M35+T35 -> 107 | F35: 107 | G35: =IFERROR(IF((H35+I35)=(J35+K35+L35),IF(AND((H35+I35)=0,(J35+K35+L35)>0),"Lỗi",(H35+I35)),"Lỗi"),"Lỗi") -> 0 | H35: 0 | I35: 0 | J35: 0 | K35: 0 | L35: 0 | M35: =IFERROR(IF((N35+O35)=(P35+Q35+R35+S35),IF(AND((N35+O35)=0,(P35+Q35+R35+S35)>0),"Lỗi",(N35+O35)),"Lỗi"),"Lỗi") -> 0 | N35: 0 | O35: 0 | P35: 0 | Q35: 0 | R35: 0 | S35: 0 | T35: =U35+V35+W35 -> 107 | U35: 2 | V35: 90 | W35: 15 | X35: =Y35+Z35 -> 0 | Y35: 0 | Z35: 0 | AA35: 102 | AB35: 9 | AC35: 107 | AD35: =B35-C35+T35-AA35+'03.GQKN'!AA34+'04.GQTC'!AC34 -> 14 | AE35: =E35-F35 -> 0 | AF35: 14 | AG35: =AD35-AF35 -> 0
A36: Phường Long Khánh | B36: =AB36+AC36 -> 226 | C36: 226 | D36: =E36+X36 -> 226 | E36: =G36+M36+T36 -> 191 | F36: 191 | G36: =IFERROR(IF((H36+I36)=(J36+K36+L36),IF(AND((H36+I36)=0,(J36+K36+L36)>0),"Lỗi",(H36+I36)),"Lỗi"),"Lỗi") -> 14 | H36: 14 | I36: 0 | J36: 11 | K36: 0 | L36: 3 | M36: =IFERROR(IF((N36+O36)=(P36+Q36+R36+S36),IF(AND((N36+O36)=0,(P36+Q36+R36+S36)>0),"Lỗi",(N36+O36)),"Lỗi"),"Lỗi") -> 1 | N36: 1 | O36: 0 | P36: 1 | Q36: 0 | R36: 0 | S36: 0 | T36: =U36+V36+W36 -> 176 | U36: 0 | V36: 151 | W36: 25 | X36: =Y36+Z36 -> 35 | Y36: 18 | Z36: 17 | AA36: 128 | AB36: 42 | AC36: 184 | AD36: =B36-C36+T36-AA36+'03.GQKN'!AA35+'04.GQTC'!AC35 -> 49 | AE36: =E36-F36 -> 0 | AF36: 49 | AG36: =AD36-AF36 -> 0
A37: Phường Bình Lộc | B37: =AB37+AC37 -> 77 | C37: 75 | D37: =E37+X37 -> 74 | E37: =G37+M37+T37 -> 69 | F37: 69 | G37: =IFERROR(IF((H37+I37)=(J37+K37+L37),IF(AND((H37+I37)=0,(J37+K37+L37)>0),"Lỗi",(H37+I37)),"Lỗi"),"Lỗi") -> 0 | H37: 0 | I37: 0 | J37: 0 | K37: 0 | L37: 0 | M37: =IFERROR(IF((N37+O37)=(P37+Q37+R37+S37),IF(AND((N37+O37)=0,(P37+Q37+R37+S37)>0),"Lỗi",(N37+O37)),"Lỗi"),"Lỗi") -> 0 | N37: 0 | O37: 0 | P37: 0 | Q37: 0 | R37: 0 | S37: 0 | T37: =U37+V37+W37 -> 69 | U37: 0 | V37: 61 | W37: 8 | X37: =Y37+Z37 -> 5 | Y37: 4 | Z37: 1 | AA37: 69 | AB37: 3 | AC37: 74 | AD37: =B37-C37+T37-AA37+'03.GQKN'!AA36+'04.GQTC'!AC36 -> 2 | AE37: =E37-F37 -> 0 | AF37: 2 | AG37: =AD37-AF37 -> 0
A38: Phường Bảo Vinh | B38: =AB38+AC38 -> 44 | C38: 44 | D38: =E38+X38 -> 44 | E38: =G38+M38+T38 -> 38 | F38: 38 | G38: =IFERROR(IF((H38+I38)=(J38+K38+L38),IF(AND((H38+I38)=0,(J38+K38+L38)>0),"Lỗi",(H38+I38)),"Lỗi"),"Lỗi") -> 1 | H38: 1 | I38: 0 | J38: 0 | K38: 1 | L38: 0 | M38: =IFERROR(IF((N38+O38)=(P38+Q38+R38+S38),IF(AND((N38+O38)=0,(P38+Q38+R38+S38)>0),"Lỗi",(N38+O38)),"Lỗi"),"Lỗi") -> 2 | N38: 2 | O38: 0 | P38: 2 | Q38: 0 | R38: 0 | S38: 0 | T38: =U38+V38+W38 -> 35 | U38: 0 | V38: 29 | W38: 6 | X38: =Y38+Z38 -> 6 | Y38: 6 | Z38: 0 | AA38: 32 | AB38: 1 | AC38: 43 | AD38: =B38-C38+T38-AA38+'03.GQKN'!AA37+'04.GQTC'!AC37 -> 4 | AE38: =E38-F38 -> 0 | AF38: 4 | AG38: =AD38-AF38 -> 0
A39: Phường Xuân Lập | B39: =AB39+AC39 -> 37 | C39: 37 | D39: =E39+X39 -> 37 | E39: =G39+M39+T39 -> 37 | F39: 37 | G39: =IFERROR(IF((H39+I39)=(J39+K39+L39),IF(AND((H39+I39)=0,(J39+K39+L39)>0),"Lỗi",(H39+I39)),"Lỗi"),"Lỗi") -> 0 | H39: 0 | I39: 0 | J39: 0 | K39: 0 | L39: 0 | M39: =IFERROR(IF((N39+O39)=(P39+Q39+R39+S39),IF(AND((N39+O39)=0,(P39+Q39+R39+S39)>0),"Lỗi",(N39+O39)),"Lỗi"),"Lỗi") -> 2 | N39: 2 | O39: 0 | P39: 0 | Q39: 0 | R39: 0 | S39: 2 | T39: =U39+V39+W39 -> 35 | U39: 0 | V39: 33 | W39: 2 | X39: =Y39+Z39 -> 0 | Y39: 0 | Z39: 0 | AA39: 30 | AB39: 0 | AC39: 37 | AD39: =B39-C39+T39-AA39+'03.GQKN'!AA38+'04.GQTC'!AC38 -> 5 | AE39: =E39-F39 -> 0 | AF39: 5 | AG39: =AD39-AF39 -> 0
A40: Phường Hàng Gòn | B40: =AB40+AC40 -> 37 | C40: 37 | D40: =E40+X40 -> 37 | E40: =G40+M40+T40 -> 36 | F40: 36 | G40: =IFERROR(IF((H40+I40)=(J40+K40+L40),IF(AND((H40+I40)=0,(J40+K40+L40)>0),"Lỗi",(H40+I40)),"Lỗi"),"Lỗi") -> 0 | H40: 0 | I40: 0 | J40: 0 | K40: 0 | L40: 0 | M40: =IFERROR(IF((N40+O40)=(P40+Q40+R40+S40),IF(AND((N40+O40)=0,(P40+Q40+R40+S40)>0),"Lỗi",(N40+O40)),"Lỗi"),"Lỗi") -> 0 | N40: 0 | O40: 0 | P40: 0 | Q40: 0 | R40: 0 | S40: 0 | T40: =U40+V40+W40 -> 36 | U40: 1 | V40: 27 | W40: 8 | X40: =Y40+Z40 -> 1 | Y40: 1 | Z40: 0 | AA40: 33 | AC40: 37 | AD40: =B40-C40+T40-AA40+'03.GQKN'!AA39+'04.GQTC'!AC39 -> 3 | AE40: =E40-F40 -> 0 | AF40: 3 | AG40: =AD40-AF40 -> 0
A41: Phường Trảng Bom | B41: =AB41+AC41 -> 373 | C41: 373 | D41: =E41+X41 -> 373 | E41: =G41+M41+T41 -> 278 | F41: 278 | G41: =IFERROR(IF((H41+I41)=(J41+K41+L41),IF(AND((H41+I41)=0,(J41+K41+L41)>0),"Lỗi",(H41+I41)),"Lỗi"),"Lỗi") -> 29 | H41: 29 | I41: 0 | J41: 29 | K41: 0 | L41: 0 | M41: =IFERROR(IF((N41+O41)=(P41+Q41+R41+S41),IF(AND((N41+O41)=0,(P41+Q41+R41+S41)>0),"Lỗi",(N41+O41)),"Lỗi"),"Lỗi") -> 3 | N41: 3 | O41: 0 | P41: 0 | Q41: 0 | R41: 0 | S41: 3 | T41: =U41+V41+W41 -> 246 | U41: 2 | V41: 194 | W41: 50 | X41: =Y41+Z41 -> 95 | Y41: 7 | Z41: 88 | AA41: 230 | AB41: 8 | AC41: 365 | AD41: =B41-C41+T41-AA41+'03.GQKN'!AA40+'04.GQTC'!AC40 -> 24 | AE41: =E41-F41 -> 0 | AF41: 24 | AG41: =AD41-AF41 -> 0
A42: Xã An Viễn | B42: =AB42+AC42 -> 164 | C42: 164 | D42: =E42+X42 -> 164 | E42: =G42+M42+T42 -> 164 | F42: 164 | G42: =IFERROR(IF((H42+I42)=(J42+K42+L42),IF(AND((H42+I42)=0,(J42+K42+L42)>0),"Lỗi",(H42+I42)),"Lỗi"),"Lỗi") -> 16 | H42: 16 | I42: 0 | J42: 16 | K42: 0 | L42: 0 | M42: =IFERROR(IF((N42+O42)=(P42+Q42+R42+S42),IF(AND((N42+O42)=0,(P42+Q42+R42+S42)>0),"Lỗi",(N42+O42)),"Lỗi"),"Lỗi") -> 6 | N42: 6 | O42: 0 | P42: 6 | Q42: 0 | R42: 0 | S42: 0 | T42: =U42+V42+W42 -> 142 | U42: 0 | V42: 126 | W42: 16 | X42: =Y42+Z42 -> 0 | Y42: 0 | Z42: 0 | AA42: 112 | AB42: 18 | AC42: 146 | AD42: =B42-C42+T42-AA42+'03.GQKN'!AA41+'04.GQTC'!AC41 -> 33 | AE42: =E42-F42 -> 0 | AF42: 33 | AG42: =AD42-AF42 -> 0
A43: Xã Bình Minh | B43: =AB43+AC43 -> 75 | C43: 75 | D43: =E43+X43 -> 75 | E43: =G43+M43+T43 -> 75 | F43: 75 | G43: =IFERROR(IF((H43+I43)=(J43+K43+L43),IF(AND((H43+I43)=0,(J43+K43+L43)>0),"Lỗi",(H43+I43)),"Lỗi"),"Lỗi") -> 1 | H43: 1 | I43: 0 | J43: 1 | K43: 0 | L43: 0 | M43: =IFERROR(IF((N43+O43)=(P43+Q43+R43+S43),IF(AND((N43+O43)=0,(P43+Q43+R43+S43)>0),"Lỗi",(N43+O43)),"Lỗi"),"Lỗi") -> 0 | N43: 0 | O43: 0 | P43: 0 | Q43: 0 | R43: 0 | S43: 0 | T43: =U43+V43+W43 -> 74 | U43: 24 | V43: 14 | W43: 36 | X43: =Y43+Z43 -> 0 | Y43: 0 | Z43: 0 | AA43: 74 | AB43: 0 | AC43: 75 | AD43: =B43-C43+T43-AA43+'03.GQKN'!AA42+'04.GQTC'!AC42 -> 0 | AE43: =E43-F43 -> 0 | AF43: 0 | AG43: =AD43-AF43 -> 0
A44: Xã Bàu Hàm | B44: =AB44+AC44 -> 63 | C44: 63 | D44: =E44+X44 -> 63 | E44: =G44+M44+T44 -> 63 | F44: 63 | G44: =IFERROR(IF((H44+I44)=(J44+K44+L44),IF(AND((H44+I44)=0,(J44+K44+L44)>0),"Lỗi",(H44+I44)),"Lỗi"),"Lỗi") -> 5 | H44: 5 | I44: 0 | J44: 3 | K44: 0 | L44: 2 | M44: =IFERROR(IF((N44+O44)=(P44+Q44+R44+S44),IF(AND((N44+O44)=0,(P44+Q44+R44+S44)>0),"Lỗi",(N44+O44)),"Lỗi"),"Lỗi") -> 0 | N44: 0 | O44: 0 | P44: 0 | Q44: 0 | R44: 0 | S44: 0 | T44: =U44+V44+W44 -> 58 | U44: 4 | V44: 40 | W44: 14 | X44: =Y44+Z44 -> 0 | Y44: 0 | Z44: 0 | AA44: 52 | AB44: 8 | AC44: 55 | AD44: =B44-C44+T44-AA44+'03.GQKN'!AA43+'04.GQTC'!AC43 -> 6 | AE44: =E44-F44 -> 0 | AF44: 6 | AG44: =AD44-AF44 -> 0
A45: Xã Hưng Thịnh | B45: =AB45+AC45 -> 109 | C45: 109 | D45: =E45+X45 -> 103 | E45: =G45+M45+T45 -> 61 | F45: 61 | G45: =IFERROR(IF((H45+I45)=(J45+K45+L45),IF(AND((H45+I45)=0,(J45+K45+L45)>0),"Lỗi",(H45+I45)),"Lỗi"),"Lỗi") -> 0 | H45: 0 | I45: 0 | J45: 0 | K45: 0 | L45: 0 | M45: =IFERROR(IF((N45+O45)=(P45+Q45+R45+S45),IF(AND((N45+O45)=0,(P45+Q45+R45+S45)>0),"Lỗi",(N45+O45)),"Lỗi"),"Lỗi") -> 1 | N45: 1 | O45: 0 | P45: 0 | Q45: 0 | R45: 0 | S45: 1 | T45: =U45+V45+W45 -> 60 | U45: 3 | V45: 42 | W45: 15 | X45: =Y45+Z45 -> 42 | Y45: 0 | Z45: 42 | AA45: 46 | AB45: 6 | AC45: 103 | AD45: =B45-C45+T45-AA45+'03.GQKN'!AA44+'04.GQTC'!AC44 -> 14 | AE45: =E45-F45 -> 0 | AF45: 14 | AG45: =AD45-AF45 -> 0
A46: Phường Dầu Giây | B46: =AB46+AC46 -> 188 | C46: 186 | D46: =E46+X46 -> 186 | E46: =G46+M46+T46 -> 186 | F46: 186 | G46: =IFERROR(IF((H46+I46)=(J46+K46+L46),IF(AND((H46+I46)=0,(J46+K46+L46)>0),"Lỗi",(H46+I46)),"Lỗi"),"Lỗi") -> 0 | H46: 0 | I46: 0 | J46: 0 | K46: 0 | L46: 0 | M46: =IFERROR(IF((N46+O46)=(P46+Q46+R46+S46),IF(AND((N46+O46)=0,(P46+Q46+R46+S46)>0),"Lỗi",(N46+O46)),"Lỗi"),"Lỗi") -> 0 | N46: 0 | O46: 0 | P46: 0 | Q46: 0 | R46: 0 | S46: 0 | T46: =U46+V46+W46 -> 186 | U46: 186 | V46: 0 | W46: 0 | X46: =Y46+Z46 -> 0 | Y46: 0 | Z46: 0 | AA46: 182 | AB46: 2 | AC46: 186 | AD46: =B46-C46+T46-AA46+'03.GQKN'!AA45+'04.GQTC'!AC45 -> 6 | AE46: =E46-F46 -> 0 | AF46: 6 | AG46: =AD46-AF46 -> 0
A47: Xã Thống Nhất | B47: =AB47+AC47 -> 60 | C47: 60 | D47: =E47+X47 -> 60 | E47: =G47+M47+T47 -> 52 | F47: 52 | G47: =IFERROR(IF((H47+I47)=(J47+K47+L47),IF(AND((H47+I47)=0,(J47+K47+L47)>0),"Lỗi",(H47+I47)),"Lỗi"),"Lỗi") -> 0 | H47: 0 | I47: 0 | J47: 0 | K47: 0 | L47: 0 | M47: =IFERROR(IF((N47+O47)=(P47+Q47+R47+S47),IF(AND((N47+O47)=0,(P47+Q47+R47+S47)>0),"Lỗi",(N47+O47)),"Lỗi"),"Lỗi") -> 0 | N47: 0 | O47: 0 | P47: 0 | Q47: 0 | R47: 0 | S47: 0 | T47: =U47+V47+W47 -> 52 | U47: 0 | V47: 40 | W47: 12 | X47: =Y47+Z47 -> 8 | Y47: 4 | Z47: 4 | AA47: 45 | AB47: 0 | AC47: 60 | AD47: =B47-C47+T47-AA47+'03.GQKN'!AA46+'04.GQTC'!AC46 -> 7 | AE47: =E47-F47 -> 0 | AF47: 7 | AG47: =AD47-AF47 -> 0
A48: Xã Gia Kiệm | B48: =AB48+AC48 -> 32 | C48: 32 | D48: =E48+X48 -> 32 | E48: =G48+M48+T48 -> 30 | F48: 30 | G48: =IFERROR(IF((H48+I48)=(J48+K48+L48),IF(AND((H48+I48)=0,(J48+K48+L48)>0),"Lỗi",(H48+I48)),"Lỗi"),"Lỗi") -> 0 | H48: 0 | I48: 0 | J48: 0 | K48: 0 | L48: 0 | M48: =IFERROR(IF((N48+O48)=(P48+Q48+R48+S48),IF(AND((N48+O48)=0,(P48+Q48+R48+S48)>0),"Lỗi",(N48+O48)),"Lỗi"),"Lỗi") -> 0 | N48: 0 | O48: 0 | P48: 0 | Q48: 0 | R48: 0 | S48: 0 | T48: =U48+V48+W48 -> 30 | U48: 4 | V48: 22 | W48: 4 | X48: =Y48+Z48 -> 2 | Y48: 2 | Z48: 0 | AA48: 30 | AB48: 0 | AC48: 32 | AD48: =B48-C48+T48-AA48+'03.GQKN'!AA47+'04.GQTC'!AC47 -> 0 | AE48: =E48-F48 -> 0 | AF48: 0 | AG48: =AD48-AF48 -> 0
A49: Xã Cẩm Mỹ | B49: =AB49+AC49 -> 112 | C49: 112 | D49: =E49+X49 -> 112 | E49: =G49+M49+T49 -> 98 | F49: 98 | G49: =IFERROR(IF((H49+I49)=(J49+K49+L49),IF(AND((H49+I49)=0,(J49+K49+L49)>0),"Lỗi",(H49+I49)),"Lỗi"),"Lỗi") -> 0 | H49: 0 | I49: 0 | J49: 0 | K49: 0 | L49: 0 | M49: =IFERROR(IF((N49+O49)=(P49+Q49+R49+S49),IF(AND((N49+O49)=0,(P49+Q49+R49+S49)>0),"Lỗi",(N49+O49)),"Lỗi"),"Lỗi") -> 0 | N49: 0 | O49: 0 | P49: 0 | Q49: 0 | R49: 0 | S49: 0 | T49: =U49+V49+W49 -> 98 | U49: 0 | V49: 98 | W49: 0 | X49: =Y49+Z49 -> 14 | Y49: 14 | Z49: 0 | AA49: 89 | AB49: 23 | AC49: 89 | AD49: =B49-C49+T49-AA49+'03.GQKN'!AA48+'04.GQTC'!AC48 -> 9 | AE49: =E49-F49 -> 0 | AF49: 9 | AG49: =AD49-AF49 -> 0
A50: Xã Xuân Quế | B50: =AB50+AC50 -> 46 | C50: 46 | D50: =E50+X50 -> 46 | E50: =G50+M50+T50 -> 44 | F50: 44 | G50: =IFERROR(IF((H50+I50)=(J50+K50+L50),IF(AND((H50+I50)=0,(J50+K50+L50)>0),"Lỗi",(H50+I50)),"Lỗi"),"Lỗi") -> 3 | H50: 3 | I50: 0 | J50: 3 | K50: 0 | L50: 0 | M50: =IFERROR(IF((N50+O50)=(P50+Q50+R50+S50),IF(AND((N50+O50)=0,(P50+Q50+R50+S50)>0),"Lỗi",(N50+O50)),"Lỗi"),"Lỗi") -> 3 | N50: 3 | O50: 0 | P50: 3 | Q50: 0 | R50: 0 | S50: 0 | T50: =U50+V50+W50 -> 38 | U50: 0 | V50: 28 | W50: 10 | X50: =Y50+Z50 -> 2 | Y50: 0 | Z50: 2 | AA50: 19 | AB50: 5 | AC50: 41 | AD50: =B50-C50+T50-AA50+'03.GQKN'!AA49+'04.GQTC'!AC49 -> 24 | AE50: =E50-F50 -> 0 | AF50: 24 | AG50: =AD50-AF50 -> 0
A51: Xã Xuân Đường | B51: =AB51+AC51 -> 125 | C51: 110 | D51: =E51+X51 -> 110 | E51: =G51+M51+T51 -> 103 | F51: 103 | G51: =IFERROR(IF((H51+I51)=(J51+K51+L51),IF(AND((H51+I51)=0,(J51+K51+L51)>0),"Lỗi",(H51+I51)),"Lỗi"),"Lỗi") -> 2 | H51: 2 | I51: 0 | J51: 1 | K51: 1 | L51: 0 | M51: =IFERROR(IF((N51+O51)=(P51+Q51+R51+S51),IF(AND((N51+O51)=0,(P51+Q51+R51+S51)>0),"Lỗi",(N51+O51)),"Lỗi"),"Lỗi") -> 0 | N51: 0 | O51: 0 | P51: 0 | Q51: 0 | R51: 0 | S51: 0 | T51: =U51+V51+W51 -> 101 | U51: 0 | V51: 74 | W51: 27 | X51: =Y51+Z51 -> 7 | Y51: 7 | Z51: 0 | AA51: 64 | AB51: 15 | AC51: 110 | AD51: =B51-C51+T51-AA51+'03.GQKN'!AA50+'04.GQTC'!AC50 -> 52 | AE51: =E51-F51 -> 0 | AF51: 52 | AG51: =AD51-AF51 -> 0
A52: Xã Xuân Đông | B52: =AB52+AC52 -> 68 | C52: 68 | D52: =E52+X52 -> 68 | E52: =G52+M52+T52 -> 68 | F52: 68 | G52: =IFERROR(IF((H52+I52)=(J52+K52+L52),IF(AND((H52+I52)=0,(J52+K52+L52)>0),"Lỗi",(H52+I52)),"Lỗi"),"Lỗi") -> 3 | H52: 3 | I52: 0 | J52: 3 | K52: 0 | L52: 0 | M52: =IFERROR(IF((N52+O52)=(P52+Q52+R52+S52),IF(AND((N52+O52)=0,(P52+Q52+R52+S52)>0),"Lỗi",(N52+O52)),"Lỗi"),"Lỗi") -> 1 | N52: 1 | O52: 0 | P52: 1 | Q52: 0 | R52: 0 | S52: 0 | T52: =U52+V52+W52 -> 64 | U52: 1 | V52: 54 | W52: 9 | X52: =Y52+Z52 -> 0 | Y52: 0 | Z52: 0 | AA52: 58 | AB52: 5 | AC52: 63 | AD52: =B52-C52+T52-AA52+'03.GQKN'!AA51+'04.GQTC'!AC51 -> 6 | AE52: =E52-F52 -> 0 | AF52: 6 | AG52: =AD52-AF52 -> 0
... A55: Xã Xuân Định | B55: =AB55+AC55 -> 30 | C55: 29 | D55: =E55+X55 -> 29 | E55: =G55+M55+T55 -> 29 | F55: 29 | G55: =IFERROR(IF((H55+I55)=(J55+K55+L55),IF(AND((H55+I55)=0,(J55+K55+L55)>0),"Lỗi",(H55+I55)),"Lỗi"),"Lỗi") -> 0 | H55: 0 | I55: 0 | J55: 0 | K55: 0 | L55: 0 | M55: =IFERROR(IF((N55+O55)=(P55+Q55+R55+S55),IF(AND((N55+O55)=0,(P55+Q55+R55+S55)>0),"Lỗi",(N55+O55)),"Lỗi"),"Lỗi") -> 0 | N55: 0 | O55: 0 | P55: 0 | Q55: 0 | R55: 0 | S55: 0 | T55: =U55+V55+W55 -> 29 | U55: 0 | V55: 29 | W55: 0 | X55: =Y55+Z55 -> 0 | Y55: 0 | Z55: 0 | AA55: 30 | AB55: 5 | AC55: 25 | AD55: =B55-C55+T55-AA55+'03.GQKN'!AA54+'04.GQTC'!AC54 -> 0 | AE55: =E55-F55 -> 0 | AF55: 0 | AG55: =AD55-AF55 -> 0
A56: Xã Xuân Phú | B56: =AB56+AC56 -> 0 | D56: =E56+X56 -> 0 | E56: =G56+M56+T56 -> 0 | G56: =IFERROR(IF((H56+I56)=(J56+K56+L56),IF(AND((H56+I56)=0,(J56+K56+L56)>0),"Lỗi",(H56+I56)),"Lỗi"),"Lỗi") -> 0 | M56: =IFERROR(IF((N56+O56)=(P56+Q56+R56+S56),IF(AND((N56+O56)=0,(P56+Q56+R56+S56)>0),"Lỗi",(N56+O56)),"Lỗi"),"Lỗi") -> 0 | T56: =U56+V56+W56 -> 0 | X56: =Y56+Z56 -> 0 | AB56: 0 | AD56: =B56-C56+T56-AA56+'03.GQKN'!AA55+'04.GQTC'!AC55 -> 0 | AE56: =E56-F56 -> 0 | AG56: =AD56-AF56 -> 0
A57: Xã Xuân Hòa | B57: =AB57+AC57 -> 87 | C57: 87 | D57: =E57+X57 -> 87 | E57: =G57+M57+T57 -> 87 | F57: 87 | G57: =IFERROR(IF((H57+I57)=(J57+K57+L57),IF(AND((H57+I57)=0,(J57+K57+L57)>0),"Lỗi",(H57+I57)),"Lỗi"),"Lỗi") -> 0 | H57: 0 | I57: 0 | J57: 0 | K57: 0 | L57: 0 | M57: =IFERROR(IF((N57+O57)=(P57+Q57+R57+S57),IF(AND((N57+O57)=0,(P57+Q57+R57+S57)>0),"Lỗi",(N57+O57)),"Lỗi"),"Lỗi") -> 0 | N57: 0 | O57: 0 | P57: 0 | Q57: 0 | R57: 0 | S57: 0 | T57: =U57+V57+W57 -> 87 | U57: 0 | V57: 87 | W57: 0 | X57: =Y57+Z57 -> 0 | Y57: 0 | Z57: 0 | AA57: 86 | AC57: 87 | AD57: =B57-C57+T57-AA57+'03.GQKN'!AA56+'04.GQTC'!AC56 -> 1 | AE57: =E57-F57 -> 0 | AF57: 1 | AG57: =AD57-AF57 -> 0
A58: Xã Xuân Thành | B58: =AB58+AC58 -> 9 | C58: 9 | D58: =E58+X58 -> 9 | E58: =G58+M58+T58 -> 9 | F58: 9 | G58: =IFERROR(IF((H58+I58)=(J58+K58+L58),IF(AND((H58+I58)=0,(J58+K58+L58)>0),"Lỗi",(H58+I58)),"Lỗi"),"Lỗi") -> 1 | H58: 1 | I58: 0 | J58: 1 | K58: 0 | L58: 0 | M58: =IFERROR(IF((N58+O58)=(P58+Q58+R58+S58),IF(AND((N58+O58)=0,(P58+Q58+R58+S58)>0),"Lỗi",(N58+O58)),"Lỗi"),"Lỗi") -> 0 | N58: 0 | O58: 0 | P58: 0 | Q58: 0 | R58: 0 | S58: 0 | T58: =U58+V58+W58 -> 8 | U58: 0 | V58: 8 | W58: 0 | X58: =Y58+Z58 -> 0 | Y58: 0 | Z58: 0 | AA58: 7 | AB58: 2 | AC58: 7 | AD58: =B58-C58+T58-AA58+'03.GQKN'!AA57+'04.GQTC'!AC57 -> 1 | AE58: =E58-F58 -> 0 | AF58: 1 | AG58: =AD58-AF58 -> 0
A59: Xã Xuân Bắc | B59: =AB59+AC59 -> 36 | C59: 36 | D59: =E59+X59 -> 36 | E59: =G59+M59+T59 -> 36 | F59: 36 | G59: =IFERROR(IF((H59+I59)=(J59+K59+L59),IF(AND((H59+I59)=0,(J59+K59+L59)>0),"Lỗi",(H59+I59)),"Lỗi"),"Lỗi") -> 2 | H59: 2 | I59: 0 | J59: 2 | K59: 0 | L59: 0 | M59: =IFERROR(IF((N59+O59)=(P59+Q59+R59+S59),IF(AND((N59+O59)=0,(P59+Q59+R59+S59)>0),"Lỗi",(N59+O59)),"Lỗi"),"Lỗi") -> 0 | N59: 0 | O59: 0 | P59: 0 | Q59: 0 | R59: 0 | S59: 0 | T59: =U59+V59+W59 -> 34 | U59: 1 | V59: 32 | W59: 1 | X59: =Y59+Z59 -> 0 | Y59: 0 | Z59: 0 | AA59: 30 | AC59: 36 | AD59: =B59-C59+T59-AA59+'03.GQKN'!AA58+'04.GQTC'!AC58 -> 4 | AE59: =E59-F59 -> 0 | AF59: 4 | AG59: =AD59-AF59 -> 0
A60: Phường Nhơn Trạch | B60: =AB60+AC60 -> 997 | C60: 624 | D60: =E60+X60 -> 553 | E60: =G60+M60+T60 -> 496 | F60: 496 | G60: =IFERROR(IF((H60+I60)=(J60+K60+L60),IF(AND((H60+I60)=0,(J60+K60+L60)>0),"Lỗi",(H60+I60)),"Lỗi"),"Lỗi") -> 23 | H60: 23 | I60: 0 | J60: 23 | K60: 0 | L60: 0 | M60: =IFERROR(IF((N60+O60)=(P60+Q60+R60+S60),IF(AND((N60+O60)=0,(P60+Q60+R60+S60)>0),"Lỗi",(N60+O60)),"Lỗi"),"Lỗi") -> 0 | N60: 0 | O60: 0 | P60: 0 | Q60: 0 | R60: 0 | S60: 0 | T60: =U60+V60+W60 -> 473 | U60: 0 | V60: 473 | W60: 0 | X60: =Y60+Z60 -> 57 | Y60: 0 | Z60: 57 | AA60: 613 | AB60: 373 | AC60: 624 | AD60: =B60-C60+T60-AA60+'03.GQKN'!AA59+'04.GQTC'!AC59 -> 241 | AE60: =E60-F60 -> 0 | AF60: 241 | AG60: =AD60-AF60 -> 0
A61: Xã Đại Phước | B61: =AB61+AC61 -> 528 | C61: 292 | D61: =E61+X61 -> 292 | E61: =G61+M61+T61 -> 276 | F61: 276 | G61: =IFERROR(IF((H61+I61)=(J61+K61+L61),IF(AND((H61+I61)=0,(J61+K61+L61)>0),"Lỗi",(H61+I61)),"Lỗi"),"Lỗi") -> 8 | H61: 8 | I61: 0 | J61: 8 | K61: 0 | L61: 0 | M61: =IFERROR(IF((N61+O61)=(P61+Q61+R61+S61),IF(AND((N61+O61)=0,(P61+Q61+R61+S61)>0),"Lỗi",(N61+O61)),"Lỗi"),"Lỗi") -> 0 | N61: 0 | O61: 0 | P61: 0 | Q61: 0 | R61: 0 | S61: 0 | T61: =U61+V61+W61 -> 268 | U61: 1 | V61: 265 | W61: 2 | X61: =Y61+Z61 -> 16 | Y61: 0 | Z61: 16 | AA61: 319 | AB61: 236 | AC61: 292 | AD61: =B61-C61+T61-AA61+'03.GQKN'!AA60+'04.GQTC'!AC60 -> 185 | AE61: =E61-F61 -> 0 | AF61: 185 | AG61: =AD61-AF61 -> 0
A62: Xã Phước An | B62: =AB62+AC62 -> 495 | C62: 283 | D62: =E62+X62 -> 283 | E62: =G62+M62+T62 -> 241 | F62: 241 | G62: =IFERROR(IF((H62+I62)=(J62+K62+L62),IF(AND((H62+I62)=0,(J62+K62+L62)>0),"Lỗi",(H62+I62)),"Lỗi"),"Lỗi") -> 18 | H62: 18 | I62: 0 | J62: 8 | K62: 10 | L62: 0 | M62: =IFERROR(IF((N62+O62)=(P62+Q62+R62+S62),IF(AND((N62+O62)=0,(P62+Q62+R62+S62)>0),"Lỗi",(N62+O62)),"Lỗi"),"Lỗi") -> 1 | N62: 1 | O62: 0 | P62: 1 | Q62: 0 | R62: 0 | S62: 0 | T62: =U62+V62+W62 -> 222 | U62: 15 | V62: 150 | W62: 57 | X62: =Y62+Z62 -> 42 | Y62: 10 | Z62: 32 | AA62: 262 | AB62: 212 | AC62: 283 | AD62: =B62-C62+T62-AA62+'03.GQKN'!AA61+'04.GQTC'!AC61 -> 178 | AE62: =E62-F62 -> 0 | AF62: 178 | AG62: =AD62-AF62 -> 0
A63: Phường Long Thành | B63: =AB63+AC63 -> 477 | C63: 477 | D63: =E63+X63 -> 477 | E63: =G63+M63+T63 -> 477 | F63: 477 | G63: =IFERROR(IF((H63+I63)=(J63+K63+L63),IF(AND((H63+I63)=0,(J63+K63+L63)>0),"Lỗi",(H63+I63)),"Lỗi"),"Lỗi") -> 44 | H63: 44 | I63: 0 | J63: 5 | K63: 37 | L63: 2 | M63: =IFERROR(IF((N63+O63)=(P63+Q63+R63+S63),IF(AND((N63+O63)=0,(P63+Q63+R63+S63)>0),"Lỗi",(N63+O63)),"Lỗi"),"Lỗi") -> 0 | N63: 0 | O63: 0 | P63: 0 | Q63: 0 | R63: 0 | S63: 0 | T63: =U63+V63+W63 -> 433 | U63: 291 | V63: 98 | W63: 44 | X63: =Y63+Z63 -> 0 | Y63: 0 | Z63: 0 | AA63: 260 | AC63: 477 | AD63: =B63-C63+T63-AA63+'03.GQKN'!AA62+'04.GQTC'!AC62 -> 202 | AE63: =E63-F63 -> 0 | AF63: 202 | AG63: =AD63-AF63 -> 0
A64: Xã Phước Thái | B64: =AB64+AC64 -> 233 | C64: 201 | D64: =E64+X64 -> 201 | E64: =G64+M64+T64 -> 201 | F64: 201 | G64: =IFERROR(IF((H64+I64)=(J64+K64+L64),IF(AND((H64+I64)=0,(J64+K64+L64)>0),"Lỗi",(H64+I64)),"Lỗi"),"Lỗi") -> 10 | H64: 10 | I64: 0 | J64: 10 | K64: 0 | L64: 0 | M64: =IFERROR(IF((N64+O64)=(P64+Q64+R64+S64),IF(AND((N64+O64)=0,(P64+Q64+R64+S64)>0),"Lỗi",(N64+O64)),"Lỗi"),"Lỗi") -> 1 | N64: 1 | O64: 0 | P64: 0 | Q64: 0 | R64: 0 | S64: 1 | T64: =U64+V64+W64 -> 190 | U64: 0 | V64: 190 | W64: 0 | X64: =Y64+Z64 -> 0 | Y64: 0 | Z64: 0 | AA64: 31 | AC64: 233 | AD64: =B64-C64+T64-AA64+'03.GQKN'!AA63+'04.GQTC'!AC63 -> 199 | AE64: =E64-F64 -> 0 | AF64: 199 | AG64: =AD64-AF64 -> 0
A65: Xã Long Phước | B65: =AB65+AC65 -> 332 | C65: 332 | D65: =E65+X65 -> 332 | E65: =G65+M65+T65 -> 232 | F65: 232 | G65: =IFERROR(IF((H65+I65)=(J65+K65+L65),IF(AND((H65+I65)=0,(J65+K65+L65)>0),"Lỗi",(H65+I65)),"Lỗi"),"Lỗi") -> 18 | H65: 18 | I65: 0 | J65: 18 | K65: 0 | L65: 0 | M65: =IFERROR(IF((N65+O65)=(P65+Q65+R65+S65),IF(AND((N65+O65)=0,(P65+Q65+R65+S65)>0),"Lỗi",(N65+O65)),"Lỗi"),"Lỗi") -> 2 | N65: 2 | O65: 0 | P65: 2 | Q65: 0 | R65: 0 | S65: 0 | T65: =U65+V65+W65 -> 212 | U65: 0 | V65: 134 | W65: 78 | X65: =Y65+Z65 -> 100 | Y65: 29 | Z65: 71 | AA65: 150 | AB65: 12 | AC65: 320 | AD65: =B65-C65+T65-AA65+'03.GQKN'!AA64+'04.GQTC'!AC64 -> 71 | AE65: =E65-F65 -> 0 | AF65: 71 | AG65: =AD65-AF65 -> 0
A66: Xã Bình An | B66: =AB66+AC66 -> 179 | C66: 179 | D66: =E66+X66 -> 179 | E66: =G66+M66+T66 -> 179 | F66: 179 | G66: =IFERROR(IF((H66+I66)=(J66+K66+L66),IF(AND((H66+I66)=0,(J66+K66+L66)>0),"Lỗi",(H66+I66)),"Lỗi"),"Lỗi") -> 14 | H66: 14 | I66: 0 | J66: 14 | K66: 0 | L66: 0 | M66: =IFERROR(IF((N66+O66)=(P66+Q66+R66+S66),IF(AND((N66+O66)=0,(P66+Q66+R66+S66)>0),"Lỗi",(N66+O66)),"Lỗi"),"Lỗi") -> 14 | N66: 14 | O66: 0 | P66: 14 | Q66: 0 | R66: 0 | S66: 0 | T66: =U66+V66+W66 -> 151 | U66: 15 | V66: 130 | W66: 6 | X66: =Y66+Z66 -> 0 | Y66: 0 | Z66: 0 | AA66: 111 | AB66: 51 | AC66: 128 | AD66: =B66-C66+T66-AA66+'03.GQKN'!AA65+'04.GQTC'!AC65 -> 42 | AE66: =E66-F66 -> 0 | AF66: 42 | AG66: =AD66-AF66 -> 0
A67: Xã An Phước | B67: =AB67+AC67 -> 333 | C67: 333 | D67: =E67+X67 -> 333 | E67: =G67+M67+T67 -> 296 | F67: 296 | G67: =IFERROR(IF((H67+I67)=(J67+K67+L67),IF(AND((H67+I67)=0,(J67+K67+L67)>0),"Lỗi",(H67+I67)),"Lỗi"),"Lỗi") -> 14 | H67: 14 | I67: 0 | J67: 14 | K67: 0 | L67: 0 | M67: =IFERROR(IF((N67+O67)=(P67+Q67+R67+S67),IF(AND((N67+O67)=0,(P67+Q67+R67+S67)>0),"Lỗi",(N67+O67)),"Lỗi"),"Lỗi") -> 1 | N67: 1 | O67: 0 | P67: 0 | Q67: 0 | R67: 0 | S67: 1 | T67: =U67+V67+W67 -> 281 | U67: 0 | V67: 281 | W67: 0 | X67: =Y67+Z67 -> 37 | Y67: 37 | Z67: 0 | AA67: 221 | AB67: 23 | AC67: 310 | AD67: =B67-C67+T67-AA67+'03.GQKN'!AA66+'04.GQTC'!AC66 -> 68 | AE67: =E67-F67 -> 0 | AF67: 68 | AG67: =AD67-AF67 -> 0
A68: Xã Định Quán | B68: =AB68+AC68 -> 226 | C68: 226 | D68: =E68+X68 -> 226 | E68: =G68+M68+T68 -> 215 | F68: 215 | G68: =IFERROR(IF((H68+I68)=(J68+K68+L68),IF(AND((H68+I68)=0,(J68+K68+L68)>0),"Lỗi",(H68+I68)),"Lỗi"),"Lỗi") -> 31 | H68: 31 | I68: 0 | J68: 28 | K68: 0 | L68: 3 | M68: =IFERROR(IF((N68+O68)=(P68+Q68+R68+S68),IF(AND((N68+O68)=0,(P68+Q68+R68+S68)>0),"Lỗi",(N68+O68)),"Lỗi"),"Lỗi") -> 1 | N68: 1 | O68: 0 | P68: 0 | Q68: 0 | R68: 0 | S68: 1 | T68: =U68+V68+W68 -> 183 | U68: 0 | V68: 102 | W68: 81 | X68: =Y68+Z68 -> 11 | Y68: 1 | Z68: 10 | AA68: 174 | AB68: 7 | AC68: 219 | AD68: =B68-C68+T68-AA68+'03.GQKN'!AA67+'04.GQTC'!AC67 -> 9 | AE68: =E68-F68 -> 0 | AF68: 9 | AG68: =AD68-AF68 -> 0
A69: Xã La Ngà | B69: =AB69+AC69 -> 45 | C69: 45 | D69: =E69+X69 -> 45 | E69: =G69+M69+T69 -> 45 | F69: 45 | G69: =IFERROR(IF((H69+I69)=(J69+K69+L69),IF(AND((H69+I69)=0,(J69+K69+L69)>0),"Lỗi",(H69+I69)),"Lỗi"),"Lỗi") -> 0 | H69: 0 | I69: 0 | J69: 0 | K69: 0 | L69: 0 | M69: =IFERROR(IF((N69+O69)=(P69+Q69+R69+S69),IF(AND((N69+O69)=0,(P69+Q69+R69+S69)>0),"Lỗi",(N69+O69)),"Lỗi"),"Lỗi") -> 1 | N69: 1 | O69: 0 | P69: 1 | Q69: 0 | R69: 0 | S69: 0 | T69: =U69+V69+W69 -> 44 | U69: 0 | V69: 26 | W69: 18 | X69: =Y69+Z69 -> 0 | Y69: 0 | Z69: 0 | AA69: 41 | AB69: 0 | AC69: 45 | AD69: =B69-C69+T69-AA69+'03.GQKN'!AA68+'04.GQTC'!AC68 -> 3 | AE69: =E69-F69 -> 0 | AF69: 3 | AG69: =AD69-AF69 -> 0
A70: Xã Thanh Sơn | B70: =AB70+AC70 -> 32 | C70: 32 | D70: =E70+X70 -> 32 | E70: =G70+M70+T70 -> 32 | F70: 32 | G70: =IFERROR(IF((H70+I70)=(J70+K70+L70),IF(AND((H70+I70)=0,(J70+K70+L70)>0),"Lỗi",(H70+I70)),"Lỗi"),"Lỗi") -> 0 | H70: 0 | I70: 0 | J70: 0 | K70: 0 | L70: 0 | M70: =IFERROR(IF((N70+O70)=(P70+Q70+R70+S70),IF(AND((N70+O70)=0,(P70+Q70+R70+S70)>0),"Lỗi",(N70+O70)),"Lỗi"),"Lỗi") -> 0 | N70: 0 | O70: 0 | P70: 0 | Q70: 0 | R70: 0 | S70: 0 | T70: =U70+V70+W70 -> 32 | U70: 0 | V70: 27 | W70: 5 | X70: =Y70+Z70 -> 0 | Y70: 0 | Z70: 0 | AA70: 32 | AB70: 0 | AC70: 32 | AD70: =B70-C70+T70-AA70+'03.GQKN'!AA69+'04.GQTC'!AC69 -> 0 | AE70: =E70-F70 -> 0 | AF70: 0 | AG70: =AD70-AF70 -> 0
A71: Xã Phú Vinh | B71: =AB71+AC71 -> 12 | C71: 12 | D71: =E71+X71 -> 12 | E71: =G71+M71+T71 -> 12 | F71: 12 | G71: =IFERROR(IF((H71+I71)=(J71+K71+L71),IF(AND((H71+I71)=0,(J71+K71+L71)>0),"Lỗi",(H71+I71)),"Lỗi"),"Lỗi") -> 0 | H71: 0 | I71: 0 | J71: 0 | K71: 0 | L71: 0 | M71: =IFERROR(IF((N71+O71)=(P71+Q71+R71+S71),IF(AND((N71+O71)=0,(P71+Q71+R71+S71)>0),"Lỗi",(N71+O71)),"Lỗi"),"Lỗi") -> 0 | N71: 0 | O71: 0 | P71: 0 | Q71: 0 | R71: 0 | S71: 0 | T71: =U71+V71+W71 -> 12 | U71: 0 | V71: 12 | W71: 0 | X71: =Y71+Z71 -> 0 | Y71: 0 | Z71: 0 | AA71: 12 | AB71: 0 | AC71: 12 | AD71: =B71-C71+T71-AA71+'03.GQKN'!AA70+'04.GQTC'!AC70 -> 0 | AE71: =E71-F71 -> 0 | AF71: 0 | AG71: =AD71-AF71 -> 0
A72: Xã Phú Hòa | B72: =AB72+AC72 -> 59 | C72: 59 | D72: =E72+X72 -> 59 | E72: =G72+M72+T72 -> 56 | F72: 56 | G72: =IFERROR(IF((H72+I72)=(J72+K72+L72),IF(AND((H72+I72)=0,(J72+K72+L72)>0),"Lỗi",(H72+I72)),"Lỗi"),"Lỗi") -> 3 | H72: 3 | I72: 0 | J72: 0 | K72: 1 | L72: 2 | M72: =IFERROR(IF((N72+O72)=(P72+Q72+R72+S72),IF(AND((N72+O72)=0,(P72+Q72+R72+S72)>0),"Lỗi",(N72+O72)),"Lỗi"),"Lỗi") -> 0 | N72: 0 | O72: 0 | P72: 0 | Q72: 0 | R72: 0 | S72: 0 | T72: =U72+V72+W72 -> 53 | U72: 3 | V72: 43 | W72: 7 | X72: =Y72+Z72 -> 3 | Y72: 3 | Z72: 0 | AA72: 45 | AB72: 3 | AC72: 56 | AD72: =B72-C72+T72-AA72+'03.GQKN'!AA71+'04.GQTC'!AC71 -> 8 | AE72: =E72-F72 -> 0 | AF72: 8 | AG72: =AD72-AF72 -> 0
A73: Phường Tân Phú | B73: =AB73+AC73 -> 89 | C73: 41 | D73: =E73+X73 -> 41 | E73: =G73+M73+T73 -> 41 | F73: 41 | G73: =IFERROR(IF((H73+I73)=(J73+K73+L73),IF(AND((H73+I73)=0,(J73+K73+L73)>0),"Lỗi",(H73+I73)),"Lỗi"),"Lỗi") -> 0 | H73: 0 | I73: 0 | J73: 0 | K73: 0 | L73: 0 | M73: =IFERROR(IF((N73+O73)=(P73+Q73+R73+S73),IF(AND((N73+O73)=0,(P73+Q73+R73+S73)>0),"Lỗi",(N73+O73)),"Lỗi"),"Lỗi") -> 0 | N73: 0 | O73: 0 | P73: 0 | Q73: 0 | R73: 0 | S73: 0 | T73: =U73+V73+W73 -> 41 | U73: 0 | V73: 41 | W73: 0 | X73: =Y73+Z73 -> 0 | Y73: 0 | Z73: 0 | AA73: 60 | AB73: 46 | AC73: 43 | AD73: =B73-C73+T73-AA73+'03.GQKN'!AA72+'04.GQTC'!AC72 -> 29 | AE73: =E73-F73 -> 0 | AF73: 29 | AG73: =AD73-AF73 -> 0
A74: Xã Tà Lài | B74: =AB74+AC74 -> 25 | C74: 25 | D74: =E74+X74 -> 25 | E74: =G74+M74+T74 -> 22 | F74: 22 | G74: =IFERROR(IF((H74+I74)=(J74+K74+L74),IF(AND((H74+I74)=0,(J74+K74+L74)>0),"Lỗi",(H74+I74)),"Lỗi"),"Lỗi") -> 1 | H74: 1 | I74: 0 | J74: 0 | K74: 0 | L74: 1 | M74: =IFERROR(IF((N74+O74)=(P74+Q74+R74+S74),IF(AND((N74+O74)=0,(P74+Q74+R74+S74)>0),"Lỗi",(N74+O74)),"Lỗi"),"Lỗi") -> 0 | N74: 0 | O74: 0 | P74: 0 | Q74: 0 | R74: 0 | S74: 0 | T74: =U74+V74+W74 -> 21 | U74: 0 | V74: 11 | W74: 10 | X74: =Y74+Z74 -> 3 | Y74: 3 | Z74: 0 | AA74: 16 | AB74: 4 | AC74: 21 | AD74: =B74-C74+T74-AA74+'03.GQKN'!AA73+'04.GQTC'!AC73 -> 5 | AE74: =E74-F74 -> 0 | AF74: 5 | AG74: =AD74-AF74 -> 0
A75: Xã Nam Cát Tiên | B75: =AB75+AC75 -> 20 | C75: 20 | D75: =E75+X75 -> 20 | E75: =G75+M75+T75 -> 20 | F75: 20 | G75: =IFERROR(IF((H75+I75)=(J75+K75+L75),IF(AND((H75+I75)=0,(J75+K75+L75)>0),"Lỗi",(H75+I75)),"Lỗi"),"Lỗi") -> 0 | H75: 0 | I75: 0 | J75: 0 | K75: 0 | L75: 0 | M75: =IFERROR(IF((N75+O75)=(P75+Q75+R75+S75),IF(AND((N75+O75)=0,(P75+Q75+R75+S75)>0),"Lỗi",(N75+O75)),"Lỗi"),"Lỗi") -> 0 | N75: 0 | O75: 0 | P75: 0 | Q75: 0 | R75: 0 | S75: 0 | T75: =U75+V75+W75 -> 20 | U75: 0 | V75: 18 | W75: 2 | X75: =Y75+Z75 -> 0 | Y75: 0 | Z75: 0 | AA75: 0 | AB75: 0 | AC75: 20 | AD75: =B75-C75+T75-AA75+'03.GQKN'!AA74+'04.GQTC'!AC74 -> 20 | AE75: =E75-F75 -> 0 | AF75: 20 | AG75: =AD75-AF75 -> 0
A76: Xã Phú Lâm | B76: =AB76+AC76 -> 124 | C76: 124 | D76: =E76+X76 -> 124 | E76: =G76+M76+T76 -> 124 | F76: 124 | G76: =IFERROR(IF((H76+I76)=(J76+K76+L76),IF(AND((H76+I76)=0,(J76+K76+L76)>0),"Lỗi",(H76+I76)),"Lỗi"),"Lỗi") -> 0 | H76: 0 | I76: 0 | J76: 0 | K76: 0 | L76: 0 | M76: =IFERROR(IF((N76+O76)=(P76+Q76+R76+S76),IF(AND((N76+O76)=0,(P76+Q76+R76+S76)>0),"Lỗi",(N76+O76)),"Lỗi"),"Lỗi") -> 0 | N76: 0 | O76: 0 | P76: 0 | Q76: 0 | R76: 0 | S76: 0 | T76: =U76+V76+W76 -> 124 | U76: 124 | V76: 0 | W76: 0 | X76: =Y76+Z76 -> 0 | Y76: 0 | Z76: 0 | AA76: 124 | AC76: 124 | AD76: =B76-C76+T76-AA76+'03.GQKN'!AA75+'04.GQTC'!AC75 -> 0 | AE76: =E76-F76 -> 0 | AF76: 0 | AG76: =AD76-AF76 -> 0
A77: Xã Đak Lua | B77: =AB77+AC77 -> 15 | C77: 15 | D77: =E77+X77 -> 15 | E77: =G77+M77+T77 -> 15 | F77: 15 | G77: =IFERROR(IF((H77+I77)=(J77+K77+L77),IF(AND((H77+I77)=0,(J77+K77+L77)>0),"Lỗi",(H77+I77)),"Lỗi"),"Lỗi") -> 0 | H77: 0 | I77: 0 | J77: 0 | K77: 0 | L77: 0 | M77: =IFERROR(IF((N77+O77)=(P77+Q77+R77+S77),IF(AND((N77+O77)=0,(P77+Q77+R77+S77)>0),"Lỗi",(N77+O77)),"Lỗi"),"Lỗi") -> 1 | N77: 1 | O77: 0 | P77: 0 | Q77: 0 | R77: 0 | S77: 1 | T77: =U77+V77+W77 -> 14 | U77: 0 | V77: 14 | W77: 0 | X77: =Y77+Z77 -> 0 | Y77: 0 | Z77: 0 | AA77: 14 | AC77: 15 | AD77: =B77-C77+T77-AA77+'03.GQKN'!AA76+'04.GQTC'!AC76 -> 0 | AE77: =E77-F77 -> 0 | AF77: 0 | AG77: =AD77-AF77 -> 0
A78: Phường Trị An | B78: =AB78+AC78 -> 197 | C78: 197 | D78: =E78+X78 -> 197 | E78: =G78+M78+T78 -> 185 | F78: 185 | G78: =IFERROR(IF((H78+I78)=(J78+K78+L78),IF(AND((H78+I78)=0,(J78+K78+L78)>0),"Lỗi",(H78+I78)),"Lỗi"),"Lỗi") -> 16 | H78: 16 | I78: 0 | J78: 13 | K78: 2 | L78: 1 | M78: =IFERROR(IF((N78+O78)=(P78+Q78+R78+S78),IF(AND((N78+O78)=0,(P78+Q78+R78+S78)>0),"Lỗi",(N78+O78)),"Lỗi"),"Lỗi") -> 1 | N78: 1 | O78: 0 | P78: 1 | Q78: 0 | R78: 0 | S78: 0 | T78: =U78+V78+W78 -> 168 | U78: 5 | V78: 142 | W78: 21 | X78: =Y78+Z78 -> 12 | Y78: 5 | Z78: 7 | AA78: 87 | AB78: 122 | AC78: 75 | AD78: =B78-C78+T78-AA78+'03.GQKN'!AA77+'04.GQTC'!AC77 -> 82 | AE78: =E78-F78 -> 0 | AF78: 82 | AG78: =AD78-AF78 -> 0
A79: Phường Tân Triều | B79: =AB79+AC79 -> 235 | C79: 235 | D79: =E79+X79 -> 235 | E79: =G79+M79+T79 -> 235 | F79: 235 | G79: =IFERROR(IF((H79+I79)=(J79+K79+L79),IF(AND((H79+I79)=0,(J79+K79+L79)>0),"Lỗi",(H79+I79)),"Lỗi"),"Lỗi") -> 5 | H79: 5 | I79: 0 | J79: 5 | K79: 0 | L79: 0 | M79: =IFERROR(IF((N79+O79)=(P79+Q79+R79+S79),IF(AND((N79+O79)=0,(P79+Q79+R79+S79)>0),"Lỗi",(N79+O79)),"Lỗi"),"Lỗi") -> 1 | N79: 1 | O79: 0 | P79: 0 | Q79: 0 | R79: 0 | S79: 1 | T79: =U79+V79+W79 -> 229 | U79: 2 | V79: 227 | W79: 0 | X79: =Y79+Z79 -> 0 | Y79: 0 | Z79: 0 | AA79: 186 | AB79: 72 | AC79: 163 | AD79: =B79-C79+T79-AA79+'03.GQKN'!AA78+'04.GQTC'!AC78 -> 44 | AE79: =E79-F79 -> 0 | AF79: 44 | AG79: =AD79-AF79 -> 0
A80: Xã Tân An | B80: =AB80+AC80 -> 93 | C80: 93 | D80: =E80+X80 -> 93 | E80: =G80+M80+T80 -> 93 | F80: 93 | G80: =IFERROR(IF((H80+I80)=(J80+K80+L80),IF(AND((H80+I80)=0,(J80+K80+L80)>0),"Lỗi",(H80+I80)),"Lỗi"),"Lỗi") -> 7 | H80: 7 | I80: 0 | J80: 7 | K80: 0 | L80: 0 | M80: =IFERROR(IF((N80+O80)=(P80+Q80+R80+S80),IF(AND((N80+O80)=0,(P80+Q80+R80+S80)>0),"Lỗi",(N80+O80)),"Lỗi"),"Lỗi") -> 0 | N80: 0 | O80: 0 | P80: 0 | Q80: 0 | R80: 0 | S80: 0 | T80: =U80+V80+W80 -> 86 | U80: 86 | V80: 0 | W80: 0 | X80: =Y80+Z80 -> 0 | Y80: 0 | Z80: 0 | AA80: 81 | AB80: 7 | AC80: 86 | AD80: =B80-C80+T80-AA80+'03.GQKN'!AA79+'04.GQTC'!AC79 -> 9 | AE80: =E80-F80 -> 0 | AF80: 9 | AG80: =AD80-AF80 -> 0
A81: Xã Phú Lý | B81: =AB81+AC81 -> 20 | C81: 20 | D81: =E81+X81 -> 20 | E81: =G81+M81+T81 -> 20 | F81: 20 | G81: =IFERROR(IF((H81+I81)=(J81+K81+L81),IF(AND((H81+I81)=0,(J81+K81+L81)>0),"Lỗi",(H81+I81)),"Lỗi"),"Lỗi") -> 1 | H81: 1 | I81: 0 | J81: 1 | K81: 0 | L81: 0 | M81: =IFERROR(IF((N81+O81)=(P81+Q81+R81+S81),IF(AND((N81+O81)=0,(P81+Q81+R81+S81)>0),"Lỗi",(N81+O81)),"Lỗi"),"Lỗi") -> 2 | N81: 2 | O81: 0 | P81: 0 | Q81: 2 | R81: 0 | S81: 0 | T81: =U81+V81+W81 -> 17 | U81: 1 | V81: 9 | W81: 7 | X81: =Y81+Z81 -> 0 | Y81: 0 | Z81: 0 | AA81: 13 | AB81: 0 | AC81: 20 | AD81: =B81-C81+T81-AA81+'03.GQKN'!AA80+'04.GQTC'!AC80 -> 4 | AE81: =E81-F81 -> 0 | AF81: 4 | AG81: =AD81-AF81 -> 0
A82: Phường Bình Phước | B82: =AB82+AC82 -> 475 | C82: 475 | D82: =E82+X82 -> 475 | E82: =G82+M82+T82 -> 468 | F82: 468 | G82: =IFERROR(IF((H82+I82)=(J82+K82+L82),IF(AND((H82+I82)=0,(J82+K82+L82)>0),"Lỗi",(H82+I82)),"Lỗi"),"Lỗi") -> 222 | H82: 222 | I82: 0 | J82: 208 | K82: 0 | L82: 14 | M82: =IFERROR(IF((N82+O82)=(P82+Q82+R82+S82),IF(AND((N82+O82)=0,(P82+Q82+R82+S82)>0),"Lỗi",(N82+O82)),"Lỗi"),"Lỗi") -> 0 | N82: 0 | O82: 0 | P82: 0 | Q82: 0 | R82: 0 | S82: 0 | T82: =U82+V82+W82 -> 246 | U82: 8 | V82: 225 | W82: 13 | X82: =Y82+Z82 -> 7 | Y82: 3 | Z82: 4 | AA82: 177 | AB82: 70 | AC82: 405 | AD82: =B82-C82+T82-AA82+'03.GQKN'!AA81+'04.GQTC'!AC81 -> 88 | AE82: =E82-F82 -> 0 | AF82: 88 | AG82: =AD82-AF82 -> 0
A83: Phường Phước Bình | B83: =AB83+AC83 -> 41 | C83: 41 | D83: =E83+X83 -> 41 | E83: =G83+M83+T83 -> 40 | F83: 40 | G83: =IFERROR(IF((H83+I83)=(J83+K83+L83),IF(AND((H83+I83)=0,(J83+K83+L83)>0),"Lỗi",(H83+I83)),"Lỗi"),"Lỗi") -> 0 | H83: 0 | I83: 0 | J83: 0 | K83: 0 | L83: 0 | M83: =IFERROR(IF((N83+O83)=(P83+Q83+R83+S83),IF(AND((N83+O83)=0,(P83+Q83+R83+S83)>0),"Lỗi",(N83+O83)),"Lỗi"),"Lỗi") -> 3 | N83: 3 | O83: 0 | P83: 0 | Q83: 0 | R83: 0 | S83: 3 | T83: =U83+V83+W83 -> 37 | U83: 9 | V83: 18 | W83: 10 | X83: =Y83+Z83 -> 1 | Y83: 1 | Z83: 0 | AA83: 33 | AB83: 0 | AC83: 41 | AD83: =B83-C83+T83-AA83+'03.GQKN'!AA82+'04.GQTC'!AC82 -> 5 | AE83: =E83-F83 -> 0 | AF83: 5 | AG83: =AD83-AF83 -> 0
A84: Phường Phước Long | B84: =AB84+AC84 -> 52 | C84: 52 | D84: =E84+X84 -> 52 | E84: =G84+M84+T84 -> 52 | F84: 52 | G84: =IFERROR(IF((H84+I84)=(J84+K84+L84),IF(AND((H84+I84)=0,(J84+K84+L84)>0),"Lỗi",(H84+I84)),"Lỗi"),"Lỗi") -> 0 | H84: 0 | I84: 0 | J84: 0 | K84: 0 | L84: 0 | M84: =IFERROR(IF((N84+O84)=(P84+Q84+R84+S84),IF(AND((N84+O84)=0,(P84+Q84+R84+S84)>0),"Lỗi",(N84+O84)),"Lỗi"),"Lỗi") -> 0 | N84: 0 | O84: 0 | P84: 0 | Q84: 0 | R84: 0 | S84: 0 | T84: =U84+V84+W84 -> 52 | U84: 6 | V84: 27 | W84: 19 | X84: =Y84+Z84 -> 0 | Y84: 0 | Z84: 0 | AA84: 52 | AB84: 0 | AC84: 52 | AD84: =B84-C84+T84-AA84+'03.GQKN'!AA83+'04.GQTC'!AC83 -> 0 | AE84: =E84-F84 -> 0 | AF84: 0 | AG84: =AD84-AF84 -> 0
A85: Phường Tân Khai | B85: =AB85+AC85 -> 55 | C85: 55 | D85: =E85+X85 -> 55 | E85: =G85+M85+T85 -> 53 | F85: 51 | G85: =IFERROR(IF((H85+I85)=(J85+K85+L85),IF(AND((H85+I85)=0,(J85+K85+L85)>0),"Lỗi",(H85+I85)),"Lỗi"),"Lỗi") -> 0 | H85: 0 | I85: 0 | J85: 0 | K85: 0 | L85: 0 | M85: =IFERROR(IF((N85+O85)=(P85+Q85+R85+S85),IF(AND((N85+O85)=0,(P85+Q85+R85+S85)>0),"Lỗi",(N85+O85)),"Lỗi"),"Lỗi") -> 0 | N85: 0 | O85: 0 | P85: 0 | Q85: 0 | R85: 0 | S85: 0 | T85: =U85+V85+W85 -> 53 | U85: 1 | V85: 47 | W85: 5 | X85: =Y85+Z85 -> 2 | Y85: 2 | Z85: 0 | AA85: 51 | AC85: 55 | AD85: =B85-C85+T85-AA85+'03.GQKN'!AA84+'04.GQTC'!AC84 -> 2 | AE85: =E85-F85 -> 2 | AF85: 2 | AG85: =AD85-AF85 -> 0
A86: Phường Bình Long | B86: =AB86+AC86 -> 69 | C86: 69 | D86: =E86+X86 -> 69 | E86: =G86+M86+T86 -> 67 | F86: 67 | G86: =IFERROR(IF((H86+I86)=(J86+K86+L86),IF(AND((H86+I86)=0,(J86+K86+L86)>0),"Lỗi",(H86+I86)),"Lỗi"),"Lỗi") -> 0 | H86: 0 | I86: 0 | J86: 0 | K86: 0 | L86: 0 | M86: =IFERROR(IF((N86+O86)=(P86+Q86+R86+S86),IF(AND((N86+O86)=0,(P86+Q86+R86+S86)>0),"Lỗi",(N86+O86)),"Lỗi"),"Lỗi") -> 0 | N86: 0 | O86: 0 | P86: 0 | Q86: 0 | R86: 0 | S86: 0 | T86: =U86+V86+W86 -> 67 | U86: 1 | V86: 64 | W86: 2 | X86: =Y86+Z86 -> 2 | Y86: 0 | Z86: 2 | AA86: 62 | AB86: 11 | AC86: 58 | AD86: =B86-C86+T86-AA86+'03.GQKN'!AA85+'04.GQTC'!AC85 -> 5 | AE86: =E86-F86 -> 0 | AF86: 5 | AG86: =AD86-AF86 -> 0
A87: Xã Lộc Hưng | B87: =AB87+AC87 -> 63 | C87: 63 | D87: =E87+X87 -> 58 | E87: =G87+M87+T87 -> 48 | F87: 48 | G87: =IFERROR(IF((H87+I87)=(J87+K87+L87),IF(AND((H87+I87)=0,(J87+K87+L87)>0),"Lỗi",(H87+I87)),"Lỗi"),"Lỗi") -> 0 | H87: 0 | I87: 0 | J87: 0 | K87: 0 | L87: 0 | M87: =IFERROR(IF((N87+O87)=(P87+Q87+R87+S87),IF(AND((N87+O87)=0,(P87+Q87+R87+S87)>0),"Lỗi",(N87+O87)),"Lỗi"),"Lỗi") -> 0 | N87: 0 | O87: 0 | P87: 0 | Q87: 0 | R87: 0 | S87: 0 | T87: =U87+V87+W87 -> 48 | U87: 1 | V87: 41 | W87: 6 | X87: =Y87+Z87 -> 10 | Y87: 5 | Z87: 5 | AA87: 26 | AB87: 14 | AC87: 49 | AD87: =B87-C87+T87-AA87+'03.GQKN'!AA86+'04.GQTC'!AC86 -> 22 | AE87: =E87-F87 -> 0 | AF87: 22 | AG87: =AD87-AF87 -> 0
A88: Xã Thiện Hưng | B88: =AB88+AC88 -> 30 | C88: 30 | D88: =E88+X88 -> 30 | E88: =G88+M88+T88 -> 19 | F88: 19 | G88: =IFERROR(IF((H88+I88)=(J88+K88+L88),IF(AND((H88+I88)=0,(J88+K88+L88)>0),"Lỗi",(H88+I88)),"Lỗi"),"Lỗi") -> 0 | H88: 0 | I88: 0 | J88: 0 | K88: 0 | L88: 0 | M88: =IFERROR(IF((N88+O88)=(P88+Q88+R88+S88),IF(AND((N88+O88)=0,(P88+Q88+R88+S88)>0),"Lỗi",(N88+O88)),"Lỗi"),"Lỗi") -> 1 | N88: 1 | O88: 0 | P88: 0 | Q88: 0 | R88: 0 | S88: 1 | T88: =U88+V88+W88 -> 18 | U88: 1 | V88: 17 | W88: 0 | X88: =Y88+Z88 -> 11 | Y88: 10 | Z88: 1 | AA88: 18 | AB88: 0 | AC88: 30 | AD88: =B88-C88+T88-AA88+'03.GQKN'!AA87+'04.GQTC'!AC87 -> 0 | AE88: =E88-F88 -> 0 | AF88: 0 | AG88: =AD88-AF88 -> 0
A89: Xã Đa Kia | B89: =AB89+AC89 -> 15 | C89: 15 | D89: =E89+X89 -> 15 | E89: =G89+M89+T89 -> 15 | F89: 15 | G89: =IFERROR(IF((H89+I89)=(J89+K89+L89),IF(AND((H89+I89)=0,(J89+K89+L89)>0),"Lỗi",(H89+I89)),"Lỗi"),"Lỗi") -> 0 | H89: 0 | I89: 0 | J89: 0 | K89: 0 | L89: 0 | M89: =IFERROR(IF((N89+O89)=(P89+Q89+R89+S89),IF(AND((N89+O89)=0,(P89+Q89+R89+S89)>0),"Lỗi",(N89+O89)),"Lỗi"),"Lỗi") -> 0 | N89: 0 | O89: 0 | P89: 0 | Q89: 0 | R89: 0 | S89: 0 | T89: =U89+V89+W89 -> 15 | U89: 0 | V89: 15 | W89: 0 | X89: =Y89+Z89 -> 0 | Y89: 0 | Z89: 0 | AA89: 12 | AB89: 0 | AC89: 15 | AD89: =B89-C89+T89-AA89+'03.GQKN'!AA88+'04.GQTC'!AC88 -> 3 | AE89: =E89-F89 -> 0 | AF89: 3 | AG89: =AD89-AF89 -> 0
A90: Xã Đak Ơ | B90: =AB90+AC90 -> 2 | C90: 2 | D90: =E90+X90 -> 2 | E90: =G90+M90+T90 -> 2 | F90: 2 | G90: =IFERROR(IF((H90+I90)=(J90+K90+L90),IF(AND((H90+I90)=0,(J90+K90+L90)>0),"Lỗi",(H90+I90)),"Lỗi"),"Lỗi") -> 0 | H90: 0 | I90: 0 | J90: 0 | K90: 0 | L90: 0 | M90: =IFERROR(IF((N90+O90)=(P90+Q90+R90+S90),IF(AND((N90+O90)=0,(P90+Q90+R90+S90)>0),"Lỗi",(N90+O90)),"Lỗi"),"Lỗi") -> 0 | N90: 0 | O90: 0 | P90: 0 | Q90: 0 | R90: 0 | S90: 0 | T90: =U90+V90+W90 -> 2 | U90: 0 | V90: 2 | W90: 0 | X90: =Y90+Z90 -> 0 | Y90: 0 | Z90: 0 | AA90: 2 | AC90: 2 | AD90: =B90-C90+T90-AA90+'03.GQKN'!AA89+'04.GQTC'!AC89 -> 0 | AE90: =E90-F90 -> 0 | AF90: 0 | AG90: =AD90-AF90 -> 0
A91: Xã Phú Riềng | B91: =AB91+AC91 -> 60 | C91: 60 | D91: =E91+X91 -> 60 | E91: =G91+M91+T91 -> 60 | F91: 60 | G91: =IFERROR(IF((H91+I91)=(J91+K91+L91),IF(AND((H91+I91)=0,(J91+K91+L91)>0),"Lỗi",(H91+I91)),"Lỗi"),"Lỗi") -> 0 | H91: 0 | I91: 0 | J91: 0 | K91: 0 | L91: 0 | M91: =IFERROR(IF((N91+O91)=(P91+Q91+R91+S91),IF(AND((N91+O91)=0,(P91+Q91+R91+S91)>0),"Lỗi",(N91+O91)),"Lỗi"),"Lỗi") -> 1 | N91: 1 | O91: 0 | P91: 0 | Q91: 0 | R91: 0 | S91: 1 | T91: =U91+V91+W91 -> 59 | U91: 0 | V91: 24 | W91: 35 | X91: =Y91+Z91 -> 0 | Y91: 0 | Z91: 0 | AA91: 51 | AB91: 0 | AC91: 60 | AD91: =B91-C91+T91-AA91+'03.GQKN'!AA90+'04.GQTC'!AC90 -> 8 | AE91: =E91-F91 -> 0 | AF91: 8 | AG91: =AD91-AF91 -> 0
A92: Phường Đồng Phú | B92: =AB92+AC92 -> 140 | C92: 131 | D92: =E92+X92 -> 129 | E92: =G92+M92+T92 -> 126 | F92: 126 | G92: =IFERROR(IF((H92+I92)=(J92+K92+L92),IF(AND((H92+I92)=0,(J92+K92+L92)>0),"Lỗi",(H92+I92)),"Lỗi"),"Lỗi") -> 0 | H92: 0 | I92: 0 | J92: 0 | K92: 0 | L92: 0 | M92: =IFERROR(IF((N92+O92)=(P92+Q92+R92+S92),IF(AND((N92+O92)=0,(P92+Q92+R92+S92)>0),"Lỗi",(N92+O92)),"Lỗi"),"Lỗi") -> 0 | N92: 0 | O92: 0 | P92: 0 | Q92: 0 | R92: 0 | S92: 0 | T92: =U92+V92+W92 -> 126 | U92: 3 | V92: 121 | W92: 2 | X92: =Y92+Z92 -> 3 | Y92: 0 | Z92: 3 | AA92: 131 | AB92: 8 | AC92: 132 | AD92: =B92-C92+T92-AA92+'03.GQKN'!AA91+'04.GQTC'!AC91 -> 4 | AE92: =E92-F92 -> 0 | AF92: 4 | AG92: =AD92-AF92 -> 0
A93: Xã Tân Lợi | B93: =AB93+AC93 -> 73 | C93: 73 | D93: =E93+X93 -> 73 | E93: =G93+M93+T93 -> 70 | F93: 70 | G93: =IFERROR(IF((H93+I93)=(J93+K93+L93),IF(AND((H93+I93)=0,(J93+K93+L93)>0),"Lỗi",(H93+I93)),"Lỗi"),"Lỗi") -> 10 | H93: 10 | I93: 0 | J93: 10 | K93: 0 | L93: 0 | M93: =IFERROR(IF((N93+O93)=(P93+Q93+R93+S93),IF(AND((N93+O93)=0,(P93+Q93+R93+S93)>0),"Lỗi",(N93+O93)),"Lỗi"),"Lỗi") -> 0 | N93: 0 | O93: 0 | P93: 0 | Q93: 0 | R93: 0 | S93: 0 | T93: =U93+V93+W93 -> 60 | U93: 0 | V93: 60 | W93: 0 | X93: =Y93+Z93 -> 3 | Y93: 3 | Z93: 0 | AA93: 55 | AB93: 21 | AC93: 52 | AD93: =B93-C93+T93-AA93+'03.GQKN'!AA92+'04.GQTC'!AC92 -> 5 | AE93: =E93-F93 -> 0 | AF93: 5 | AG93: =AD93-AF93 -> 0
A94: Xã Bù Đăng | B94: =AB94+AC94 -> 67 | C94: 67 | D94: =E94+X94 -> 66 | E94: =G94+M94+T94 -> 66 | F94: 66 | G94: =IFERROR(IF((H94+I94)=(J94+K94+L94),IF(AND((H94+I94)=0,(J94+K94+L94)>0),"Lỗi",(H94+I94)),"Lỗi"),"Lỗi") -> 1 | H94: 1 | I94: 0 | J94: 0 | K94: 1 | L94: 0 | M94: =IFERROR(IF((N94+O94)=(P94+Q94+R94+S94),IF(AND((N94+O94)=0,(P94+Q94+R94+S94)>0),"Lỗi",(N94+O94)),"Lỗi"),"Lỗi") -> 1 | N94: 1 | O94: 0 | P94: 0 | Q94: 0 | R94: 0 | S94: 1 | T94: =U94+V94+W94 -> 64 | U94: 4 | V94: 60 | W94: 0 | X94: =Y94+Z94 -> 0 | Y94: 0 | Z94: 0 | AA94: 52 | AB94: 15 | AC94: 52 | AD94: =B94-C94+T94-AA94+'03.GQKN'!AA93+'04.GQTC'!AC93 -> 13 | AE94: =E94-F94 -> 0 | AF94: 13 | AG94: =AD94-AF94 -> 0
A95: Xã Lộc Thạnh | B95: =AB95+AC95 -> 18 | C95: 18 | D95: =E95+X95 -> 18 | E95: =G95+M95+T95 -> 17 | F95: 17 | G95: =IFERROR(IF((H95+I95)=(J95+K95+L95),IF(AND((H95+I95)=0,(J95+K95+L95)>0),"Lỗi",(H95+I95)),"Lỗi"),"Lỗi") -> 1 | H95: 1 | I95: 0 | J95: 0 | K95: 0 | L95: 1 | M95: =IFERROR(IF((N95+O95)=(P95+Q95+R95+S95),IF(AND((N95+O95)=0,(P95+Q95+R95+S95)>0),"Lỗi",(N95+O95)),"Lỗi"),"Lỗi") -> 0 | N95: 0 | O95: 0 | P95: 0 | Q95: 0 | R95: 0 | S95: 0 | T95: =U95+V95+W95 -> 16 | U95: 3 | V95: 7 | W95: 6 | X95: =Y95+Z95 -> 1 | Y95: 0 | Z95: 1 | AA95: 14 | AB95: 1 | AC95: 17 | AD95: =B95-C95+T95-AA95+'03.GQKN'!AA94+'04.GQTC'!AC94 -> 2 | AE95: =E95-F95 -> 0 | AF95: 2 | AG95: =AD95-AF95 -> 0
A96: Xã Bom Bo | B96: =AB96+AC96 -> 31 | C96: 31 | D96: =E96+X96 -> 31 | E96: =G96+M96+T96 -> 30 | F96: 30 | G96: =IFERROR(IF((H96+I96)=(J96+K96+L96),IF(AND((H96+I96)=0,(J96+K96+L96)>0),"Lỗi",(H96+I96)),"Lỗi"),"Lỗi") -> 0 | H96: 0 | I96: 0 | J96: 0 | K96: 0 | L96: 0 | M96: =IFERROR(IF((N96+O96)=(P96+Q96+R96+S96),IF(AND((N96+O96)=0,(P96+Q96+R96+S96)>0),"Lỗi",(N96+O96)),"Lỗi"),"Lỗi") -> 0 | N96: 0 | O96: 0 | P96: 0 | Q96: 0 | R96: 0 | S96: 0 | T96: =U96+V96+W96 -> 30 | U96: 0 | V96: 29 | W96: 1 | X96: =Y96+Z96 -> 1 | Y96: 1 | Z96: 0 | AA96: 23 | AB96: 10 | AC96: 21 | AD96: =B96-C96+T96-AA96+'03.GQKN'!AA95+'04.GQTC'!AC95 -> 7 | AE96: =E96-F96 -> 0 | AF96: 7 | AG96: =AD96-AF96 -> 0
A97: Phường Đồng Xoài | B97: =AB97+AC97 -> 113 | C97: 113 | D97: =E97+X97 -> 113 | E97: =G97+M97+T97 -> 93 | F97: 93 | G97: =IFERROR(IF((H97+I97)=(J97+K97+L97),IF(AND((H97+I97)=0,(J97+K97+L97)>0),"Lỗi",(H97+I97)),"Lỗi"),"Lỗi") -> 16 | H97: 16 | I97: 0 | J97: 16 | K97: 0 | L97: 0 | M97: =IFERROR(IF((N97+O97)=(P97+Q97+R97+S97),IF(AND((N97+O97)=0,(P97+Q97+R97+S97)>0),"Lỗi",(N97+O97)),"Lỗi"),"Lỗi") -> 0 | N97: 0 | O97: 0 | P97: 0 | Q97: 0 | R97: 0 | S97: 0 | T97: =U97+V97+W97 -> 77 | U97: 0 | V97: 66 | W97: 11 | X97: =Y97+Z97 -> 20 | Y97: 12 | Z97: 8 | AA97: 74 | AB97: 5 | AC97: 108 | AD97: =B97-C97+T97-AA97+'03.GQKN'!AA96+'04.GQTC'!AC96 -> 3 | AE97: =E97-F97 -> 0 | AF97: 3 | AG97: =AD97-AF97 -> 0
A98: Phường Minh Hưng | B98: =AB98+AC98 -> 38 | C98: 38 | D98: =E98+X98 -> 38 | E98: =G98+M98+T98 -> 36 | F98: 36 | G98: =IFERROR(IF((H98+I98)=(J98+K98+L98),IF(AND((H98+I98)=0,(J98+K98+L98)>0),"Lỗi",(H98+I98)),"Lỗi"),"Lỗi") -> 0 | H98: 0 | I98: 0 | J98: 0 | K98: 0 | L98: 0 | M98: =IFERROR(IF((N98+O98)=(P98+Q98+R98+S98),IF(AND((N98+O98)=0,(P98+Q98+R98+S98)>0),"Lỗi",(N98+O98)),"Lỗi"),"Lỗi") -> 0 | N98: 0 | O98: 0 | P98: 0 | Q98: 0 | R98: 0 | S98: 0 | T98: =U98+V98+W98 -> 36 | U98: 2 | V98: 32 | W98: 2 | X98: =Y98+Z98 -> 2 | Y98: 2 | Z98: 0 | AA98: 36 | AB98: 0 | AC98: 38 | AD98: =B98-C98+T98-AA98+'03.GQKN'!AA97+'04.GQTC'!AC97 -> 0 | AE98: =E98-F98 -> 0 | AF98: 0 | AG98: =AD98-AF98 -> 0
A99: Phường Chơn Thành | B99: =AB99+AC99 -> 58 | C99: 58 | D99: =E99+X99 -> 58 | E99: =G99+M99+T99 -> 58 | F99: 58 | G99: =IFERROR(IF((H99+I99)=(J99+K99+L99),IF(AND((H99+I99)=0,(J99+K99+L99)>0),"Lỗi",(H99+I99)),"Lỗi"),"Lỗi") -> 3 | H99: 3 | I99: 0 | J99: 3 | K99: 0 | L99: 0 | M99: =IFERROR(IF((N99+O99)=(P99+Q99+R99+S99),IF(AND((N99+O99)=0,(P99+Q99+R99+S99)>0),"Lỗi",(N99+O99)),"Lỗi"),"Lỗi") -> 1 | N99: 1 | O99: 0 | P99: 0 | Q99: 0 | R99: 0 | S99: 1 | T99: =U99+Q110+W99 -> 54 | U99: 0 | V99: 0 | W99: 54 | X99: =Y99+Z99 -> 0 | Y99: 0 | Z99: 0 | AA99: 48 | AB99: 0 | AC99: 58 | AD99: =B99-C99+T99-AA99+'03.GQKN'!AA98+'04.GQTC'!AC98 -> 6 | AE99: =E99-F99 -> 0 | AF99: 6 | AG99: =AD99-AF99 -> 0
A100: Xã Nha Bích | B100: =AB100+AC100 -> 26 | C100: 26 | D100: =E100+X100 -> 26 | E100: =G100+M100+T100 -> 26 | F100: 26 | G100: =IFERROR(IF((H100+I100)=(J100+K100+L100),IF(AND((H100+I100)=0,(J100+K100+L100)>0),"Lỗi",(H100+I100)),"Lỗi"),"Lỗi") -> 0 | H100: 0 | I100: 0 | J100: 0 | K100: 0 | L100: 0 | M100: =IFERROR(IF((N100+O100)=(P100+Q100+R100+S100),IF(AND((N100+O100)=0,(P100+Q100+R100+S100)>0),"Lỗi",(N100+O100)),"Lỗi"),"Lỗi") -> 0 | N100: 0 | O100: 0 | P100: 0 | Q100: 0 | R100: 0 | S100: 0 | T100: =U100+V100+W100 -> 26 | U100: 0 | V100: 26 | W100: 0 | X100: =Y100+Z100 -> 0 | Y100: 0 | Z100: 0 | AA100: 26 | AB100: 0 | AC100: 26 | AD100: =B100-C100+T100-AA100+'03.GQKN'!AA99+'04.GQTC'!AC99 -> 0 | AE100: =E100-F100 -> 0 | AF100: 0 | AG100: =AD100-AF100 -> 0
A101: Phường An Lộc | B101: =AB101+AC101 -> 72 | C101: 72 | D101: =E101+X101 -> 72 | E101: =G101+M101+T101 -> 70 | F101: 70 | G101: =IFERROR(IF((H101+I101)=(J101+K101+L101),IF(AND((H101+I101)=0,(J101+K101+L101)>0),"Lỗi",(H101+I101)),"Lỗi"),"Lỗi") -> 1 | H101: 1 | I101: 0 | J101: 1 | K101: 0 | L101: 0 | M101: =IFERROR(IF((N101+O101)=(P101+Q101+R101+S101),IF(AND((N101+O101)=0,(P101+Q101+R101+S101)>0),"Lỗi",(N101+O101)),"Lỗi"),"Lỗi") -> 0 | N101: 0 | O101: 0 | P101: 0 | Q101: 0 | R101: 0 | S101: 0 | T101: =U101+V101+W101 -> 69 | U101: 2 | V101: 48 | W101: 19 | X101: =Y101+Z101 -> 2 | Y101: 0 | Z101: 2 | AA101: 56 | AB101: 6 | AC101: 66 | AD101: =B101-C101+T101-AA101+'03.GQKN'!AA100+'04.GQTC'!AC100 -> 14 | AE101: =E101-F101 -> 0 | AF101: 14 | AG101: =AD101-AF101 -> 0
A102: Xã Tân Quan | B102: =AB102+AC102 -> 44 | C102: 44 | D102: =E102+X102 -> 44 | E102: =G102+M102+T102 -> 43 | F102: 43 | G102: =IFERROR(IF((H102+I102)=(J102+K102+L102),IF(AND((H102+I102)=0,(J102+K102+L102)>0),"Lỗi",(H102+I102)),"Lỗi"),"Lỗi") -> 0 | H102: 0 | I102: 0 | J102: 0 | K102: 0 | L102: 0 | M102: =IFERROR(IF((N102+O102)=(P102+Q102+R102+S102),IF(AND((N102+O102)=0,(P102+Q102+R102+S102)>0),"Lỗi",(N102+O102)),"Lỗi"),"Lỗi") -> 2 | N102: 2 | O102: 0 | P102: 1 | Q102: 0 | R102: 0 | S102: 1 | T102: =U102+V102+W102 -> 41 | U102: 1 | V102: 8 | W102: 32 | X102: =Y102+Z102 -> 1 | Y102: 0 | Z102: 1 | AA102: 34 | AB102: 14 | AC102: 30 | AD102: =B102-C102+T102-AA102+'03.GQKN'!AA101+'04.GQTC'!AC101 -> 7 | AE102: =E102-F102 -> 0 | AF102: 7 | AG102: =AD102-AF102 -> 0
...

Sheet 03.GQKN
A1: UBND THÀNH PHỐ ĐỒNG NAI
A2: THANH TRA THÀNH PHỐ | X2: 03.GQKN
B3: TỔNG HỢP KẾT QUẢ GIẢI QUYẾT KHIẾU NẠI TRONG 09 THÁNG ĐẦU NĂM 2026 CỦA THÀNH PHỐ ĐỒNG NAI
B4: Số liệu tính từ ngày 06/12/2025 đến ngày 05/9/2026
B5: (Kèm theo Báo cáo số: /BC-TT ngày /9/2026 của Thanh tra thành phố Đồng Nai)
A6: Đơn vị | B6: Tổng số đơn khiếu nại thuộc thẩm quyền | C6: Tổng số vụ việc | D6: Phân tích kết quả | H6: Tổng số Quyết định ban hành trong kỳ | I6: Giải quyết lần đầu | L6: Giải quyết lần 2 | N6: Kiến nghị thu hồi cho Nhà nước | P6: Trả lại cho tổ chức, cá nhân | T6: Kiến nghị xử lý hành chính | V6: Chuyển cơ quan điều tra | Y6: Số đơn kỳ trước chuyển sang | Z6: Số đơn trong kỳ | AA6: Số đơn tồn chuyển kỳ sau
D7: Đang xem xét điều kiện thụ lý | E7: Đã thụ lý giải quyết | F7: Không thụ lý | G7: Rút đơn, đình chỉ giải quyết | I7: Khiếu nại đúng | J7: Khiếu nại sai | K7: Khiếu nại đúng 1 phần | L7: Công nhận kết quả lần đầu | M7: Hủy, sửa kết quả lần đầu | N7: Tiền (Trđ) | O7: Đất (m2) | P7: Tiền (Trđ) | Q7: Đất (m2) | R7: Số tổ chức được trả lại quyền lợi | S7: Số cá nhân được trả lại quyền lợi | T7: Tổng số người bị kiến nghị xử lý | U7: Trong đó số cán bộ, công chức, viên chức | V7: Số vụ | W7: Tổng số người | X7: Trong đó số cán bộ, công chức, viên chức
A9: MS | B9: 1 | C9: 2=3+4+5+6 | D9: 3 | E9: 4 | F9: 5 | G9: 6 | H9: 7=8+9+10+11+12 | I9: 8 | J9: 9 | K9: 10 | L9: 11 | M9: 12 | N9: 13 | O9: 14 | P9: 15 | Q9: 16 | R9: 17 | S9: 18 | T9: 19 | U9: 20 | V9: 21 | W9: 22 | X9: 23 | Y9: 24 | Z9: 25 | AA9: 26
A10: UBND THÀNH PHỐ | B10: =IFERROR(IF((Y10+Z10)='02.XLD'!G11,'02.XLD'!G11,"Lỗi"),"Lỗi") -> 161 | C10: =SUM(D10:G10) -> 161 | D10: 0 | E10: 147 | F10: 7 | G10: 7 | H10: =SUM(I10:M10) -> 38 | I10: 0 | J10: 1 | K10: 1 | L10: 29 | M10: 7 | N10: 0 | O10: 0 | P10: 0 | Q10: 0 | R10: 0 | S10: 0 | T10: 0 | U10: 0 | V10: 0 | W10: 0 | X10: 0 | Y10: 61 | Z10: 100 | AA10: =B10-F10-G10-H10 -> 109
A11: CẤP SỞ, NGÀNH | B11: =IFERROR(IF((Y11+Z11)='02.XLD'!G12,'02.XLD'!G12,"Lỗi"),"Lỗi") -> 76 | C11: =SUM(D11:G11) -> 76 | D11: =SUM(D12:D24) -> 6 | E11: =SUM(E12:E24) -> 12 | F11: =SUM(F12:F24) -> 35 | G11: =SUM(G12:G24) -> 23 | H11: =SUM(H12:H24) -> 14 | I11: =SUM(I12:I24) -> 4 | J11: =SUM(J12:J24) -> 8 | K11: =SUM(K12:K24) -> 0 | ... X11: =SUM(X12:X24) -> 0 | Y11: 0 | Z11: =SUM(Z12:Z24) -> 76 | AA11: =SUM(AA12:AA24) -> 4
A12: Sở Dân tộc và tôn giáo | B12: =IFERROR(IF((Y12+Z12)='02.XLD'!G13,'02.XLD'!G13,"Lỗi"),"Lỗi") -> 0 | C12: =SUM(D12:G12) -> 0 | H12: =SUM(I12:M12) -> 0 | Y12: 0 | AA12: =B12-F12-G12-H12 -> 0
A13: Sở Công Thương | B13: =IFERROR(IF((Y13+Z13)='02.XLD'!G14,'02.XLD'!G14,"Lỗi"),"Lỗi") -> 0 | C13: =SUM(D13:G13) -> 0 | D13: 0 | E13: 0 | F13: 0 | G13: 0 | H13: =SUM(I13:M13) -> 0 | I13: 0 | J13: 0 | K13: 0 | L13: 0 | M13: 0 | N13: 0 | O13: 0 | P13: 0 | Q13: 0 | R13: 0 | S13: 0 | T13: 0 | U13: 0 | V13: 0 | W13: 0 | X13: 0 | Z13: 0 | AA13: =B13-F13-G13-H13 -> 0
A14: Sở GD&ĐT | B14: =IFERROR(IF((Y14+Z14)='02.XLD'!G15,'02.XLD'!G15,"Lỗi"),"Lỗi") -> 0 | C14: =SUM(D14:G14) -> 0 | D14: 0 | E14: 0 | F14: 0 | G14: 0 | H14: =SUM(I14:M14) -> 0 | I14: 0 | J14: 0 | K14: 0 | L14: 0 | M14: 0 | N14: 0 | O14: 0 | P14: 0 | Q14: 0 | R14: 0 | S14: 0 | T14: 0 | U14: 0 | V14: 0 | W14: 0 | X14: 0 | Y14: 0 | Z14: 0 | AA14: =B14-F14-G14-H14 -> 0
A15: Sở KH&CN | B15: =IFERROR(IF((Y15+Z15)='02.XLD'!G16,'02.XLD'!G16,"Lỗi"),"Lỗi") -> 0 | C15: =SUM(D15:G15) -> 0 | H15: =SUM(I15:M15) -> 0 | AA15: =B15-F15-G15-H15 -> 0
A16: Sở NN&MT | B16: =IFERROR(IF((Y16+Z16)='02.XLD'!G17,'02.XLD'!G17,"Lỗi"),"Lỗi") -> 33 | C16: =SUM(D16:G16) -> 33 | D16: 3 | E16: 0 | F16: 20 | G16: 10 | H16: =SUM(I16:M16) -> 0 | I16: 0 | J16: 0 | K16: 0 | L16: 0 | M16: 0 | N16: 0 | O16: 0 | P16: 0 | Q16: 0 | R16: 0 | S16: 0 | T16: 0 | U16: 0 | V16: 0 | W16: 0 | X16: 0 | Y16: 0 | Z16: 33 | AA16: =B16-F16-G16-H16 -> 3
A17: Sở Nội vụ | B17: =IFERROR(IF((Y17+Z17)='02.XLD'!G18,'02.XLD'!G18,"Lỗi"),"Lỗi") -> 19 | C17: =SUM(D17:G17) -> 19 | D17: 2 | E17: 5 | F17: 1 | G17: 11 | H17: =SUM(I17:M17) -> 7 | I17: 1 | J17: 5 | K17: 0 | L17: 0 | M17: 1 | N17: 0 | O17: 0 | P17: 0 | Q17: 0 | R17: 0 | S17: 2 | T17: 1 | U17: 0 | V17: 0 | W17: 0 | X17: 0 | Y17: 0 | Z17: 19 | AA17: =B17-F17-G17-H17 -> 0
A18: Sở Ngoại vụ | B18: =IFERROR(IF((Y18+Z18)='02.XLD'!G19,'02.XLD'!G19,"Lỗi"),"Lỗi") -> 0 | C18: =SUM(D18:G18) -> 0 | H18: =SUM(I18:M18) -> 0 | Y18: 0 | AA18: =B18-F18-G18-H18 -> 0
A19: Sở Tài chính | B19: =IFERROR(IF((Y19+Z19)='02.XLD'!G20,'02.XLD'!G20,"Lỗi"),"Lỗi") -> 5 | C19: =SUM(D19:G19) -> 5 | D19: 0 | E19: 5 | F19: 0 | G19: 0 | H19: =SUM(I19:M19) -> 5 | I19: 3 | J19: 2 | K19: 0 | L19: 0 | M19: 0 | N19: 0 | O19: 0 | P19: 0 | Q19: 0 | R19: 0 | S19: 0 | T19: 0 | U19: 0 | V19: 0 | W19: 0 | X19: 0 | Y19: 0 | Z19: 5 | AA19: =B19-F19-G19-H19 -> 0
A20: Sở Tư pháp | B20: =IFERROR(IF((Y20+Z20)='02.XLD'!G21,'02.XLD'!G21,"Lỗi"),"Lỗi") -> 18 | C20: =SUM(D20:G20) -> 18 | D20: 1 | E20: 1 | F20: 14 | G20: 2 | H20: =SUM(I20:M20) -> 1 | I20: 0 | J20: 1 | K20: 0 | L20: 0 | M20: 0 | N20: 0 | O20: 0 | P20: 0 | Q20: 0 | R20: 0 | S20: 0 | T20: 0 | U20: 0 | V20: 0 | W20: 0 | X20: 0 | Y20: 0 | Z20: 18 | AA20: =B20-F20-G20-H20 -> 1
A21: Sở VHTT&DL | B21: =IFERROR(IF((Y21+Z21)='02.XLD'!G22,'02.XLD'!G22,"Lỗi"),"Lỗi") -> 0 | C21: =SUM(D21:G21) -> 0 | H21: =SUM(I21:M21) -> 0 | AA21: =B21-F21-G21-H21 -> 0
A22: Sở Xây dựng | B22: =IFERROR(IF((Y22+Z22)='02.XLD'!G23,'02.XLD'!G23,"Lỗi"),"Lỗi") -> 0 | C22: =SUM(D22:G22) -> 0 | D22: 0 | E22: 0 | F22: 0 | G22: 0 | H22: =SUM(I22:M22) -> 0 | I22: 0 | J22: 0 | K22: 0 | L22: 0 | M22: 0 | N22: 0 | O22: 0 | P22: 0 | Q22: 0 | R22: 0 | S22: 0 | T22: 0 | U22: 0 | V22: 0 | W22: 0 | X22: 0 | Y22: 0 | Z22: 0 | AA22: =B22-F22-G22-H22 -> 0
A23: Sở Y tế | B23: =IFERROR(IF((Y23+Z23)='02.XLD'!G24,'02.XLD'!G24,"Lỗi"),"Lỗi") -> 1 | C23: =SUM(D23:G23) -> 1 | D23: 0 | E23: 1 | F23: 0 | G23: 0 | H23: =SUM(I23:M23) -> 1 | I23: 0 | J23: 0 | K23: 0 | L23: 0 | M23: 1 | N23: 0 | O23: 0 | P23: 0 | Q23: 0 | R23: 0 | S23: 0 | T23: 0 | U23: 0 | V23: 0 | W23: 0 | X23: 0 | Y23: 0 | Z23: 1 | AA23: =B23-F23-G23-H23 -> 0
A24: Thanh tra tỉnh | B24: =IFERROR(IF((Y24+Z24)='02.XLD'!G25,'02.XLD'!G25,"Lỗi"),"Lỗi") -> 0 | C24: =SUM(D24:G24) -> 0 | D24: 0 | E24: 0 | F24: 0 | G24: 0 | H24: =SUM(I24:M24) -> 0 | I24: 0 | J24: 0 | K24: 0 | L24: 0 | M24: 0 | N24: 0 | O24: 0 | P24: 0 | Q24: 0 | R24: 0 | S24: 0 | T24: 0 | U24: 0 | V24: 0 | W24: 0 | X24: 0 | Y24: 0 | Z24: 0 | AA24: =B24-F24-G24-H24 -> 0
A25: UBND CẤP XÃ | B25: =IFERROR(IF((Y25+Z25)='02.XLD'!G26,'02.XLD'!G26,"Lỗi"),"Lỗi") -> 641 | C25: =SUM(D25:G25) -> 640 | D25: =SUM(D26:D120) -> 32 | E25: =SUM(E26:E120) -> 359 | F25: =SUM(F26:F120) -> 80 | G25: =SUM(G26:G120) -> 169 | H25: =SUM(H26:H120) -> 255 | I25: =SUM(I26:I120) -> 19 | J25: =SUM(J26:J120) -> 174 | K25: =SUM(K26:K120) -> 62 | ... X25: =SUM(X26:X120) -> 0 | Y25: 33 | Z25: =SUM(Z26:Z120) -> 608 | AA25: =SUM(AA26:AA120) -> 137
A26: Phường Trấn Biên | B26: =IFERROR(IF((Y26+Z26)='02.XLD'!G27,'02.XLD'!G27,"Lỗi"),"Lỗi") -> 21 | C26: =SUM(D26:G26) -> 21 | D26: 5 | E26: 5 | F26: 4 | G26: 7 | H26: =SUM(I26:M26) -> 3 | I26: 0 | J26: 3 | K26: 0 | L26: 0 | M26: 0 | N26: 0 | O26: 0 | P26: 0 | Q26: 0 | R26: 0 | S26: 0 | T26: 0 | U26: 0 | V26: 0 | W26: 0 | X26: 0 | Z26: 21 | AA26: =B26-F26-G26-H26 -> 7
A27: Phường Biên Hòa | B27: =IFERROR(IF((Y27+Z27)='02.XLD'!G28,'02.XLD'!G28,"Lỗi"),"Lỗi") -> 3 | C27: =SUM(D27:G27) -> 3 | D27: 0 | E27: 3 | F27: 0 | G27: 0 | H27: =SUM(I27:M27) -> 1 | I27: 0 | J27: 1 | K27: 0 | L27: 0 | M27: 0 | N27: 0 | O27: 0 | P27: 0 | Q27: 0 | R27: 0 | S27: 0 | T27: 0 | U27: 0 | V27: 0 | W27: 0 | X27: 0 | Y27: 0 | Z27: 3 | AA27: =B27-F27-G27-H27 -> 2
A28: Phường Tam Hiệp | B28: =IFERROR(IF((Y28+Z28)='02.XLD'!G29,'02.XLD'!G29,"Lỗi"),"Lỗi") -> 4 | C28: =SUM(D28:G28) -> 4 | D28: 0 | E28: 0 | F28: 0 | G28: 4 | H28: =SUM(I28:M28) -> 0 | I28: 0 | J28: 0 | K28: 0 | L28: 0 | M28: 0 | N28: 0 | O28: 0 | P28: 0 | Q28: 0 | R28: 0 | S28: 0 | T28: 0 | U28: 0 | V28: 0 | W28: 0 | X28: 0 | Y28: 4 | Z28: 0 | AA28: =B28-F28-G28-H28 -> 0
A29: Phường Long Bình | B29: =IFERROR(IF((Y29+Z29)='02.XLD'!G30,'02.XLD'!G30,"Lỗi"),"Lỗi") -> 1 | C29: =SUM(D29:G29) -> 1 | D29: 0 | E29: 1 | F29: 0 | G29: 0 | H29: =SUM(I29:M29) -> 1 | I29: 1 | J29: 0 | K29: 0 | L29: 0 | M29: 0 | N29: 0 | O29: 0 | P29: 0 | Q29: 0 | R29: 0 | S29: 0 | T29: 0 | U29: 0 | V29: 0 | W29: 0 | X29: 0 | Z29: 1 | AA29: =B29-F29-G29-H29 -> 0
A30: Phường Trảng Dài | B30: =IFERROR(IF((Y30+Z30)='02.XLD'!G31,'02.XLD'!G31,"Lỗi"),"Lỗi") -> 1 | C30: =SUM(D30:G30) -> 1 | D30: 0 | E30: 0 | F30: 0 | G30: 1 | H30: =SUM(I30:M30) -> 0 | I30: 0 | J30: 0 | K30: 0 | L30: 0 | M30: 0 | N30: 0 | O30: 0 | P30: 0 | Q30: 0 | R30: 0 | S30: 0 | T30: 0 | U30: 0 | V30: 0 | W30: 0 | X30: 0 | Y30: 0 | Z30: 1 | AA30: =B30-F30-G30-H30 -> 0
A31: Phường Hố Nai | B31: =IFERROR(IF((Y31+Z31)='02.XLD'!G32,'02.XLD'!G32,"Lỗi"),"Lỗi") -> 1 | C31: =SUM(D31:G31) -> 1 | D31: 0 | E31: 0 | F31: 1 | G31: 0 | H31: =SUM(I31:M31) -> 0 | I31: 0 | J31: 0 | K31: 0 | L31: 0 | M31: 0 | N31: 0 | O31: 0 | P31: 0 | Q31: 0 | R31: 0 | S31: 0 | T31: 0 | U31: 0 | V31: 0 | W31: 0 | X31: 0 | Y31: 0 | Z31: 1 | AA31: =B31-F31-G31-H31 -> 0
A32: Phường Long Hưng | B32: =IFERROR(IF((Y32+Z32)='02.XLD'!G33,'02.XLD'!G33,"Lỗi"),"Lỗi") -> 16 | C32: =SUM(D32:G32) -> 16 | D32: 9 | E32: 7 | F32: 0 | G32: 0 | H32: =SUM(I32:M32) -> 7 | I32: 0 | J32: 4 | K32: 3 | L32: 0 | M32: 0 | N32: 0 | O32: 0 | P32: 0 | Q32: 0 | R32: 0 | S32: 0 | T32: 0 | U32: 0 | V32: 0 | W32: 0 | X32: 0 | Y32: 0 | Z32: 16 | AA32: =B32-F32-G32-H32 -> 9
A33: Phường Phước Tân | B33: =IFERROR(IF((Y33+Z33)='02.XLD'!G34,'02.XLD'!G34,"Lỗi"),"Lỗi") -> 35 | C33: =SUM(D33:G33) -> 28 | D33: 5 | E33: 1 | F33: 7 | G33: 15 | H33: =SUM(I33:M33) -> 5 | I33: 1 | J33: 4 | K33: 0 | L33: 0 | M33: 0 | N33: 0 | O33: 0 | P33: 0 | Q33: 0 | R33: 0 | S33: 0 | T33: 0 | U33: 0 | V33: 0 | W33: 0 | X33: 0 | Z33: 35 | AA33: =B33-F33-G33-H33 -> 8
A34: Phường Tam Phước | B34: =IFERROR(IF((Y34+Z34)='02.XLD'!G35,'02.XLD'!G35,"Lỗi"),"Lỗi") -> 0 | C34: =SUM(D34:G34) -> 0 | D34: 0 | E34: 0 | F34: 0 | G34: 0 | H34: =SUM(I34:M34) -> 0 | I34: 0 | J34: 0 | K34: 0 | L34: 0 | M34: 0 | N34: 0 | O34: 0 | P34: 0 | Q34: 0 | R34: 0 | S34: 0 | T34: 0 | U34: 0 | V34: 0 | W34: 0 | X34: 0 | Z34: 0 | AA34: =B34-F34-G34-H34 -> 0
A35: Phường Long Khánh | B35: =IFERROR(IF((Y35+Z35)='02.XLD'!G36,'02.XLD'!G36,"Lỗi"),"Lỗi") -> 14 | C35: =SUM(D35:G35) -> 14 | D35: 1 | E35: 1 | F35: 1 | G35: 11 | H35: =SUM(I35:M35) -> 1 | I35: 0 | J35: 1 | K35: 0 | L35: 0 | M35: 0 | N35: 0 | O35: 0 | P35: 0 | Q35: 0 | R35: 0 | S35: 0 | T35: 0 | U35: 0 | V35: 0 | W35: 0 | X35: 0 | Y35: 2 | Z35: 12 | AA35: =B35-F35-G35-H35 -> 1
A36: Phường Bình Lộc | B36: =IFERROR(IF((Y36+Z36)='02.XLD'!G37,'02.XLD'!G37,"Lỗi"),"Lỗi") -> 0 | C36: =SUM(D36:G36) -> 0 | D36: 0 | E36: 0 | F36: 0 | G36: 0 | H36: =SUM(I36:M36) -> 0 | I36: 0 | J36: 0 | K36: 0 | L36: 0 | M36: 0 | N36: 0 | O36: 0 | P36: 0 | Q36: 0 | R36: 0 | S36: 0 | T36: 0 | U36: 0 | V36: 0 | W36: 0 | X36: 0 | Y36: 0 | Z36: 0 | AA36: =B36-F36-G36-H36 -> 0
A37: Phường Bảo Vinh | B37: =IFERROR(IF((Y37+Z37)='02.XLD'!G38,'02.XLD'!G38,"Lỗi"),"Lỗi") -> 1 | C37: =SUM(D37:G37) -> 1 | D37: 1 | E37: 0 | F37: 0 | G37: 0 | H37: =SUM(I37:M37) -> 0 | I37: 0 | J37: 0 | K37: 0 | L37: 0 | M37: 0 | N37: 0 | O37: 0 | P37: 0 | Q37: 0 | R37: 0 | S37: 0 | T37: 0 | U37: 0 | V37: 0 | W37: 0 | X37: 0 | Y37: 0 | Z37: 1 | AA37: =B37-F37-G37-H37 -> 1
A38: Phường Xuân Lập | B38: =IFERROR(IF((Y38+Z38)='02.XLD'!G39,'02.XLD'!G39,"Lỗi"),"Lỗi") -> 0 | C38: =SUM(D38:G38) -> 0 | D38: 0 | E38: 0 | F38: 0 | G38: 0 | H38: =SUM(I38:M38) -> 0 | I38: 0 | J38: 0 | K38: 0 | L38: 0 | M38: 0 | N38: 0 | O38: 0 | P38: 0 | Q38: 0 | R38: 0 | S38: 0 | T38: 0 | U38: 0 | V38: 0 | W38: 0 | X38: 0 | Y38: 0 | AA38: =B38-F38-G38-H38 -> 0
A39: Phường Hàng Gòn | B39: =IFERROR(IF((Y39+Z39)='02.XLD'!G40,'02.XLD'!G40,"Lỗi"),"Lỗi") -> 0 | C39: =SUM(D39:G39) -> 0 | D39: 0 | E39: 0 | F39: 0 | G39: 0 | H39: =SUM(I39:M39) -> 0 | I39: 0 | J39: 0 | K39: 0 | L39: 0 | M39: 0 | N39: 0 | O39: 0 | P39: 0 | Q39: 0 | R39: 0 | S39: 0 | T39: 0 | U39: 0 | V39: 0 | W39: 0 | X39: 0 | Z39: 0 | AA39: =B39-F39-G39-H39 -> 0
A40: Phường Trảng Bom | B40: =IFERROR(IF((Y40+Z40)='02.XLD'!G41,'02.XLD'!G41,"Lỗi"),"Lỗi") -> 29 | C40: =SUM(D40:G40) -> 29 | D40: 0 | E40: 19 | F40: 2 | G40: 8 | H40: =SUM(I40:M40) -> 11 | I40: 2 | J40: 9 | K40: 0 | L40: 0 | M40: 0 | N40: 0 | O40: 0 | P40: 199.15 | Q40: 0 | R40: 0 | S40: 2 | T40: 0 | U40: 0 | V40: 0 | W40: 0 | X40: 0 | Y40: 2 | Z40: 27 | AA40: =B40-F40-G40-H40 -> 8
A41: Xã An Viễn | B41: =IFERROR(IF((Y41+Z41)='02.XLD'!G42,'02.XLD'!G42,"Lỗi"),"Lỗi") -> 16 | C41: =SUM(D41:G41) -> 16 | D41: 0 | E41: 4 | F41: 10 | G41: 2 | H41: =SUM(I41:M41) -> 1 | I41: 0 | J41: 1 | K41: 0 | L41: 0 | M41: 0 | N41: 0 | O41: 0 | P41: 0 | Q41: 0 | R41: 0 | S41: 0 | T41: 0 | U41: 0 | V41: 0 | W41: 0 | X41: 0 | Y41: 1 | Z41: 15 | AA41: =B41-F41-G41-H41 -> 3
A42: Xã Bình Minh | B42: =IFERROR(IF((Y42+Z42)='02.XLD'!G43,'02.XLD'!G43,"Lỗi"),"Lỗi") -> 1 | C42: =SUM(D42:G42) -> 1 | D42: 0 | E42: 0 | F42: 0 | G42: 1 | H42: =SUM(I42:M42) -> 0 | I42: 0 | J42: 0 | K42: 0 | L42: 0 | M42: 0 | N42: 0 | O42: 0 | P42: 0 | Q42: 0 | R42: 0 | S42: 0 | T42: 0 | U42: 0 | V42: 0 | W42: 0 | X42: 0 | Y42: 0 | Z42: 1 | AA42: =B42-F42-G42-H42 -> 0
A43: Xã Bàu Hàm | B43: =IFERROR(IF((Y43+Z43)='02.XLD'!G44,'02.XLD'!G44,"Lỗi"),"Lỗi") -> 5 | C43: =SUM(D43:G43) -> 5 | D43: 0 | E43: 2 | F43: 1 | G43: 2 | H43: =SUM(I43:M43) -> 2 | I43: 1 | J43: 1 | K43: 0 | L43: 0 | M43: 0 | N43: 0 | O43: 0 | P43: 0 | Q43: 0 | R43: 0 | S43: 0 | T43: 1 | U43: 1 | V43: 0 | W43: 0 | X43: 0 | Y43: 0 | Z43: 5 | AA43: =B43-F43-G43-H43 -> 0
A44: Xã Hưng Thịnh | B44: =IFERROR(IF((Y44+Z44)='02.XLD'!G45,'02.XLD'!G45,"Lỗi"),"Lỗi") -> 0 | C44: =SUM(D44:G44) -> 0 | D44: 0 | E44: 0 | F44: 0 | G44: 0 | H44: =SUM(I44:M44) -> 0 | I44: 0 | J44: 0 | K44: 0 | L44: 0 | M44: 0 | N44: 0 | O44: 0 | P44: 0 | Q44: 0 | R44: 0 | S44: 0 | T44: 0 | U44: 0 | V44: 0 | W44: 0 | X44: 0 | Y44: 0 | Z44: 0 | AA44: =B44-F44-G44-H44 -> 0
A45: Phường Dầu Giây | B45: =IFERROR(IF((Y45+Z45)='02.XLD'!G46,'02.XLD'!G46,"Lỗi"),"Lỗi") -> 0 | C45: =SUM(D45:G45) -> 0 | D45: 0 | E45: 0 | F45: 0 | G45: 0 | H45: =SUM(I45:M45) -> 0 | I45: 0 | J45: 0 | K45: 0 | L45: 0 | M45: 0 | N45: 0 | O45: 0 | P45: 0 | Q45: 0 | R45: 0 | S45: 0 | T45: 0 | U45: 0 | V45: 0 | W45: 0 | X45: 0 | Y45: 0 | Z45: 0 | AA45: =B45-F45-G45-H45 -> 0
A46: Xã Thống Nhất | B46: =IFERROR(IF((Y46+Z46)='02.XLD'!G47,'02.XLD'!G47,"Lỗi"),"Lỗi") -> 0 | C46: =SUM(D46:G46) -> 0 | D46: 0 | E46: 0 | F46: 0 | G46: 0 | H46: =SUM(I46:M46) -> 0 | I46: 0 | J46: 0 | K46: 0 | L46: 0 | M46: 0 | N46: 0 | O46: 0 | P46: 0 | Q46: 0 | R46: 0 | S46: 0 | T46: 0 | U46: 0 | V46: 0 | W46: 0 | X46: 0 | Y46: 0 | Z46: 0 | AA46: =B46-F46-G46-H46 -> 0
A47: Xã Gia Kiệm | B47: =IFERROR(IF((Y47+Z47)='02.XLD'!G48,'02.XLD'!G48,"Lỗi"),"Lỗi") -> 0 | C47: =SUM(D47:G47) -> 0 | D47: 0 | E47: 0 | F47: 0 | G47: 0 | H47: =SUM(I47:M47) -> 0 | I47: 0 | J47: 0 | K47: 0 | L47: 0 | M47: 0 | N47: 0 | O47: 0 | P47: 0 | Q47: 0 | R47: 0 | S47: 0 | T47: 0 | U47: 0 | V47: 0 | W47: 0 | X47: 0 | Y47: 0 | Z47: 0 | AA47: =B47-F47-G47-H47 -> 0
A48: Xã Cẩm Mỹ | B48: =IFERROR(IF((Y48+Z48)='02.XLD'!G49,'02.XLD'!G49,"Lỗi"),"Lỗi") -> 0 | C48: =SUM(D48:G48) -> 0 | H48: =SUM(I48:M48) -> 0 | AA48: =B48-F48-G48-H48 -> 0
A49: Xã Xuân Quế | B49: =IFERROR(IF((Y49+Z49)='02.XLD'!G50,'02.XLD'!G50,"Lỗi"),"Lỗi") -> 3 | C49: =SUM(D49:G49) -> 3 | D49: 0 | E49: 3 | F49: 0 | G49: 0 | H49: =SUM(I49:M49) -> 0 | I49: 0 | J49: 0 | K49: 0 | L49: 0 | M49: 0 | N49: 0 | O49: 0 | P49: 0 | Q49: 0 | R49: 0 | S49: 0 | T49: 0 | U49: 0 | V49: 0 | W49: 0 | X49: 0 | Y49: 0 | Z49: 3 | AA49: =B49-F49-G49-H49 -> 3
A50: Xã Xuân Đường | B50: =IFERROR(IF((Y50+Z50)='02.XLD'!G51,'02.XLD'!G51,"Lỗi"),"Lỗi") -> 2 | C50: =SUM(D50:G50) -> 2 | D50: 0 | E50: 2 | F50: 0 | G50: 0 | H50: =SUM(I50:M50) -> 2 | I50: 0 | J50: 2 | K50: 0 | L50: 0 | M50: 0 | N50: 0 | O50: 0 | P50: 0 | Q50: 0 | R50: 0 | S50: 0 | T50: 0 | U50: 0 | V50: 0 | W50: 0 | X50: 0 | Z50: 2 | AA50: =B50-F50-G50-H50 -> 0
A51: Xã Xuân Đông | B51: =IFERROR(IF((Y51+Z51)='02.XLD'!G52,'02.XLD'!G52,"Lỗi"),"Lỗi") -> 3 | C51: =SUM(D51:G51) -> 3 | D51: 0 | E51: 2 | F51: 0 | G51: 1 | H51: =SUM(I51:M51) -> 2 | I51: 0 | J51: 2 | K51: 0 | L51: 0 | M51: 0 | N51: 0 | O51: 0 | P51: 0 | Q51: 0 | R51: 0 | S51: 0 | T51: 0 | U51: 0 | V51: 0 | W51: 0 | X51: 0 | Y51: 0 | Z51: 3 | AA51: =B51-F51-G51-H51 -> 0
A52: Xã Sông Ray | B52: =IFERROR(IF((Y52+Z52)='02.XLD'!G53,'02.XLD'!G53,"Lỗi"),"Lỗi") -> 0 | C52: =SUM(D52:G52) -> 0 | D52: 0 | E52: 0 | F52: 0 | G52: 0 | H52: =SUM(I52:M52) -> 0 | I52: 0 | J52: 0 | K52: 0 | L52: 0 | M52: 0 | N52: 0 | O52: 0 | P52: 0 | Q52: 0 | R52: 0 | S52: 0 | T52: 0 | U52: 0 | V52: 0 | W52: 0 | X52: 0 | Y52: 0 | Z52: 0 | AA52: =B52-F52-G52-H52 -> 0
A53: Phường Xuân Lộc | B53: =IFERROR(IF((Y53+Z53)='02.XLD'!G54,'02.XLD'!G54,"Lỗi"),"Lỗi") -> 4 | C53: =SUM(D53:G53) -> 4 | D53: 0 | E53: 1 | F53: 0 | G53: 3 | H53: =SUM(I53:M53) -> 1 | I53: 0 | J53: 1 | K53: 0 | L53: 0 | M53: 0 | N53: 0 | O53: 0 | P53: 0 | Q53: 0 | R53: 0 | S53: 0 | T53: 0 | U53: 0 | V53: 0 | W53: 0 | X53: 0 | Y53: 0 | Z53: 4 | AA53: =B53-F53-G53-H53 -> 0
A54: Xã Xuân Định | B54: =IFERROR(IF((Y54+Z54)='02.XLD'!G55,'02.XLD'!G55,"Lỗi"),"Lỗi") -> 0 | C54: =SUM(D54:G54) -> 0 | D54: 0 | E54: 0 | F54: 0 | G54: 0 | H54: =SUM(I54:M54) -> 0 | I54: 0 | J54: 0 | K54: 0 | L54: 0 | M54: 0 | N54: 0 | O54: 0 | P54: 0 | Q54: 0 | R54: 0 | S54: 0 | T54: 0 | U54: 0 | V54: 0 | W54: 0 | X54: 0 | Y54: 0 | Z54: 0 | AA54: =B54-F54-G54-H54 -> 0
A55: Xã Xuân Phú | B55: =IFERROR(IF((Y55+Z55)='02.XLD'!G56,'02.XLD'!G56,"Lỗi"),"Lỗi") -> 0 | C55: =SUM(D55:G55) -> 0 | D55: 0 | H55: =SUM(I55:M55) -> 0 | AA55: =B55-F55-G55-H55 -> 0
A56: Xã Xuân Hòa | B56: =IFERROR(IF((Y56+Z56)='02.XLD'!G57,'02.XLD'!G57,"Lỗi"),"Lỗi") -> 0 | C56: =SUM(D56:G56) -> 0 | D56: 0 | E56: 0 | F56: 0 | G56: 0 | H56: =SUM(I56:M56) -> 0 | I56: 0 | J56: 0 | K56: 0 | L56: 0 | M56: 0 | N56: 0 | O56: 0 | P56: 0 | Q56: 0 | R56: 0 | S56: 0 | T56: 0 | U56: 0 | V56: 0 | W56: 0 | X56: 0 | AA56: =B56-F56-G56-H56 -> 0
A57: Xã Xuân Thành | B57: =IFERROR(IF((Y57+Z57)='02.XLD'!G58,'02.XLD'!G58,"Lỗi"),"Lỗi") -> 1 | C57: =SUM(D57:G57) -> 1 | D57: 0 | E57: 0 | F57: 1 | G57: 0 | H57: =SUM(I57:M57) -> 0 | I57: 0 | J57: 0 | K57: 0 | L57: 0 | M57: 0 | N57: 0 | O57: 0 | P57: 0 | Q57: 0 | R57: 0 | S57: 0 | T57: 0 | U57: 0 | V57: 0 | W57: 0 | X57: 0 | Y57: 1 | Z57: 0 | AA57: =B57-F57-G57-H57 -> 0
A58: Xã Xuân Bắc | B58: =IFERROR(IF((Y58+Z58)='02.XLD'!G59,'02.XLD'!G59,"Lỗi"),"Lỗi") -> 2 | C58: =SUM(D58:G58) -> 2 | D58: 0 | E58: 2 | F58: 0 | G58: 0 | H58: =SUM(I58:M58) -> 2 | I58: 2 | J58: 0 | K58: 0 | L58: 0 | M58: 0 | N58: 0 | O58: 0 | P58: 0 | Q58: 0 | R58: 0 | S58: 0 | T58: 0 | U58: 0 | V58: 0 | W58: 0 | X58: 0 | Z58: 2 | AA58: =B58-F58-G58-H58 -> 0
A59: Phường Nhơn Trạch | B59: =IFERROR(IF((Y59+Z59)='02.XLD'!G60,'02.XLD'!G60,"Lỗi"),"Lỗi") -> 23 | C59: =SUM(D59:G59) -> 23 | D59: 0 | E59: 18 | F59: 0 | G59: 5 | H59: =SUM(I59:M59) -> 10 | I59: 0 | J59: 10 | K59: 0 | L59: 0 | M59: 0 | N59: 0 | O59: 0 | P59: 0 | Q59: 0 | R59: 0 | S59: 0 | T59: 0 | U59: 0 | V59: 0 | W59: 0 | X59: 0 | Y59: 0 | Z59: 23 | AA59: =B59-F59-G59-H59 -> 8
A60: Xã Đại Phước | B60: =IFERROR(IF((Y60+Z60)='02.XLD'!G61,'02.XLD'!G61,"Lỗi"),"Lỗi") -> 8 | C60: =SUM(D60:G60) -> 8 | D60: 0 | E60: 4 | F60: 1 | G60: 3 | H60: =SUM(I60:M60) -> 4 | I60: 0 | J60: 4 | K60: 0 | L60: 0 | M60: 0 | N60: 0 | O60: 0 | P60: 0 | Q60: 0 | R60: 0 | S60: 0 | T60: 0 | U60: 0 | V60: 0 | W60: 0 | X60: 0 | Y60: 0 | Z60: 8 | AA60: =B60-F60-G60-H60 -> 0
A61: Xã Phước An | B61: =IFERROR(IF((Y61+Z61)='02.XLD'!G62,'02.XLD'!G62,"Lỗi"),"Lỗi") -> 18 | C61: =SUM(D61:G61) -> 18 | D61: 0 | E61: 15 | F61: 2 | G61: 1 | H61: =SUM(I61:M61) -> 10 | I61: 0 | J61: 9 | K61: 1 | L61: 0 | M61: 0 | N61: 0 | O61: 0 | P61: 5.4 | Q61: 0 | R61: 0 | S61: 1 | T61: 0 | U61: 0 | V61: 0 | W61: 0 | X61: 0 | Y61: 2 | Z61: 16 | AA61: =B61-F61-G61-H61 -> 5
A62: Phường Long Thành | B62: =IFERROR(IF((Y62+Z62)='02.XLD'!G63,'02.XLD'!G63,"Lỗi"),"Lỗi") -> 44 | C62: =SUM(D62:G62) -> 44 | D62: 0 | E62: 44 | F62: 0 | G62: 0 | H62: =SUM(I62:M62) -> 15 | I62: 0 | J62: 15 | K62: 0 | L62: 0 | M62: 0 | N62: 0 | O62: 0 | P62: 0 | Q62: 0 | R62: 0 | S62: 0 | T62: 0 | U62: 0 | V62: 0 | W62: 0 | X62: 0 | Z62: 44 | AA62: =B62-F62-G62-H62 -> 29
A63: Xã Phước Thái | B63: =IFERROR(IF((Y63+Z63)='02.XLD'!G64,'02.XLD'!G64,"Lỗi"),"Lỗi") -> 10 | C63: =SUM(D63:G63) -> 12 | D63: 0 | E63: 10 | F63: 0 | G63: 2 | H63: =SUM(I63:M63) -> 1 | I63: 1 | J63: 0 | K63: 0 | L63: 0 | M63: 0 | N63: 0 | O63: 0 | P63: 0 | Q63: 0 | R63: 0 | S63: 0 | T63: 0 | U63: 0 | V63: 0 | W63: 0 | X63: 0 | Z63: 10 | AA63: =B63-F63-G63-H63 -> 7
A64: Xã Long Phước | B64: =IFERROR(IF((Y64+Z64)='02.XLD'!G65,'02.XLD'!G65,"Lỗi"),"Lỗi") -> 18 | C64: =SUM(D64:G64) -> 18 | D64: 0 | E64: 11 | F64: 4 | G64: 3 | H64: =SUM(I64:M64) -> 2 | I64: 0 | J64: 2 | K64: 0 | L64: 0 | M64: 0 | N64: 0 | O64: 0 | P64: 0 | Q64: 0 | R64: 0 | S64: 0 | T64: 0 | U64: 0 | V64: 0 | W64: 0 | X64: 0 | Y64: 0 | Z64: 18 | AA64: =B64-F64-G64-H64 -> 9
A65: Xã Bình An | B65: =IFERROR(IF((Y65+Z65)='02.XLD'!G66,'02.XLD'!G66,"Lỗi"),"Lỗi") -> 14 | C65: =SUM(D65:G65) -> 14 | D65: 2 | E65: 0 | F65: 12 | G65: 0 | H65: =SUM(I65:M65) -> 0 | I65: 0 | J65: 0 | K65: 0 | L65: 0 | M65: 0 | N65: 0 | O65: 0 | P65: 0 | Q65: 0 | R65: 0 | S65: 0 | T65: 0 | U65: 0 | V65: 0 | W65: 0 | X65: 0 | Y65: 4 | Z65: 10 | AA65: =B65-F65-G65-H65 -> 2
A66: Xã An Phước | B66: =IFERROR(IF((Y66+Z66)='02.XLD'!G67,'02.XLD'!G67,"Lỗi"),"Lỗi") -> 14 | C66: =SUM(D66:G66) -> 14 | D66: 0 | E66: 11 | F66: 0 | G66: 3 | H66: =SUM(I66:M66) -> 3 | I66: 0 | J66: 3 | K66: 0 | L66: 0 | M66: 0 | N66: 0 | O66: 0 | P66: 0 | Q66: 0 | R66: 0 | S66: 0 | T66: 0 | U66: 0 | V66: 0 | W66: 0 | X66: 0 | Y66: 0 | Z66: 14 | AA66: =B66-F66-G66-H66 -> 8
A67: Xã Định Quán | B67: =IFERROR(IF((Y67+Z67)='02.XLD'!G68,'02.XLD'!G68,"Lỗi"),"Lỗi") -> 31 | C67: =SUM(D67:G67) -> 31 | D67: 0 | E67: 28 | F67: 2 | G67: 1 | H67: =SUM(I67:M67) -> 28 | I67: 0 | J67: 28 | K67: 0 | L67: 0 | M67: 0 | N67: 0 | O67: 0 | P67: 0 | Q67: 0 | R67: 0 | S67: 0 | T67: 0 | U67: 0 | V67: 0 | W67: 0 | X67: 0 | Y67: 1 | Z67: 30 | AA67: =B67-F67-G67-H67 -> 0
A68: Xã La Ngà | B68: =IFERROR(IF((Y68+Z68)='02.XLD'!G69,'02.XLD'!G69,"Lỗi"),"Lỗi") -> 0 | C68: =SUM(D68:G68) -> 0 | D68: 0 | E68: 0 | F68: 0 | G68: 0 | H68: =SUM(I68:M68) -> 0 | I68: 0 | J68: 0 | K68: 0 | L68: 0 | M68: 0 | N68: 0 | O68: 0 | P68: 0 | Q68: 0 | R68: 0 | S68: 0 | T68: 0 | U68: 0 | V68: 0 | W68: 0 | X68: 0 | Y68: 0 | Z68: 0 | AA68: =B68-F68-G68-H68 -> 0
A69: Xã Thanh Sơn | B69: =IFERROR(IF((Y69+Z69)='02.XLD'!G70,'02.XLD'!G70,"Lỗi"),"Lỗi") -> 0 | C69: =SUM(D69:G69) -> 0 | D69: 0 | E69: 0 | F69: 0 | G69: 0 | H69: =SUM(I69:M69) -> 0 | I69: 0 | J69: 0 | K69: 0 | L69: 0 | M69: 0 | N69: 0 | O69: 0 | P69: 0 | Q69: 0 | R69: 0 | S69: 0 | T69: 0 | U69: 0 | V69: 0 | W69: 0 | X69: 0 | Y69: 0 | Z69: 0 | AA69: =B69-F69-G69-H69 -> 0
A70: Xã Phú Vinh | B70: =IFERROR(IF((Y70+Z70)='02.XLD'!G71,'02.XLD'!G71,"Lỗi"),"Lỗi") -> 0 | C70: =SUM(D70:G70) -> 0 | D70: 0 | E70: 0 | F70: 0 | G70: 0 | H70: =SUM(I70:M70) -> 0 | I70: 0 | J70: 0 | K70: 0 | L70: 0 | M70: 0 | N70: 0 | O70: 0 | P70: 0 | Q70: 0 | R70: 0 | S70: 0 | T70: 0 | U70: 0 | V70: 0 | W70: 0 | X70: 0 | Y70: 0 | Z70: 0 | AA70: =B70-F70-G70-H70 -> 0
A71: Xã Phú Hòa | B71: =IFERROR(IF((Y71+Z71)='02.XLD'!G72,'02.XLD'!G72,"Lỗi"),"Lỗi") -> 3 | C71: =SUM(D71:G71) -> 3 | D71: 0 | E71: 0 | F71: 2 | G71: 1 | H71: =SUM(I71:M71) -> 0 | I71: 0 | J71: 0 | K71: 0 | L71: 0 | M71: 0 | N71: 0 | O71: 0 | P71: 0 | Q71: 0 | R71: 0 | S71: 0 | T71: 0 | U71: 0 | V71: 0 | W71: 0 | X71: 0 | Y71: 0 | Z71: 3 | AA71: =B71-F71-G71-H71 -> 0
A72: Phường Tân Phú | B72: =IFERROR(IF((Y72+Z72)='02.XLD'!G73,'02.XLD'!G73,"Lỗi"),"Lỗi") -> 0 | C72: =SUM(D72:G72) -> 0 | D72: 0 | E72: 0 | F72: 0 | G72: 0 | H72: =SUM(I72:M72) -> 0 | I72: 0 | J72: 0 | K72: 0 | L72: 0 | M72: 0 | N72: 0 | O72: 0 | P72: 0 | Q72: 0 | R72: 0 | S72: 0 | T72: 0 | U72: 0 | V72: 0 | W72: 0 | X72: 0 | Y72: 0 | Z72: 0 | AA72: =B72-F72-G72-H72 -> 0
A73: Xã Tà Lài | B73: =IFERROR(IF((Y73+Z73)='02.XLD'!G74,'02.XLD'!G74,"Lỗi"),"Lỗi") -> 1 | C73: =SUM(D73:G73) -> 1 | D73: 0 | E73: 1 | F73: 0 | G73: 0 | H73: =SUM(I73:M73) -> 1 | I73: 1 | J73: 0 | K73: 0 | L73: 0 | M73: 0 | N73: 0 | O73: 0 | P73: 0 | Q73: 0 | R73: 0 | S73: 0 | T73: 1 | U73: 1 | V73: 0 | W73: 0 | X73: 0 | Y73: 0 | Z73: 1 | AA73: =B73-F73-G73-H73 -> 0
A74: Xã Nam Cát Tiên | B74: =IFERROR(IF((Y74+Z74)='02.XLD'!G75,'02.XLD'!G75,"Lỗi"),"Lỗi") -> 0 | C74: =SUM(D74:G74) -> 0 | D74: 0 | E74: 0 | F74: 0 | G74: 0 | H74: =SUM(I74:M74) -> 0 | I74: 0 | J74: 0 | K74: 0 | L74: 0 | M74: 0 | N74: 0 | O74: 0 | P74: 0 | Q74: 0 | R74: 0 | S74: 0 | T74: 0 | U74: 0 | V74: 0 | W74: 0 | X74: 0 | Y74: 0 | Z74: 0 | AA74: =B74-F74-G74-H74 -> 0
A75: Xã Phú Lâm | B75: =IFERROR(IF((Y75+Z75)='02.XLD'!G76,'02.XLD'!G76,"Lỗi"),"Lỗi") -> 0 | C75: =SUM(D75:G75) -> 0 | D75: 0 | E75: 0 | F75: 0 | G75: 0 | H75: =SUM(I75:M75) -> 0 | I75: 0 | J75: 0 | K75: 0 | L75: 0 | M75: 0 | N75: 0 | O75: 0 | P75: 0 | Q75: 0 | R75: 0 | S75: 0 | T75: 0 | U75: 0 | V75: 0 | W75: 0 | X75: 0 | Y75: 0 | Z75: 0 | AA75: =B75-F75-G75-H75 -> 0
... A77: Phường Trị An | B77: =IFERROR(IF((Y77+Z77)='02.XLD'!G78,'02.XLD'!G78,"Lỗi"),"Lỗi") -> 16 | C77: =SUM(D77:G77) -> 16 | D77: 0 | E77: 15 | F77: 1 | G77: 0 | H77: =SUM(I77:M77) -> 14 | I77: 1 | J77: 13 | K77: 0 | L77: 0 | M77: 0 | N77: 0 | O77: 0 | P77: 0 | Q77: 0 | R77: 0 | S77: 1 | T77: 0 | U77: 0 | V77: 0 | W77: 0 | X77: 0 | Y77: 7 | Z77: 9 | AA77: =B77-F77-G77-H77 -> 1
A78: Phường Tân Triều | B78: =IFERROR(IF((Y78+Z78)='02.XLD'!G79,'02.XLD'!G79,"Lỗi"),"Lỗi") -> 5 | C78: =SUM(D78:G78) -> 5 | D78: 1 | E78: 2 | F78: 0 | G78: 2 | H78: =SUM(I78:M78) -> 2 | I78: 0 | J78: 2 | K78: 0 | L78: 0 | M78: 0 | N78: 0 | O78: 0 | P78: 0 | Q78: 0 | R78: 0 | S78: 0 | T78: 0 | U78: 0 | V78: 0 | W78: 0 | X78: 0 | Z78: 5 | AA78: =B78-F78-G78-H78 -> 1
A79: Xã Tân An | B79: =IFERROR(IF((Y79+Z79)='02.XLD'!G80,'02.XLD'!G80,"Lỗi"),"Lỗi") -> 7 | C79: =SUM(D79:G79) -> 7 | D79: 0 | E79: 4 | F79: 2 | G79: 1 | H79: 0 | I79: 0 | J79: 0 | K79: 0 | L79: 0 | M79: 0 | N79: 0 | O79: 0 | P79: 0 | Q79: 0 | R79: 0 | S79: 0 | T79: 0 | U79: 0 | V79: 0 | W79: 0 | X79: 0 | Y79: 0 | Z79: 7 | AA79: =B79-F79-G79-H79 -> 4
A80: Xã Phú Lý | B80: =IFERROR(IF((Y80+Z80)='02.XLD'!G81,'02.XLD'!G81,"Lỗi"),"Lỗi") -> 1 | C80: =SUM(D80:G80) -> 1 | D80: 0 | E80: 0 | F80: 1 | G80: 0 | H80: =SUM(I80:M80) -> 0 | I80: 0 | J80: 0 | K80: 0 | L80: 0 | M80: 0 | N80: 0 | O80: 0 | P80: 0 | Q80: 0 | R80: 0 | S80: 0 | T80: 0 | U80: 0 | V80: 0 | W80: 0 | X80: 0 | Y80: 0 | Z80: 1 | AA80: =B80-F80-G80-H80 -> 0
A81: Phường Bình Phước | B81: =IFERROR(IF((Y81+Z81)='02.XLD'!G82,'02.XLD'!G82,"Lỗi"),"Lỗi") -> 222 | C81: =SUM(D81:G81) -> 222 | D81: 5 | E81: 111 | F81: 20 | G81: 86 | H81: =SUM(I81:M81) -> 97 | I81: 3 | J81: 38 | K81: 56 | L81: 0 | M81: 0 | N81: 0 | O81: 0 | P81: 0 | Q81: 0 | R81: 0 | S81: 59 | T81: 0 | U81: 0 | V81: 0 | W81: 0 | X81: 0 | Y81: 5 | Z81: 217 | AA81: =B81-F81-G81-H81 -> 19
A82: Phường Phước Bình | B82: =IFERROR(IF((Y82+Z82)='02.XLD'!G83,'02.XLD'!G83,"Lỗi"),"Lỗi") -> 0 | C82: =SUM(D82:G82) -> 0 | D82: 0 | E82: 0 | F82: 0 | G82: 0 | H82: =SUM(I82:M82) -> 0 | I82: 0 | J82: 0 | K82: 0 | L82: 0 | M82: 0 | N82: 0 | O82: 0 | P82: 0 | Q82: 0 | R82: 0 | S82: 0 | T82: 0 | U82: 0 | V82: 0 | W82: 0 | X82: 0 | Y82: 0 | Z82: 0 | AA82: =B82-F82-G82-H82 -> 0
A83: Phường Phước Long | B83: =IFERROR(IF((Y83+Z83)='02.XLD'!G84,'02.XLD'!G84,"Lỗi"),"Lỗi") -> 0 | C83: =SUM(D83:G83) -> 0 | D83: 0 | E83: 0 | G83: 0 | H83: =SUM(I83:M83) -> 0 | I83: 0 | J83: 0 | K83: 0 | L83: 0 | M83: 0 | N83: 0 | O83: 0 | P83: 0 | Q83: 0 | R83: 0 | S83: 0 | T83: 0 | U83: 0 | V83: 0 | W83: 0 | X83: 0 | Y83: 0 | Z83: 0 | AA83: =B83-F83-G83-H83 -> 0
A84: Phường Tân Khai | B84: =IFERROR(IF((Y84+Z84)='02.XLD'!G85,'02.XLD'!G85,"Lỗi"),"Lỗi") -> 0 | C84: =SUM(D84:G84) -> 0 | D84: 0 | E84: 0 | F84: 0 | G84: 0 | H84: =SUM(I84:M84) -> 0 | I84: 0 | J84: 0 | K84: 0 | L84: 0 | M84: 0 | N84: 0 | O84: 0 | P84: 0 | Q84: 0 | R84: 0 | S84: 0 | T84: 0 | U84: 0 | V84: 0 | W84: 0 | X84: 0 | Z84: 0 | AA84: =B84-F84-G84-H84 -> 0
A85: Phường Bình Long | B85: =IFERROR(IF((Y85+Z85)='02.XLD'!G86,'02.XLD'!G86,"Lỗi"),"Lỗi") -> 0 | C85: =SUM(D85:G85) -> 0 | D85: 0 | E85: 0 | F85: 0 | G85: 0 | H85: =SUM(I85:M85) -> 0 | I85: 0 | J85: 0 | K85: 0 | L85: 0 | M85: 0 | N85: 0 | O85: 0 | P85: 0 | Q85: 0 | R85: 0 | S85: 0 | T85: 0 | U85: 0 | V85: 0 | W85: 0 | X85: 0 | Z85: 0 | AA85: =B85-F85-G85-H85 -> 0
A86: Xã Lộc Hưng | B86: =IFERROR(IF((Y86+Z86)='02.XLD'!G87,'02.XLD'!G87,"Lỗi"),"Lỗi") -> 0 | C86: =SUM(D86:G86) -> 0 | D86: 0 | E86: 0 | F86: 0 | G86: 0 | H86: =SUM(I86:M86) -> 0 | I86: 0 | J86: 0 | K86: 0 | L86: 0 | M86: 0 | N86: 0 | O86: 0 | P86: 0 | Q86: 0 | R86: 0 | S86: 0 | T86: 0 | U86: 0 | V86: 0 | W86: 0 | X86: 0 | Y86: 0 | Z86: 0 | AA86: =B86-F86-G86-H86 -> 0
A87: Xã Thiện Hưng | B87: =IFERROR(IF((Y87+Z87)='02.XLD'!G88,'02.XLD'!G88,"Lỗi"),"Lỗi") -> 0 | C87: =SUM(D87:G87) -> 0 | D87: 0 | E87: 0 | F87: 0 | G87: 0 | H87: =SUM(I87:M87) -> 0 | I87: 0 | J87: 0 | K87: 0 | L87: 0 | M87: 0 | N87: 0 | O87: 0 | P87: 0 | Q87: 0 | R87: 0 | S87: 0 | T87: 0 | U87: 0 | V87: 0 | W87: 0 | X87: 0 | Y87: 0 | Z87: 0 | AA87: =B87-F87-G87-H87 -> 0
A88: Xã Đa Kia | B88: =IFERROR(IF((Y88+Z88)='02.XLD'!G89,'02.XLD'!G89,"Lỗi"),"Lỗi") -> 0 | C88: =SUM(D88:G88) -> 0 | D88: 0 | E88: 0 | F88: 0 | G88: 0 | H88: =SUM(I88:M88) -> 0 | I88: 0 | J88: 0 | K88: 0 | L88: 0 | M88: 0 | N88: 0 | O88: 0 | P88: 0 | Q88: 0 | R88: 0 | S88: 0 | T88: 0 | U88: 0 | V88: 0 | W88: 0 | X88: 0 | Y88: 0 | Z88: 0 | AA88: =B88-F88-G88-H88 -> 0
A89: Xã Đak Ơ | B89: =IFERROR(IF((Y89+Z89)='02.XLD'!G90,'02.XLD'!G90,"Lỗi"),"Lỗi") -> 0 | C89: =SUM(D89:G89) -> 0 | D89: 0 | E89: 0 | F89: 0 | G89: 0 | H89: =SUM(I89:M89) -> 0 | I89: 0 | J89: 0 | K89: 0 | L89: 0 | M89: 0 | N89: 0 | O89: 0 | P89: 0 | Q89: 0 | R89: 0 | S89: 0 | T89: 0 | U89: 0 | V89: 0 | W89: 0 | X89: 0 | Z89: 0 | AA89: =B89-F89-G89-H89 -> 0
A90: Xã Phú Riềng | B90: =IFERROR(IF((Y90+Z90)='02.XLD'!G91,'02.XLD'!G91,"Lỗi"),"Lỗi") -> 0 | C90: =SUM(D90:G90) -> 1 | D90: 1 | E90: 0 | F90: 0 | G90: 0 | H90: =SUM(I90:M90) -> 0 | I90: 0 | J90: 0 | K90: 0 | L90: 0 | M90: 0 | N90: 0 | O90: 0 | P90: 0 | Q90: 0 | R90: 0 | S90: 0 | T90: 0 | U90: 0 | V90: 0 | W90: 0 | X90: 0 | Y90: 0 | Z90: 0 | AA90: =B90-F90-G90-H90 -> 0
A91: Phường Đồng Phú | B91: =IFERROR(IF((Y91+Z91)='02.XLD'!G92,'02.XLD'!G92,"Lỗi"),"Lỗi") -> 0 | C91: 0 | D91: 1 | E91: 1 | F91: 0 | G91: 0 | H91: =SUM(I91:M91) -> 0 | I91: 0 | J91: 0 | K91: 0 | L91: 0 | M91: 0 | N91: 0 | O91: 0 | P91: 0 | Q91: 0 | R91: 0 | S91: 0 | T91: 0 | U91: 0 | V91: 0 | W91: 0 | X91: 0 | Y91: 0 | Z91: 0 | AA91: =B91-F91-G91-H91 -> 0
A92: Xã Tân Lợi | B92: =IFERROR(IF((Y92+Z92)='02.XLD'!G93,'02.XLD'!G93,"Lỗi"),"Lỗi") -> 10 | C92: =SUM(D92:G92) -> 10 | D92: 0 | E92: 7 | F92: 0 | G92: 3 | H92: =SUM(I92:M92) -> 7 | I92: 0 | J92: 7 | K92: 0 | L92: 0 | M92: 0 | N92: 0 | O92: 0 | P92: 0 | Q92: 0 | R92: 0 | S92: 0 | T92: 0 | U92: 0 | V92: 0 | W92: 0 | X92: 0 | Y92: 2 | Z92: 8 | AA92: =B92-F92-G92-H92 -> 0
A93: Xã Bù Đăng | B93: =IFERROR(IF((Y93+Z93)='02.XLD'!G94,'02.XLD'!G94,"Lỗi"),"Lỗi") -> 1 | C93: =SUM(D93:G93) -> 1 | D93: 0 | E93: 0 | F93: 1 | G93: 0 | H93: =SUM(I93:M93) -> 0 | I93: 0 | J93: 0 | K93: 0 | L93: 0 | M93: 0 | N93: 0 | O93: 0 | P93: 0 | Q93: 0 | R93: 0 | S93: 0 | T93: 0 | U93: 0 | V93: 0 | W93: 0 | X93: 0 | Y93: 0 | Z93: 1 | AA93: =B93-F93-G93-H93 -> 0
A94: Xã Lộc Thạnh | B94: =IFERROR(IF((Y94+Z94)='02.XLD'!G95,'02.XLD'!G95,"Lỗi"),"Lỗi") -> 1 | C94: =SUM(D94:G94) -> 1 | D94: 0 | E94: 1 | F94: 0 | G94: 0 | H94: =SUM(I94:M94) -> 1 | I94: 0 | J94: 1 | K94: 0 | L94: 0 | M94: 0 | N94: 0 | O94: 0 | P94: 0 | Q94: 0 | R94: 0 | S94: 0 | T94: 0 | U94: 0 | V94: 0 | W94: 0 | X94: 0 | Y94: 0 | Z94: 1 | AA94: =B94-F94-G94-H94 -> 0
A95: Xã Bom Bo | B95: =IFERROR(IF((Y95+Z95)='02.XLD'!G96,'02.XLD'!G96,"Lỗi"),"Lỗi") -> 0 | C95: =SUM(D95:G95) -> 0 | D95: 0 | E95: 0 | F95: 0 | G95: 0 | H95: =SUM(I95:M95) -> 0 | I95: 0 | J95: 0 | K95: 0 | L95: 0 | M95: 0 | N95: 0 | O95: 0 | P95: 0 | Q95: 0 | R95: 0 | S95: 0 | T95: 0 | U95: 0 | V95: 0 | W95: 0 | X95: 0 | Y95: 0 | Z95: 0 | AA95: =B95-F95-G95-H95 -> 0
A96: Phường Đồng Xoài | B96: =IFERROR(IF((Y96+Z96)='02.XLD'!G97,'02.XLD'!G97,"Lỗi"),"Lỗi") -> 16 | C96: =SUM(D96:G96) -> 16 | D96: 0 | E96: 14 | F96: 2 | G96: 0 | H96: =SUM(I96:M96) -> 14 | I96: 5 | J96: 8 | K96: 1 | L96: 0 | M96: 0 | N96: 0 | O96: 0 | P96: 0 | Q96: 0 | R96: 0 | S96: 5 | T96: 0 | U96: 0 | V96: 0 | W96: 0 | X96: 0 | Y96: 0 | Z96: 16 | AA96: =B96-F96-G96-H96 -> 0
A97: Phường Minh Hưng | B97: =IFERROR(IF((Y97+Z97)='02.XLD'!G98,'02.XLD'!G98,"Lỗi"),"Lỗi") -> 0 | C97: =SUM(D97:G97) -> 0 | D97: 0 | E97: 0 | F97: 0 | G97: 0 | H97: =SUM(I97:M97) -> 0 | I97: 0 | J97: 0 | K97: 0 | L97: 0 | M97: 0 | N97: 0 | O97: 0 | P97: 0 | Q97: 0 | R97: 0 | S97: 0 | T97: 0 | U97: 0 | V97: 0 | W97: 0 | X97: 0 | Y97: 0 | Z97: 0 | AA97: =B97-F97-G97-H97 -> 0
A98: Phường Chơn Thành | B98: =IFERROR(IF((Y98+Z98)='02.XLD'!G99,'02.XLD'!G99,"Lỗi"),"Lỗi") -> 3 | C98: =SUM(D98:G98) -> 3 | D98: 0 | E98: 3 | F98: 0 | G98: 0 | H98: =SUM(I98:M98) -> 3 | I98: 0 | J98: 3 | K98: 0 | L98: 0 | M98: 0 | N98: 0 | O98: 0 | P98: 0 | Q98: 0 | R98: 0 | S98: 0 | T98: 0 | U98: 0 | V98: 0 | W98: 0 | X98: 0 | Y98: 0 | Z98: 3 | AA98: =B98-F98-G98-H98 -> 0
A99: Xã Nha Bích | B99: =IFERROR(IF((Y99+Z99)='02.XLD'!G100,'02.XLD'!G100,"Lỗi"),"Lỗi") -> 0 | C99: =SUM(D99:G99) -> 1 | D99: 0 | E99: 1 | F99: 0 | H99: =SUM(I99:M99) -> 0 | I99: 0 | J99: 0 | K99: 0 | L99: 0 | M99: 0 | N99: 0 | O99: 0 | P99: 0 | Q99: 0 | R99: 0 | S99: 0 | T99: 0 | U99: 0 | V99: 0 | W99: 0 | X99: 0 | Y99: 0 | Z99: 0 | AA99: =B99-F99-G99-H99 -> 0
A100: Phường An Lộc | B100: =IFERROR(IF((Y100+Z100)='02.XLD'!G101,'02.XLD'!G101,"Lỗi"),"Lỗi") -> 1 | C100: =SUM(D100:G100) -> 1 | D100: 1 | E100: 0 | F100: 0 | G100: 0 | H100: =SUM(I100:M100) -> 0 | I100: 0 | J100: 0 | K100: 0 | L100: 0 | M100: 0 | N100: 0 | O100: 0 | P100: 0 | Q100: 0 | R100: 0 | S100: 0 | T100: 0 | U100: 0 | V100: 0 | W100: 0 | X100: 0 | Z100: 1 | AA100: =B100-F100-G100-H100 -> 1
A101: Xã Tân Quan | B101: =IFERROR(IF((Y101+Z101)='02.XLD'!G102,'02.XLD'!G102,"Lỗi"),"Lỗi") -> 0 | C101: =SUM(D101:G101) -> 0 | D101: 0 | E101: 0 | F101: 0 | G101: 0 | H101: =SUM(I101:M101) -> 0 | I101: 0 | J101: 0 | K101: 0 | L101: 0 | M101: 0 | N101: 0 | O101: 0 | P101: 0 | Q101: 0 | R101: 0 | S101: 0 | T101: 0 | U101: 0 | V101: 0 | W101: 0 | X101: 0 | Y101: 0 | Z101: 0 | AA101: =B101-F101-G101-H101 -> 0
A102: Xã Tân Hưng | B102: =IFERROR(IF((Y102+Z102)='02.XLD'!G103,'02.XLD'!G103,"Lỗi"),"Lỗi") -> 0 | C102: =SUM(D102:G102) -> 0 | D102: 0 | E102: 0 | F102: 0 | G102: 0 | H102: =SUM(I102:M102) -> 0 | I102: 0 | J102: 0 | K102: 0 | L102: 0 | M102: 0 | N102: 0 | O102: 0 | P102: 0 | Q102: 0 | R102: 0 | S102: 0 | T102: 0 | U102: 0 | V102: 0 | W102: 0 | X102: 0 | Y102: 0 | Z102: 0 | AA102: =B102-F102-G102-H102 -> 0
...

Sheet 04.GQTC
A1: UBND THÀNH PHỐ ĐỒNG NAI
A2: THANH TRA THÀNH PHỐ | Z2: 04/GQTC
B3: TỔNG HỢP KẾT QUẢ GIẢI QUYẾT TỐ CÁO TRONG 09 THÁNG ĐẦU NĂM 2026 CỦA THÀNH PHỐ ĐỒNG NAI
B4: Số liệu tính từ ngày 06/12/2025 đến ngày 05/9/2026
B5: (Kèm theo Báo cáo số: /BC-TT ngày /9/2026 của Thanh tra thành phố Đồng Nai)
A6: Đơn vị | B6: Tổng số đơn tố cáo thuộc thẩm quyền | C6: Tổng số vụ việc | D6: Phân tích kết quả | H6: Tổng số Kết luận ban hành trong kỳ | I6: Tố cáo lần đầu | L6: Tố cáo tiếp | O6: Kiến nghị thu hồi cho Nhà nước | Q6: Trả lại cho tổ chức, cá nhân | U6: Kiến nghị xử lý hành chính | X6: Chuyển cơ quan điều tra | AA6: Số đơn kỳ trước chuyển sang | AB6: Số đơn trong kỳ | AC6: Số đơn tồn chuyển kỳ sau
D7: Đang xem xét điều kiện thụ lý | E7: Đã thụ lý giải quyết | F7: Không thụ lý | G7: Rút đơn, đình chỉ giải quyết | I7: Tố cáo đúng | J7: Tố cáo sai | K7: Tố cáo có đúng có sai | L7: Tố cáo tiếp đúng | M7: Tố cáo tiếp sai | N7: Tố cáo tiếp có đúng có sai | O7: Tiền (Trđ) | P7: Đất (m2) | Q7: Tiền (Trđ) | R7: Đất (m2) | S7: Số tổ chức được trả lại quyền lợi | T7: Số cá nhân được trả lại quyền lợi | U7: Tổ chức | V7: Cá nhân | W7: Trong đó, Cán bộ, công chức | X7: Số vụ | Y7: Số đối tượng | Z7: Trong đó số cán bộ, công chức, viên chức
A9: MS | B9: 1 | C9: 2=3+4+5+6 | D9: 3 | E9: 4 | F9: 5 | G9: 6 | H9: 7=8+9+10+11+12+13 | I9: 8 | J9: 9 | K9: 10 | L9: 11 | M9: 12 | N9: 13 | O9: 14 | P9: 15 | Q9: 16 | R9: 17 | S9: 18 | T9: 19 | U9: 20 | V9: 21 | W9: 22 | X9: 23 | Y9: 24 | Z9: 25 | AA9: 26 | AB9: 27 | AC9: 28
A10: UBND THÀNH PHỐ | B10: =IFERROR(IF((AA10+AB10)='02.XLD'!M11,'02.XLD'!M11,"Lỗi"),"Lỗi") -> 27 | C10: =SUM(D10:G10) -> 27 | D10: 0 | E10: 22 | F10: 0 | G10: 5 | H10: =SUM(I10:N10) -> 15 | I10: 5 | J10: 6 | K10: 3 | L10: 0 | M10: 1 | N10: 0 | O10: 0 | P10: 0 | Q10: 0 | R10: 0 | S10: 0 | T10: 0 | U10: 0 | V10: 0 | W10: 0 | X10: 0 | Y10: 0 | Z10: 0 | AA10: 7 | AB10: 20 | AC10: =B10-F10-G10-H10 -> 7
A11: CẤP SỞ, NGÀNH | B11: =SUM(B12:B24) -> 173 | C11: =SUM(D11:G11) -> 173 | D11: =SUM(D12:D24) -> 7 | E11: =SUM(E12:E24) -> 10 | F11: =SUM(F12:F24) -> 111 | G11: =SUM(G12:G24) -> 45 | H11: =SUM(H12:H24) -> 7 | I11: =SUM(I12:I24) -> 1 | J11: =SUM(J12:J24) -> 4 | K11: =SUM(K12:K24) -> 2 | ... Z11: =SUM(Z12:Z24) -> 0 | AA11: 0 | AB11: =SUM(AB12:AB24) -> 173 | AC11: =SUM(AC12:AC24) -> 10
A12: Sở Dân tộc và tôn giáo | B12: =IFERROR(IF((AA12+AB12)='02.XLD'!M13,'02.XLD'!M13,"Lỗi"),"Lỗi") -> 0 | C12: =SUM(D12:G12) -> 0 | H12: =SUM(I12:N12) -> 0 | AA12: 0 | AC12: =B12-F12-G12-H12 -> 0
A13: Sở Công Thương | B13: =IFERROR(IF((AA13+AB13)='02.XLD'!M14,'02.XLD'!M14,"Lỗi"),"Lỗi") -> 1 | C13: =SUM(D13:G13) -> 1 | D13: 0 | E13: 0 | F13: 1 | G13: 0 | H13: =SUM(I13:N13) -> 0 | I13: 0 | J13: 0 | K13: 0 | L13: 0 | M13: 0 | N13: 0 | O13: 0 | P13: 0 | Q13: 0 | R13: 0 | S13: 0 | T13: 0 | U13: 0 | V13: 0 | W13: 0 | X13: 0 | Y13: 0 | Z13: 0 | AB13: 1 | AC13: =B13-F13-G13-H13 -> 0
A14: Sở GD&ĐT | B14: =IFERROR(IF((AA14+AB14)='02.XLD'!M15,'02.XLD'!M15,"Lỗi"),"Lỗi") -> 2 | C14: =SUM(D14:G14) -> 2 | D14: 0 | E14: 1 | F14: 1 | G14: 0 | H14: =SUM(I14:N14) -> 1 | I14: 0 | J14: 0 | K14: 1 | L14: 0 | M14: 0 | N14: 0 | O14: 118 | P14: 0 | Q14: 0 | R14: 0 | S14: 0 | T14: 0 | U14: 0 | V14: 3 | W14: 3 | X14: 0 | Y14: 0 | Z14: 0 | AA14: 0 | AB14: 2 | AC14: =B14-F14-G14-H14 -> 0
A15: Sở KH&CN | B15: =IFERROR(IF((AA15+AB15)='02.XLD'!M16,'02.XLD'!M16,"Lỗi"),"Lỗi") -> 0 | C15: =SUM(D15:G15) -> 0 | H15: =SUM(I15:N15) -> 0 | AA15: 0 | AC15: =B15-F15-G15-H15 -> 0
A16: Sở NN&MT | B16: =IFERROR(IF((AA16+AB16)='02.XLD'!M17,'02.XLD'!M17,"Lỗi"),"Lỗi") -> 146 | C16: =SUM(D16:G16) -> 146 | D16: 7 | E16: 1 | F16: 98 | G16: 40 | H16: =SUM(I16:N16) -> 1 | I16: 1 | J16: 0 | K16: 0 | L16: 0 | M16: 0 | N16: 0 | O16: 0 | P16: 0 | Q16: 0 | R16: 0 | S16: 0 | T16: 0 | U16: 2 | V16: 1 | W16: 1 | X16: 0 | Y16: 0 | Z16: 0 | AA16: 0 | AB16: 146 | AC16: =B16-F16-G16-H16 -> 7
A17: Sở Nội vụ | B17: =IFERROR(IF((AA17+AB17)='02.XLD'!M18,'02.XLD'!M18,"Lỗi"),"Lỗi") -> 5 | C17: =SUM(D17:G17) -> 5 | D17: 0 | E17: 2 | F17: 0 | G17: 3 | H17: =SUM(I17:N17) -> 2 | I17: 0 | J17: 1 | K17: 1 | L17: 0 | M17: 0 | N17: 0 | O17: 0 | P17: 0 | Q17: 0 | R17: 0 | S17: 0 | T17: 0 | U17: 0 | V17: 0 | W17: 0 | X17: 0 | Y17: 0 | Z17: 0 | AA17: 0 | AB17: 5 | AC17: =B17-F17-G17-H17 -> 0
A18: Sở Ngoại vụ | B18: =IFERROR(IF((AA18+AB18)='02.XLD'!M19,'02.XLD'!M19,"Lỗi"),"Lỗi") -> 0 | C18: =SUM(D18:G18) -> 0 | H18: =SUM(I18:N18) -> 0 | AA18: 0 | AC18: =B18-F18-G18-H18 -> 0
A19: Sở Tài chính | B19: =IFERROR(IF((AA19+AB19)='02.XLD'!M20,'02.XLD'!M20,"Lỗi"),"Lỗi") -> 2 | C19: =SUM(D19:G19) -> 2 | D19: 0 | E19: 2 | F19: 0 | G19: 0 | H19: =SUM(I19:N19) -> 0 | I19: 0 | J19: 0 | K19: 0 | L19: 0 | M19: 0 | N19: 0 | O19: 0 | P19: 0 | Q19: 0 | R19: 0 | S19: 0 | T19: 0 | U19: 0 | V19: 0 | W19: 0 | X19: 0 | Y19: 0 | Z19: 0 | AA19: 0 | AB19: 2 | AC19: =B19-F19-G19-H19 -> 2
A20: Sở Tư pháp | B20: =IFERROR(IF((AA20+AB20)='02.XLD'!M21,'02.XLD'!M21,"Lỗi"),"Lỗi") -> 15 | C20: =SUM(D20:G20) -> 15 | D20: 0 | E20: 2 | F20: 11 | G20: 2 | H20: =SUM(I20:N20) -> 2 | I20: 0 | J20: 2 | K20: 0 | L20: 0 | M20: 0 | N20: 0 | O20: 0 | P20: 0 | Q20: 0 | R20: 0 | S20: 0 | T20: 0 | U20: 0 | V20: 0 | W20: 0 | X20: 0 | Y20: 0 | Z20: 0 | AA20: 0 | AB20: 15 | AC20: =B20-F20-G20-H20 -> 0
A21: Sở VHTT&DL | B21: =IFERROR(IF((AA21+AB21)='02.XLD'!M22,'02.XLD'!M22,"Lỗi"),"Lỗi") -> 1 | C21: =SUM(D21:G21) -> 1 | D21: 0 | E21: 1 | F21: 0 | G21: 0 | H21: =SUM(I21:N21) -> 1 | I21: 0 | J21: 1 | K21: 0 | L21: 0 | M21: 0 | N21: 0 | O21: 0 | P21: 0 | Q21: 0 | R21: 0 | S21: 0 | T21: 0 | U21: 0 | V21: 0 | W21: 0 | X21: 0 | Y21: 0 | Z21: 0 | AA21: 0 | AB21: 1 | AC21: =B21-F21-G21-H21 -> 0
A22: Sở Xây dựng | B22: =IFERROR(IF((AA22+AB22)='02.XLD'!M23,'02.XLD'!M23,"Lỗi"),"Lỗi") -> 1 | C22: =SUM(D22:G22) -> 1 | D22: 0 | E22: 1 | F22: 0 | G22: 0 | H22: =SUM(I22:N22) -> 0 | AA22: 0 | AB22: 1 | AC22: =B22-F22-G22-H22 -> 1
A23: Sở Y tế | B23: =IFERROR(IF((AA23+AB23)='02.XLD'!M24,'02.XLD'!M24,"Lỗi"),"Lỗi") -> 0 | C23: =SUM(D23:G23) -> 0 | D23: 0 | E23: 0 | F23: 0 | G23: 0 | H23: =SUM(I23:N23) -> 0 | I23: 0 | J23: 0 | K23: 0 | L23: 0 | M23: 0 | N23: 0 | O23: 0 | P23: 0 | Q23: 0 | R23: 0 | S23: 0 | T23: 0 | U23: 0 | V23: 0 | W23: 0 | X23: 0 | Y23: 0 | Z23: 0 | AA23: 0 | AB23: 0 | AC23: =B23-F23-G23-H23 -> 0
A24: Thanh tra tỉnh | B24: =IFERROR(IF((AA24+AB24)='02.XLD'!M25,'02.XLD'!M25,"Lỗi"),"Lỗi") -> 0 | C24: =SUM(D24:G24) -> 0 | D24: 0 | E24: 0 | F24: 0 | G24: 0 | H24: =SUM(I24:N24) -> 0 | I24: 0 | J24: 0 | K24: 0 | L24: 0 | M24: 0 | N24: 0 | O24: 0 | P24: 0 | Q24: 0 | R24: 0 | S24: 0 | T24: 0 | U24: 0 | V24: 0 | W24: 0 | X24: 0 | Y24: 0 | Z24: 0 | AA24: 0 | AB24: 0 | AC24: =B24-F24-G24-H24 -> 0
A25: UBND CẤP XÃ | B25: =SUM(B26:B120) -> 75 | C25: =SUM(C26:C120) -> 73 | D25: =SUM(D26:D120) -> 5 | E25: =SUM(E26:E120) -> 31 | F25: =SUM(F26:F120) -> 25 | G25: =SUM(G26:G120) -> 12 | H25: =SUM(H26:H120) -> 28 | I25: =SUM(I26:I120) -> 5 | ... Z25: =SUM(Z26:Z120) -> 0 | AA25: 6 | AB25: =SUM(AB26:AB120) -> 68 | AC25: =SUM(AC26:AC120) -> 10
A26: Phường Trấn Biên | B26: =IFERROR(IF((AA26+AB26)='02.XLD'!M27,'02.XLD'!M27,"Lỗi"),"Lỗi") -> 2 | C26: =SUM(D26:G26) -> 2 | D26: 0 | E26: 1 | F26: 0 | G26: 1 | H26: =SUM(I26:N26) -> 0 | I26: 0 | J26: 0 | K26: 0 | L26: 0 | M26: 0 | N26: 0 | O26: 0 | P26: 0 | Q26: 0 | R26: 0 | S26: 0 | T26: 0 | U26: 0 | V26: 0 | W26: 0 | X26: 0 | Y26: 0 | Z26: 0 | AA26: 0 | AB26: 2 | AC26: =B26-F26-G26-H26 -> 1
A27: Phường Biên Hòa | B27: =IFERROR(IF((AA27+AB27)='02.XLD'!M28,'02.XLD'!M28,"Lỗi"),"Lỗi") -> 3 | C27: =SUM(D27:G27) -> 3 | D27: 0 | E27: 3 | F27: 0 | G27: 0 | H27: =SUM(I27:N27) -> 3 | I27: 0 | J27: 2 | K27: 1 | L27: 0 | M27: 0 | N27: 0 | O27: 0 | P27: 0 | Q27: 0 | R27: 0 | S27: 0 | T27: 0 | U27: 0 | V27: 0 | W27: 0 | X27: 0 | Y27: 0 | Z27: 0 | AA27: 0 | AB27: 3 | AC27: =B27-F27-G27-H27 -> 0
A28: Phường Tam Hiệp | B28: =IFERROR(IF((AA28+AB28)='02.XLD'!M29,'02.XLD'!M29,"Lỗi"),"Lỗi") -> 2 | C28: =SUM(D28:G28) -> 2 | D28: 0 | E28: 2 | F28: 0 | G28: 0 | H28: =SUM(I28:N28) -> 2 | I28: 0 | J28: 0 | K28: 2 | L28: 0 | M28: 0 | N28: 0 | O28: 0 | P28: 0 | Q28: 0 | R28: 0 | S28: 0 | T28: 0 | U28: 0 | V28: 0 | W28: 0 | X28: 0 | Y28: 0 | Z28: 0 | AA28: 2 | AB28: 0 | AC28: =B28-F28-G28-H28 -> 0
A29: Phường Long Bình | B29: =IFERROR(IF((AA29+AB29)='02.XLD'!M30,'02.XLD'!M30,"Lỗi"),"Lỗi") -> 1 | C29: =SUM(D29:G29) -> 1 | D29: 0 | E29: 1 | F29: 0 | G29: 0 | H29: =SUM(I29:N29) -> 1 | I29: 0 | J29: 1 | K29: 0 | L29: 0 | M29: 0 | N29: 0 | O29: 0 | P29: 0 | Q29: 0 | R29: 0 | S29: 0 | T29: 0 | U29: 0 | V29: 0 | W29: 0 | X29: 0 | Y29: 0 | Z29: 0 | AB29: 1 | AC29: =B29-F29-G29-H29 -> 0
A30: Phường Trảng Dài | B30: =IFERROR(IF((AA30+AB30)='02.XLD'!M31,'02.XLD'!M31,"Lỗi"),"Lỗi") -> 0 | C30: =SUM(D30:G30) -> 0 | D30: 0 | E30: 0 | F30: 0 | G30: 0 | H30: =SUM(I30:N30) -> 0 | I30: 0 | J30: 0 | K30: 0 | L30: 0 | M30: 0 | N30: 0 | O30: 0 | P30: 0 | Q30: 0 | R30: 0 | S30: 0 | T30: 0 | U30: 0 | V30: 0 | W30: 0 | X30: 0 | Y30: 0 | Z30: 0 | AA30: 0 | AB30: 0 | AC30: =B30-F30-G30-H30 -> 0
A31: Phường Hố Nai | B31: =IFERROR(IF((AA31+AB31)='02.XLD'!M32,'02.XLD'!M32,"Lỗi"),"Lỗi") -> 1 | C31: =SUM(D31:G31) -> 1 | D31: 0 | E31: 1 | F31: 0 | G31: 0 | H31: =SUM(I31:N31) -> 1 | I31: 0 | J31: 0 | K31: 1 | L31: 0 | M31: 0 | N31: 0 | O31: 0 | P31: 0 | Q31: 0 | R31: 0 | S31: 0 | T31: 0 | U31: 0 | V31: 0 | W31: 0 | X31: 0 | Y31: 0 | Z31: 0 | AA31: 0 | AB31: 1 | AC31: =B31-F31-G31-H31 -> 0
A32: Phường Long Hưng | B32: =IFERROR(IF((AA32+AB32)='02.XLD'!M33,'02.XLD'!M33,"Lỗi"),"Lỗi") -> 3 | C32: =SUM(D32:G32) -> 3 | D32: 3 | E32: 0 | F32: 0 | G32: 0 | H32: =SUM(I32:N32) -> 1 | I32: 0 | J32: 0 | K32: 1 | L32: 0 | M32: 0 | N32: 0 | O32: 0 | P32: 0 | Q32: 0 | R32: 0 | S32: 0 | T32: 0 | U32: 0 | V32: 0 | W32: 0 | X32: 0 | Y32: 0 | Z32: 0 | AA32: 0 | AB32: 3 | AC32: =B32-F32-G32-H32 -> 2
A33: Phường Phước Tân | B33: =IFERROR(IF((AA33+AB33)='02.XLD'!M34,'02.XLD'!M34,"Lỗi"),"Lỗi") -> 3 | C33: =SUM(D33:G33) -> 3 | D33: 0 | E33: 0 | F33: 1 | G33: 2 | H33: =SUM(I33:N33) -> 0 | I33: 0 | J33: 0 | K33: 0 | L33: 0 | M33: 0 | N33: 0 | O33: 0 | P33: 0 | Q33: 0 | R33: 0 | S33: 0 | T33: 0 | U33: 0 | V33: 1 | W33: 1 | X33: 0 | Y33: 0 | Z33: 0 | AA33: 1 | AB33: 2 | AC33: =B33-F33-G33-H33 -> 0
A34: Phường Tam Phước | B34: =IFERROR(IF((AA34+AB34)='02.XLD'!M35,'02.XLD'!M35,"Lỗi"),"Lỗi") -> 0 | C34: =SUM(D34:G34) -> 0 | D34: 0 | E34: 0 | F34: 0 | G34: 0 | H34: =SUM(I34:N34) -> 0 | I34: 0 | J34: 0 | K34: 0 | L34: 0 | M34: 0 | N34: 0 | O34: 0 | P34: 0 | Q34: 0 | R34: 0 | S34: 0 | T34: 0 | U34: 0 | V34: 0 | W34: 0 | X34: 0 | Y34: 0 | Z34: 0 | AB34: 0 | AC34: =B34-F34-G34-H34 -> 0
A35: Phường Long Khánh | B35: =IFERROR(IF((AA35+AB35)='02.XLD'!M36,'02.XLD'!M36,"Lỗi"),"Lỗi") -> 1 | C35: =SUM(D35:G35) -> 1 | D35: 0 | E35: 0 | F35: 0 | G35: 1 | H35: =SUM(I35:N35) -> 0 | I35: 0 | J35: 0 | K35: 0 | L35: 0 | M35: 0 | N35: 0 | O35: 0 | P35: 0 | Q35: 0 | R35: 0 | S35: 0 | T35: 0 | U35: 0 | V35: 0 | W35: 0 | X35: 0 | Y35: 0 | Z35: 0 | AA35: 0 | AB35: 1 | AC35: =B35-F35-G35-H35 -> 0
A36: Phường Bình Lộc | B36: =IFERROR(IF((AA36+AB36)='02.XLD'!M37,'02.XLD'!M37,"Lỗi"),"Lỗi") -> 0 | C36: =SUM(D36:G36) -> 0 | D36: 0 | E36: 0 | F36: 0 | G36: 0 | H36: =SUM(I36:N36) -> 0 | I36: 0 | J36: 0 | K36: 0 | L36: 0 | M36: 0 | N36: 0 | O36: 0 | P36: 0 | Q36: 0 | R36: 0 | S36: 0 | T36: 0 | U36: 0 | V36: 0 | W36: 0 | X36: 0 | Y36: 0 | Z36: 0 | AA36: 0 | AB36: 0 | AC36: =B36-F36-G36-H36 -> 0
A37: Phường Bảo Vinh | B37: =IFERROR(IF((AA37+AB37)='02.XLD'!M38,'02.XLD'!M38,"Lỗi"),"Lỗi") -> 2 | C37: =SUM(D37:G37) -> 2 | D37: 0 | E37: 1 | F37: 1 | G37: 0 | H37: =SUM(I37:N37) -> 1 | I37: 0 | J37: 1 | K37: 0 | L37: 0 | M37: 0 | N37: 0 | O37: 0 | P37: 0 | Q37: 0 | R37: 0 | S37: 0 | T37: 0 | U37: 0 | V37: 0 | W37: 0 | X37: 0 | Y37: 0 | Z37: 0 | AA37: 0 | AB37: 2 | AC37: =B37-F37-G37-H37 -> 0
A38: Phường Xuân Lập | B38: =IFERROR(IF((AA38+AB38)='02.XLD'!M39,'02.XLD'!M39,"Lỗi"),"Lỗi") -> 2 | C38: =SUM(D38:G38) -> 2 | D38: 0 | E38: 1 | F38: 0 | G38: 1 | H38: =SUM(I38:N38) -> 1 | I38: 0 | J38: 1 | K38: 0 | L38: 0 | M38: 0 | N38: 0 | O38: 0 | P38: 0 | Q38: 0 | R38: 0 | S38: 0 | T38: 0 | U38: 0 | V38: 0 | W38: 0 | X38: 0 | Y38: 0 | Z38: 0 | AA38: 0 | AB38: 2 | AC38: =B38-F38-G38-H38 -> 0
A39: Phường Hàng Gòn | B39: =IFERROR(IF((AA39+AB39)='02.XLD'!M40,'02.XLD'!M40,"Lỗi"),"Lỗi") -> 0 | C39: =SUM(D39:G39) -> 0 | D39: 0 | E39: 0 | F39: 0 | G39: 0 | H39: =SUM(I39:N39) -> 0 | I39: 0 | J39: 0 | K39: 0 | L39: 0 | M39: 0 | N39: 0 | O39: 0 | P39: 0 | Q39: 0 | R39: 0 | S39: 0 | T39: 0 | U39: 0 | V39: 0 | W39: 0 | X39: 0 | Y39: 0 | Z39: 0 | AB39: 0 | AC39: =B39-F39-G39-H39 -> 0
A40: Phường Trảng Bom | B40: =IFERROR(IF((AA40+AB40)='02.XLD'!M41,'02.XLD'!M41,"Lỗi"),"Lỗi") -> 3 | C40: =SUM(D40:G40) -> 3 | D40: 0 | E40: 0 | F40: 2 | G40: 1 | H40: =SUM(I40:N40) -> 0 | I40: 0 | J40: 0 | K40: 0 | L40: 0 | M40: 0 | N40: 0 | O40: 0 | P40: 0 | Q40: 0 | R40: 0 | S40: 0 | T40: 0 | U40: 0 | V40: 0 | W40: 0 | X40: 0 | Y40: 0 | Z40: 0 | AA40: 0 | AB40: 3 | AC40: =B40-F40-G40-H40 -> 0
A41: Xã An Viễn | B41: =IFERROR(IF((AA41+AB41)='02.XLD'!M42,'02.XLD'!M42,"Lỗi"),"Lỗi") -> 6 | C41: =SUM(D41:G41) -> 6 | D41: 0 | E41: 4 | F41: 2 | G41: 0 | H41: =SUM(I41:N41) -> 4 | I41: 2 | J41: 1 | K41: 1 | L41: 0 | M41: 0 | N41: 0 | O41: 0 | P41: 0 | Q41: 0 | R41: 0 | S41: 0 | T41: 0 | U41: 0 | V41: 0 | W41: 4 | X41: 0 | Y41: 0 | Z41: 0 | AA41: 0 | AB41: 6 | AC41: =B41-F41-G41-H41 -> 0
A42: Xã Bình Minh | B42: =IFERROR(IF((AA42+AB42)='02.XLD'!M43,'02.XLD'!M43,"Lỗi"),"Lỗi") -> 0 | C42: =SUM(D42:G42) -> 0 | D42: 0 | E42: 0 | F42: 0 | G42: 0 | H42: =SUM(I42:N42) -> 0 | I42: 0 | J42: 0 | K42: 0 | L42: 0 | M42: 0 | N42: 0 | O42: 0 | P42: 0 | Q42: 0 | R42: 0 | S42: 0 | T42: 0 | U42: 0 | V42: 0 | W42: 0 | X42: 0 | Y42: 0 | Z42: 0 | AA42: 0 | AB42: 0 | AC42: =B42-F42-G42-H42 -> 0
A43: Xã Bàu Hàm | B43: =IFERROR(IF((AA43+AB43)='02.XLD'!M44,'02.XLD'!M44,"Lỗi"),"Lỗi") -> 0 | C43: =SUM(D43:G43) -> 0 | D43: 0 | E43: 0 | F43: 0 | G43: 0 | H43: =SUM(I43:N43) -> 0 | I43: 0 | J43: 0 | K43: 0 | L43: 0 | M43: 0 | N43: 0 | O43: 0 | P43: 0 | Q43: 0 | R43: 0 | S43: 0 | T43: 0 | U43: 0 | V43: 0 | W43: 0 | X43: 0 | Y43: 0 | Z43: 0 | AA43: 0 | AB43: 0 | AC43: =B43-F43-G43-H43 -> 0
A44: Xã Hưng Thịnh | B44: =IFERROR(IF((AA44+AB44)='02.XLD'!M45,'02.XLD'!M45,"Lỗi"),"Lỗi") -> 1 | C44: =SUM(D44:G44) -> 1 | D44: 0 | E44: 1 | F44: 0 | G44: 0 | H44: =SUM(I44:N44) -> 1 | I44: 0 | J44: 0 | K44: 1 | L44: 0 | M44: 0 | N44: 0 | O44: 0 | P44: 0 | Q44: 0 | R44: 0 | S44: 0 | T44: 0 | U44: 0 | V44: 0 | W44: 0 | X44: 0 | Y44: 0 | Z44: 0 | AA44: 0 | AB44: 1 | AC44: =B44-F44-G44-H44 -> 0
A45: Phường Dầu Giây | B45: =IFERROR(IF((AA45+AB45)='02.XLD'!M46,'02.XLD'!M46,"Lỗi"),"Lỗi") -> 0 | C45: =SUM(D45:G45) -> 0 | D45: 0 | E45: 0 | F45: 0 | G45: 0 | H45: =SUM(I45:N45) -> 0 | I45: 0 | J45: 0 | K45: 0 | L45: 0 | M45: 0 | N45: 0 | O45: 0 | P45: 0 | Q45: 0 | R45: 0 | S45: 0 | T45: 0 | U45: 0 | V45: 1 | W45: 1 | X45: 0 | Y45: 0 | Z45: 0 | AA45: 0 | AB45: 0 | AC45: =B45-F45-G45-H45 -> 0
A46: Xã Thống Nhất | B46: =IFERROR(IF((AA46+AB46)='02.XLD'!M47,'02.XLD'!M47,"Lỗi"),"Lỗi") -> 0 | C46: =SUM(D46:G46) -> 0 | D46: 0 | E46: 0 | F46: 0 | G46: 0 | H46: =SUM(I46:N46) -> 0 | I46: 0 | J46: 0 | K46: 0 | L46: 0 | M46: 0 | N46: 0 | O46: 0 | P46: 0 | Q46: 0 | R46: 0 | S46: 0 | T46: 0 | U46: 0 | V46: 0 | W46: 0 | X46: 0 | Y46: 0 | Z46: 0 | AA46: 0 | AB46: 0 | AC46: =B46-F46-G46-H46 -> 0
A47: Xã Gia Kiệm | B47: =IFERROR(IF((AA47+AB47)='02.XLD'!M48,'02.XLD'!M48,"Lỗi"),"Lỗi") -> 0 | C47: =SUM(D47:G47) -> 0 | D47: 0 | E47: 0 | F47: 0 | G47: 0 | H47: =SUM(I47:N47) -> 0 | I47: 0 | J47: 0 | K47: 0 | L47: 0 | M47: 0 | N47: 0 | O47: 0 | P47: 0 | Q47: 0 | R47: 0 | S47: 0 | T47: 0 | U47: 0 | V47: 0 | W47: 0 | X47: 0 | Y47: 0 | Z47: 0 | AA47: 0 | AB47: 0 | AC47: =B47-F47-G47-H47 -> 0
A48: Xã Cẩm Mỹ | B48: =IFERROR(IF((AA48+AB48)='02.XLD'!M49,'02.XLD'!M49,"Lỗi"),"Lỗi") -> 0 | C48: =SUM(D48:G48) -> 0 | H48: =SUM(I48:N48) -> 0 | AC48: =B48-F48-G48-H48 -> 0
A49: Xã Xuân Quế | B49: =IFERROR(IF((AA49+AB49)='02.XLD'!M50,'02.XLD'!M50,"Lỗi"),"Lỗi") -> 3 | C49: =SUM(D49:G49) -> 3 | D49: 1 | E49: 1 | F49: 1 | G49: 0 | H49: =SUM(I49:N49) -> 0 | I49: 0 | J49: 0 | K49: 0 | L49: 0 | M49: 0 | N49: 0 | O49: 0 | P49: 0 | Q49: 0 | R49: 0 | S49: 0 | T49: 0 | U49: 0 | V49: 0 | W49: 0 | X49: 0 | Y49: 0 | Z49: 0 | AA49: 0 | AB49: 3 | AC49: =B49-F49-G49-H49 -> 2
A50: Xã Xuân Đường | B50: =IFERROR(IF((AA50+AB50)='02.XLD'!M51,'02.XLD'!M51,"Lỗi"),"Lỗi") -> 0 | C50: =SUM(D50:G50) -> 0 | D50: 0 | E50: 0 | F50: 0 | G50: 0 | H50: =SUM(I50:N50) -> 0 | I50: 0 | J50: 0 | K50: 0 | L50: 0 | M50: 0 | N50: 0 | O50: 0 | P50: 0 | Q50: 0 | R50: 0 | S50: 0 | T50: 0 | U50: 0 | V50: 0 | W50: 0 | X50: 0 | Y50: 0 | Z50: 0 | AB50: 0 | AC50: =B50-F50-G50-H50 -> 0
A51: Xã Xuân Đông | B51: =IFERROR(IF((AA51+AB51)='02.XLD'!M52,'02.XLD'!M52,"Lỗi"),"Lỗi") -> 1 | C51: =SUM(D51:G51) -> 1 | D51: 0 | E51: 1 | F51: 0 | G51: 0 | H51: =SUM(I51:N51) -> 1 | I51: 0 | J51: 1 | K51: 0 | L51: 0 | M51: 0 | N51: 0 | O51: 0 | P51: 0 | Q51: 0 | R51: 0 | S51: 0 | T51: 0 | U51: 0 | V51: 0 | W51: 0 | X51: 0 | Y51: 0 | Z51: 0 | AA51: 0 | AB51: 1 | AC51: =B51-F51-G51-H51 -> 0
A52: Xã Sông Ray | B52: =IFERROR(IF((AA52+AB52)='02.XLD'!M53,'02.XLD'!M53,"Lỗi"),"Lỗi") -> 1 | C52: =SUM(D52:G52) -> 1 | D52: 0 | E52: 1 | F52: 0 | G52: 0 | H52: =SUM(I52:N52) -> 1 | I52: 1 | J52: 0 | K52: 0 | L52: 0 | M52: 0 | N52: 0 | O52: 0 | P52: 0 | Q52: 0 | R52: 0 | S52: 0 | T52: 0 | U52: 0 | V52: 1 | W52: 1 | X52: 0 | Y52: 0 | Z52: 0 | AA52: 1 | AB52: 0 | AC52: =B52-F52-G52-H52 -> 0
A53: Phường Xuân Lộc | B53: =IFERROR(IF((AA53+AB53)='02.XLD'!M54,'02.XLD'!M54,"Lỗi"),"Lỗi") -> 0 | C53: =SUM(D53:G53) -> 0 | D53: 0 | E53: 0 | F53: 0 | G53: 0 | H53: =SUM(I53:N53) -> 0 | I53: 0 | J53: 0 | K53: 0 | L53: 0 | M53: 0 | N53: 0 | O53: 0 | P53: 0 | Q53: 0 | R53: 0 | S53: 0 | T53: 0 | U53: 0 | V53: 0 | W53: 0 | X53: 0 | Y53: 0 | Z53: 0 | AA53: 0 | AB53: 0 | AC53: =B53-F53-G53-H53 -> 0
A54: Xã Xuân Định | B54: =IFERROR(IF((AA54+AB54)='02.XLD'!M55,'02.XLD'!M55,"Lỗi"),"Lỗi") -> 0 | C54: =SUM(D54:G54) -> 0 | D54: 0 | E54: 0 | F54: 0 | G54: 0 | H54: =SUM(I54:N54) -> 0 | I54: 0 | J54: 0 | K54: 0 | L54: 0 | M54: 0 | N54: 0 | O54: 0 | P54: 0 | Q54: 0 | R54: 0 | S54: 0 | T54: 0 | U54: 0 | V54: 0 | W54: 0 | X54: 0 | Y54: 0 | Z54: 0 | AA54: 0 | AB54: 0 | AC54: =B54-F54-G54-H54 -> 0
A55: Xã Xuân Phú | B55: =IFERROR(IF((AA55+AB55)='02.XLD'!M56,'02.XLD'!M56,"Lỗi"),"Lỗi") -> 0 | C55: =SUM(D55:G55) -> 0 | H55: =SUM(I55:N55) -> 0 | AA55: 0 | AC55: =B55-F55-G55-H55 -> 0
A56: Xã Xuân Hòa | B56: =IFERROR(IF((AA56+AB56)='02.XLD'!M57,'02.XLD'!M57,"Lỗi"),"Lỗi") -> 0 | C56: =SUM(D56:G56) -> 0 | D56: 0 | E56: 0 | F56: 0 | G56: 0 | H56: =SUM(I56:N56) -> 0 | I56: 0 | J56: 0 | K56: 0 | L56: 0 | M56: 0 | N56: 0 | O56: 0 | P56: 0 | Q56: 0 | R56: 0 | S56: 0 | T56: 0 | U56: 0 | V56: 0 | W56: 0 | X56: 0 | Y56: 0 | Z56: 0 | AC56: =B56-F56-G56-H56 -> 0
A57: Xã Xuân Thành | B57: =IFERROR(IF((AA57+AB57)='02.XLD'!M58,'02.XLD'!M58,"Lỗi"),"Lỗi") -> 0 | C57: =SUM(D57:G57) -> 0 | D57: 0 | E57: 0 | F57: 0 | G57: 0 | H57: =SUM(I57:N57) -> 0 | I57: 0 | J57: 0 | K57: 0 | L57: 0 | M57: 0 | N57: 0 | O57: 0 | P57: 0 | Q57: 0 | R57: 0 | S57: 0 | T57: 0 | U57: 0 | V57: 0 | W57: 0 | X57: 0 | Y57: 0 | Z57: 0 | AA57: 0 | AB57: 0 | AC57: =B57-F57-G57-H57 -> 0
A58: Xã Xuân Bắc | B58: =IFERROR(IF((AA58+AB58)='02.XLD'!M59,'02.XLD'!M59,"Lỗi"),"Lỗi") -> 0 | C58: =SUM(D58:G58) -> 0 | D58: 0 | E58: 0 | F58: 0 | G58: 0 | H58: =SUM(I58:N58) -> 0 | I58: 0 | J58: 0 | K58: 0 | L58: 0 | M58: 0 | N58: 0 | O58: 0 | P58: 0 | Q58: 0 | R58: 0 | S58: 0 | T58: 0 | U58: 0 | V58: 0 | W58: 0 | X58: 0 | Y58: 0 | AB58: 0 | AC58: =B58-F58-G58-H58 -> 0
A59: Phường Nhơn Trạch | B59: =IFERROR(IF((AA59+AB59)='02.XLD'!M60,'02.XLD'!M60,"Lỗi"),"Lỗi") -> 0 | C59: =SUM(D59:G59) -> 0 | D59: 0 | E59: 0 | F59: 0 | G59: 0 | H59: =SUM(I59:N59) -> 0 | I59: 0 | J59: 0 | K59: 0 | L59: 0 | M59: 0 | N59: 0 | O59: 0 | P59: 0 | Q59: 0 | R59: 0 | S59: 0 | T59: 0 | U59: 0 | V59: 0 | W59: 0 | X59: 0 | Y59: 0 | Z59: 0 | AA59: 0 | AB59: 0 | AC59: =B59-F59-G59-H59 -> 0
A60: Xã Đại Phước | B60: =IFERROR(IF((AA60+AB60)='02.XLD'!M61,'02.XLD'!M61,"Lỗi"),"Lỗi") -> 0 | C60: =SUM(D60:G60) -> 0 | D60: 0 | E60: 0 | F60: 0 | G60: 0 | H60: =SUM(I60:N60) -> 0 | I60: 0 | J60: 0 | K60: 0 | L60: 0 | M60: 0 | N60: 0 | O60: 0 | P60: 0 | Q60: 0 | R60: 0 | S60: 0 | T60: 0 | U60: 0 | V60: 0 | W60: 0 | X60: 0 | Y60: 0 | Z60: 0 | AA60: 0 | AB60: 0 | AC60: =B60-F60-G60-H60 -> 0
A61: Xã Phước An | B61: =IFERROR(IF((AA61+AB61)='02.XLD'!M62,'02.XLD'!M62,"Lỗi"),"Lỗi") -> 1 | C61: =SUM(D61:G61) -> 1 | D61: 0 | E61: 1 | F61: 0 | G61: 0 | H61: =SUM(I61:N61) -> 0 | I61: 0 | J61: 0 | K61: 0 | L61: 0 | M61: 0 | N61: 0 | O61: 0 | P61: 0 | Q61: 0 | R61: 0 | S61: 0 | T61: 0 | U61: 0 | V61: 0 | W61: 0 | X61: 0 | Y61: 0 | Z61: 0 | AA61: 0 | AB61: 1 | AC61: =B61-F61-G61-H61 -> 1
A62: Phường Long Thành | B62: =IFERROR(IF((AA62+AB62)='02.XLD'!M63,'02.XLD'!M63,"Lỗi"),"Lỗi") -> 0 | C62: =SUM(D62:G62) -> 0 | D62: 0 | E62: 0 | F62: 0 | G62: 0 | H62: =SUM(I62:N62) -> 0 | I62: 0 | J62: 0 | K62: 0 | L62: 0 | M62: 0 | N62: 0 | O62: 0 | P62: 0 | Q62: 0 | R62: 0 | S62: 0 | T62: 0 | U62: 0 | V62: 0 | W62: 0 | X62: 0 | Y62: 0 | Z62: 0 | AB62: 0 | AC62: =B62-F62-G62-H62 -> 0
A63: Xã Phước Thái | B63: =IFERROR(IF((AA63+AB63)='02.XLD'!M64,'02.XLD'!M64,"Lỗi"),"Lỗi") -> 1 | C63: =SUM(D63:G63) -> 1 | D63: 0 | E63: 1 | F63: 0 | G63: 0 | H63: =SUM(I63:N63) -> 0 | I63: 0 | J63: 0 | K63: 0 | L63: 0 | M63: 0 | N63: 0 | O63: 0 | P63: 0 | Q63: 0 | R63: 0 | S63: 0 | T63: 0 | U63: 0 | V63: 0 | W63: 0 | X63: 0 | Y63: 0 | Z63: 0 | AB63: 1 | AC63: =B63-F63-G63-H63 -> 1
A64: Xã Long Phước | B64: =IFERROR(IF((AA64+AB64)='02.XLD'!M65,'02.XLD'!M65,"Lỗi"),"Lỗi") -> 2 | C64: =SUM(D64:G64) -> 2 | D64: 0 | E64: 0 | F64: 2 | G64: 0 | H64: =SUM(I64:N64) -> 0 | I64: 0 | J64: 0 | K64: 0 | L64: 0 | M64: 0 | N64: 0 | O64: 0 | P64: 0 | Q64: 0 | R64: 0 | S64: 0 | T64: 0 | U64: 0 | V64: 0 | W64: 0 | X64: 0 | Y64: 0 | Z64: 0 | AA64: 0 | AB64: 2 | AC64: =B64-F64-G64-H64 -> 0
A65: Xã Bình An | B65: =IFERROR(IF((AA65+AB65)='02.XLD'!M66,'02.XLD'!M66,"Lỗi"),"Lỗi") -> 14 | C65: =SUM(D65:G65) -> 14 | D65: 0 | E65: 0 | F65: 11 | G65: 3 | H65: =SUM(I65:N65) -> 0 | I65: 0 | J65: 0 | K65: 0 | L65: 0 | M65: 0 | N65: 0 | O65: 0 | P65: 0 | Q65: 0 | R65: 0 | S65: 0 | T65: 0 | U65: 0 | V65: 0 | W65: 0 | X65: 0 | Y65: 0 | Z65: 0 | AA65: 3 | AB65: 11 | AC65: =B65-F65-G65-H65 -> 0
A66: Xã An Phước | B66: =IFERROR(IF((AA66+AB66)='02.XLD'!M67,'02.XLD'!M67,"Lỗi"),"Lỗi") -> 1 | C66: =SUM(D66:G66) -> 1 | D66: 0 | E66: 1 | F66: 0 | G66: 0 | H66: =SUM(I66:N66) -> 1 | I66: 0 | J66: 1 | K66: 0 | L66: 0 | M66: 0 | N66: 0 | O66: 0 | P66: 0 | Q66: 0 | R66: 0 | S66: 0 | T66: 0 | U66: 0 | V66: 0 | W66: 0 | X66: 0 | Y66: 0 | Z66: 0 | AA66: 0 | AB66: 1 | AC66: =B66-F66-G66-H66 -> 0
A67: Xã Định Quán | B67: =IFERROR(IF((AA67+AB67)='02.XLD'!M68,'02.XLD'!M68,"Lỗi"),"Lỗi") -> 1 | C67: =SUM(D67:G67) -> 1 | D67: 0 | E67: 1 | F67: 0 | G67: 0 | H67: =SUM(I67:N67) -> 1 | I67: 0 | J67: 1 | K67: 0 | L67: 0 | M67: 0 | N67: 0 | O67: 0 | P67: 0 | Q67: 0 | R67: 0 | S67: 0 | T67: 0 | U67: 0 | V67: 0 | W67: 0 | X67: 0 | Y67: 0 | Z67: 0 | AA67: 0 | AB67: 1 | AC67: =B67-F67-G67-H67 -> 0
A68: Xã La Ngà | B68: =IFERROR(IF((AA68+AB68)='02.XLD'!M69,'02.XLD'!M69,"Lỗi"),"Lỗi") -> 1 | C68: =SUM(D68:G68) -> 1 | D68: 0 | E68: 0 | F68: 1 | G68: 0 | H68: =SUM(I68:N68) -> 0 | I68: 0 | J68: 0 | K68: 0 | L68: 0 | M68: 0 | N68: 0 | O68: 0 | P68: 0 | Q68: 0 | R68: 0 | S68: 0 | T68: 0 | U68: 0 | V68: 0 | W68: 0 | X68: 0 | Y68: 0 | Z68: 0 | AA68: 0 | AB68: 1 | AC68: =B68-F68-G68-H68 -> 0
A69: Xã Thanh Sơn | B69: =IFERROR(IF((AA69+AB69)='02.XLD'!M70,'02.XLD'!M70,"Lỗi"),"Lỗi") -> 0 | C69: =SUM(D69:G69) -> 0 | D69: 0 | E69: 0 | F69: 0 | G69: 0 | H69: =SUM(I69:N69) -> 0 | I69: 0 | J69: 0 | K69: 0 | L69: 0 | M69: 0 | N69: 0 | O69: 0 | P69: 0 | Q69: 0 | R69: 0 | S69: 0 | T69: 0 | U69: 0 | V69: 0 | W69: 0 | X69: 0 | Y69: 0 | Z69: 0 | AA69: 0 | AB69: 0 | AC69: =B69-F69-G69-H69 -> 0
A70: Xã Phú Vinh | B70: =IFERROR(IF((AA70+AB70)='02.XLD'!M71,'02.XLD'!M71,"Lỗi"),"Lỗi") -> 0 | C70: =SUM(D70:G70) -> 0 | D70: 0 | E70: 0 | F70: 0 | G70: 0 | H70: =SUM(I70:N70) -> 0 | I70: 0 | J70: 0 | K70: 0 | L70: 0 | M70: 0 | N70: 0 | O70: 0 | P70: 0 | Q70: 0 | R70: 0 | S70: 0 | T70: 0 | U70: 0 | V70: 0 | W70: 0 | X70: 0 | Y70: 0 | Z70: 0 | AA70: 0 | AB70: 0 | AC70: =B70-F70-G70-H70 -> 0
A71: Xã Phú Hòa | B71: =IFERROR(IF((AA71+AB71)='02.XLD'!M72,'02.XLD'!M72,"Lỗi"),"Lỗi") -> 0 | C71: =SUM(D71:G71) -> 0 | D71: 0 | E71: 0 | F71: 0 | G71: 0 | H71: =SUM(I71:N71) -> 0 | I71: 0 | J71: 0 | K71: 0 | L71: 0 | M71: 0 | N71: 0 | O71: 0 | P71: 0 | Q71: 0 | R71: 0 | S71: 0 | T71: 0 | U71: 0 | V71: 0 | W71: 0 | X71: 0 | Y71: 0 | Z71: 0 | AA71: 0 | AB71: 0 | AC71: =B71-F71-G71-H71 -> 0
A72: Phường Tân Phú | B72: =IFERROR(IF((AA72+AB72)='02.XLD'!M73,'02.XLD'!M73,"Lỗi"),"Lỗi") -> 0 | C72: =SUM(D72:G72) -> 0 | D72: 0 | E72: 0 | F72: 0 | G72: 0 | H72: =SUM(I72:N72) -> 0 | I72: 0 | J72: 0 | K72: 0 | L72: 0 | M72: 0 | N72: 0 | O72: 0 | P72: 0 | Q72: 0 | R72: 0 | S72: 0 | T72: 0 | U72: 0 | V72: 0 | W72: 0 | X72: 0 | Y72: 0 | Z72: 0 | AA72: 0 | AB72: 0 | AC72: =B72-F72-G72-H72 -> 0
A73: Xã Tà Lài | B73: =IFERROR(IF((AA73+AB73)='02.XLD'!M74,'02.XLD'!M74,"Lỗi"),"Lỗi") -> 0 | C73: =SUM(D73:G73) -> 0 | D73: 0 | E73: 0 | F73: 0 | G73: 0 | H73: =SUM(I73:N73) -> 0 | I73: 0 | J73: 0 | K73: 0 | L73: 0 | M73: 0 | N73: 0 | O73: 0 | P73: 0 | Q73: 0 | R73: 0 | S73: 0 | T73: 0 | U73: 0 | V73: 0 | W73: 0 | X73: 0 | Y73: 0 | Z73: 0 | AA73: 0 | AB73: 0 | AC73: =B73-F73-G73-H73 -> 0
A74: Xã Nam Cát Tiên | B74: =IFERROR(IF((AA74+AB74)='02.XLD'!M75,'02.XLD'!M75,"Lỗi"),"Lỗi") -> 0 | C74: =SUM(D74:G74) -> 0 | D74: 0 | E74: 0 | F74: 0 | G74: 0 | H74: =SUM(I74:N74) -> 0 | I74: 0 | J74: 0 | K74: 0 | L74: 0 | M74: 0 | N74: 0 | O74: 0 | P74: 0 | Q74: 0 | R74: 0 | S74: 0 | T74: 0 | U74: 0 | V74: 0 | W74: 0 | X74: 0 | Y74: 0 | Z74: 0 | AA74: 0 | AB74: 0 | AC74: =B74-F74-G74-H74 -> 0
A75: Xã Phú Lâm | B75: =IFERROR(IF((AA75+AB75)='02.XLD'!M76,'02.XLD'!M76,"Lỗi"),"Lỗi") -> 0 | C75: =SUM(D75:G75) -> 0 | D75: 0 | E75: 0 | F75: 0 | G75: 0 | H75: =SUM(I75:N75) -> 0 | I75: 0 | J75: 0 | K75: 0 | L75: 0 | M75: 0 | N75: 0 | O75: 0 | P75: 0 | Q75: 0 | R75: 0 | S75: 0 | T75: 0 | U75: 0 | V75: 0 | W75: 0 | X75: 0 | Y75: 0 | Z75: 0 | AA75: 0 | AB75: 0 | AC75: =B75-F75-G75-H75 -> 0
... A77: Phường Trị An | B77: =IFERROR(IF((AA77+AB77)='02.XLD'!M78,'02.XLD'!M78,"Lỗi"),"Lỗi") -> 1 | C77: =SUM(D77:G77) -> 1 | D77: 0 | E77: 1 | F77: 0 | G77: 0 | H77: =SUM(I77:N77) -> 1 | I77: 0 | J77: 1 | K77: 0 | L77: 0 | M77: 0 | N77: 0 | O77: 0 | P77: 0 | Q77: 0 | R77: 0 | S77: 0 | T77: 0 | U77: 0 | V77: 0 | W77: 0 | X77: 0 | Y77: 0 | Z77: 0 | AA77: 0 | AB77: 1 | AC77: =B77-F77-G77-H77 -> 0
A78: Phường Tân Triều | B78: =IFERROR(IF((AA78+AB78)='02.XLD'!M79,'02.XLD'!M79,"Lỗi"),"Lỗi") -> 1 | C78: =SUM(D78:G78) -> 1 | D78: 0 | E78: 0 | F78: 0 | G78: 1 | H78: =SUM(I78:N78) -> 0 | I78: 0 | J78: 0 | K78: 0 | L78: 0 | M78: 0 | N78: 0 | O78: 0 | P78: 0 | Q78: 0 | R78: 0 | S78: 0 | T78: 0 | U78: 0 | V78: 0 | W78: 0 | X78: 0 | Y78: 0 | Z78: 0 | AB78: 1 | AC78: =B78-F78-G78-H78 -> 0
A79: Xã Tân An | B79: =IFERROR(IF((AA79+AB79)='02.XLD'!M80,'02.XLD'!M80,"Lỗi"),"Lỗi") -> 0 | C79: =SUM(D79:G79) -> 0 | D79: 0 | E79: 0 | F79: 0 | G79: 0 | H79: =SUM(I79:N79) -> 0 | I79: 0 | J79: 0 | K79: 0 | L79: 0 | M79: 0 | N79: 0 | O79: 0 | P79: 0 | Q79: 0 | R79: 0 | S79: 0 | T79: 0 | U79: 0 | V79: 0 | W79: 0 | X79: 0 | Y79: 0 | Z79: 0 | AA79: 0 | AC79: =B79-F79-G79-H79 -> 0
A80: Xã Phú Lý | B80: =IFERROR(IF((AA80+AB80)='02.XLD'!M81,'02.XLD'!M81,"Lỗi"),"Lỗi") -> 2 | C80: =SUM(D80:G80) -> 2 | D80: 0 | E80: 0 | F80: 2 | G80: 0 | H80: =SUM(I80:N80) -> 0 | I80: 0 | J80: 0 | K80: 0 | L80: 0 | M80: 0 | N80: 0 | O80: 0 | P80: 0 | Q80: 0 | R80: 0 | S80: 0 | T80: 0 | U80: 0 | V80: 0 | W80: 0 | X80: 0 | Y80: 0 | Z80: 0 | AA80: 0 | AB80: 2 | AC80: =B80-F80-G80-H80 -> 0
A81: Phường Bình Phước | B81: =IFERROR(IF((AA81+AB81)='02.XLD'!M82,'02.XLD'!M82,"Lỗi"),"Lỗi") -> 0 | C81: =SUM(D81:G81) -> 0 | D81: 0 | E81: 0 | F81: 0 | G81: 0 | H81: =SUM(I81:N81) -> 0 | I81: 0 | J81: 0 | K81: 0 | L81: 0 | M81: 0 | N81: 0 | O81: 0 | P81: 0 | Q81: 0 | R81: 0 | S81: 0 | T81: 0 | U81: 0 | V81: 0 | W81: 0 | X81: 0 | Y81: 0 | Z81: 0 | AB81: 0 | AC81: =B81-F81-G81-H81 -> 0
A82: Phường Phước Bình | B82: =IFERROR(IF((AA82+AB82)='02.XLD'!M83,'02.XLD'!M83,"Lỗi"),"Lỗi") -> 3 | C82: =SUM(D82:G82) -> 3 | D82: 0 | E82: 2 | F82: 0 | G82: 1 | H82: =SUM(I82:N82) -> 1 | I82: 0 | J82: 0 | K82: 1 | L82: 0 | M82: 0 | N82: 0 | O82: 0 | P82: 0 | Q82: 0 | R82: 0 | S82: 0 | T82: 0 | U82: 0 | V82: 1 | W82: 0 | X82: 0 | Y82: 0 | Z82: 0 | AA82: 0 | AB82: 3 | AC82: =B82-F82-G82-H82 -> 1
A83: Phường Phước Long | B83: =IFERROR(IF((AA83+AB83)='02.XLD'!M84,'02.XLD'!M84,"Lỗi"),"Lỗi") -> 0 | C83: =SUM(D83:G83) -> 0 | D83: 0 | E83: 0 | F83: 0 | G83: 0 | H83: =SUM(I83:N83) -> 0 | J83: 0 | K83: 0 | L83: 0 | M83: 0 | N83: 0 | O83: 0 | P83: 0 | Q83: 0 | R83: 0 | S83: 0 | T83: 0 | U83: 0 | V83: 0 | W83: 0 | X83: 0 | Y83: 0 | Z83: 0 | AA83: 0 | AB83: 0 | AC83: =B83-F83-G83-H83 -> 0
A84: Phường Tân Khai | B84: =IFERROR(IF((AA84+AB84)='02.XLD'!M85,'02.XLD'!M85,"Lỗi"),"Lỗi") -> 0 | C84: =SUM(D84:G84) -> 0 | D84: 0 | E84: 0 | F84: 0 | G84: 0 | H84: =SUM(I84:N84) -> 0 | I84: 0 | J84: 0 | K84: 0 | L84: 0 | M84: 0 | N84: 0 | O84: 0 | P84: 0 | Q84: 0 | R84: 0 | S84: 0 | T84: 0 | U84: 0 | V84: 0 | W84: 0 | X84: 0 | Y84: 0 | AC84: =B84-F84-G84-H84 -> 0
A85: Phường Bình Long | B85: =IFERROR(IF((AA85+AB85)='02.XLD'!M86,'02.XLD'!M86,"Lỗi"),"Lỗi") -> 0 | C85: =SUM(D85:G85) -> 0 | D85: 0 | E85: 0 | F85: 0 | G85: 0 | H85: =SUM(I85:N85) -> 0 | I85: 0 | J85: 0 | K85: 0 | L85: 0 | M85: 0 | N85: 0 | O85: 0 | P85: 0 | Q85: 0 | R85: 0 | S85: 0 | T85: 0 | U85: 0 | V85: 0 | W85: 0 | X85: 0 | Y85: 0 | Z85: 0 | AB85: 0 | AC85: =B85-F85-G85-H85 -> 0
A86: Xã Lộc Hưng | B86: =IFERROR(IF((AA86+AB86)='02.XLD'!M87,'02.XLD'!M87,"Lỗi"),"Lỗi") -> 0 | C86: =SUM(D86:G86) -> 0 | D86: 0 | E86: 0 | F86: 0 | G86: 0 | H86: =SUM(I86:N86) -> 0 | I86: 0 | J86: 0 | K86: 0 | L86: 0 | M86: 0 | N86: 0 | O86: 0 | P86: 0 | Q86: 0 | R86: 0 | S86: 0 | T86: 0 | U86: 0 | V86: 0 | W86: 0 | X86: 0 | Y86: 0 | Z86: 0 | AA86: 0 | AB86: 0 | AC86: =B86-F86-G86-H86 -> 0
A87: Xã Thiện Hưng | B87: =IFERROR(IF((AA87+AB87)='02.XLD'!M88,'02.XLD'!M88,"Lỗi"),"Lỗi") -> 1 | C87: =SUM(D87:G87) -> 1 | D87: 0 | E87: 0 | F87: 0 | G87: 1 | H87: =SUM(I87:N87) -> 0 | I87: 0 | J87: 0 | K87: 0 | L87: 0 | M87: 0 | N87: 0 | O87: 0 | P87: 0 | Q87: 0 | R87: 0 | S87: 0 | T87: 0 | U87: 0 | V87: 0 | W87: 0 | X87: 0 | Y87: 0 | Z87: 0 | AA87: 0 | AB87: 1 | AC87: =B87-F87-G87-H87 -> 0
A88: Xã Đa Kia | B88: =IFERROR(IF((AA88+AB88)='02.XLD'!M89,'02.XLD'!M89,"Lỗi"),"Lỗi") -> 0 | C88: =SUM(D88:G88) -> 0 | D88: 0 | E88: 0 | F88: 0 | G88: 0 | H88: =SUM(I88:N88) -> 0 | I88: 0 | J88: 0 | K88: 0 | L88: 0 | M88: 0 | N88: 0 | O88: 0 | P88: 0 | Q88: 0 | R88: 0 | S88: 0 | T88: 0 | U88: 0 | V88: 0 | W88: 0 | X88: 0 | Y88: 0 | Z88: 0 | AB88: 0 | AC88: =B88-F88-G88-H88 -> 0
A89: Xã Đak Ơ | B89: =IFERROR(IF((AA89+AB89)='02.XLD'!M90,'02.XLD'!M90,"Lỗi"),"Lỗi") -> 0 | C89: =SUM(D89:G89) -> 0 | D89: 0 | E89: 0 | F89: 0 | G89: 0 | H89: =SUM(I89:N89) -> 0 | I89: 0 | J89: 0 | K89: 0 | L89: 0 | M89: 0 | N89: 0 | O89: 0 | P89: 0 | Q89: 0 | R89: 0 | S89: 0 | T89: 0 | U89: 0 | V89: 0 | W89: 0 | X89: 0 | Y89: 0 | Z89: 0 | AB89: 0 | AC89: =B89-F89-G89-H89 -> 0
A90: Xã Phú Riềng | B90: =IFERROR(IF((AA90+AB90)='02.XLD'!M91,'02.XLD'!M91,"Lỗi"),"Lỗi") -> 1 | C90: =SUM(D90:G90) -> 0 | D90: 0 | E90: 0 | F90: 0 | G90: 0 | H90: =SUM(I90:N90) -> 1 | I90: 0 | J90: 1 | K90: 0 | L90: 0 | M90: 0 | N90: 0 | O90: 0 | P90: 0 | Q90: 0 | R90: 0 | S90: 0 | T90: 0 | U90: 0 | V90: 0 | W90: 0 | X90: 0 | Y90: 0 | Z90: 0 | AA90: 0 | AB90: 1 | AC90: =B90-F90-G90-H90 -> 0
A91: Phường Đồng Phú | B91: =IFERROR(IF((AA91+AB91)='02.XLD'!M92,'02.XLD'!M92,"Lỗi"),"Lỗi") -> 0 | C91: =SUM(D91:G91) -> 0 | D91: 0 | E91: 0 | F91: 0 | G91: 0 | H91: =SUM(I91:N91) -> 0 | I91: 0 | J91: 0 | K91: 0 | L91: 0 | M91: 0 | N91: 0 | O91: 0 | P91: 0 | Q91: 0 | R91: 0 | S91: 0 | T91: 0 | U91: 0 | V91: 0 | W91: 0 | X91: 0 | Y91: 0 | Z91: 0 | AA91: 0 | AB91: 0 | AC91: =B91-F91-G91-H91 -> 0
A92: Xã Tân Lợi | B92: =IFERROR(IF((AA92+AB92)='02.XLD'!M93,'02.XLD'!M93,"Lỗi"),"Lỗi") -> 0 | C92: =SUM(D92:G92) -> 0 | D92: 0 | E92: 0 | F92: 0 | G92: 0 | H92: =SUM(I92:N92) -> 0 | I92: 0 | J92: 0 | K92: 0 | L92: 0 | M92: 0 | N92: 0 | O92: 0 | P92: 0 | Q92: 0 | R92: 0 | S92: 0 | T92: 0 | U92: 0 | V92: 0 | W92: 0 | X92: 0 | Y92: 0 | Z92: 0 | AA92: 0 | AB92: 0 | AC92: =B92-F92-G92-H92 -> 0
A93: Xã Bù Đăng | B93: =IFERROR(IF((AA93+AB93)='02.XLD'!M94,'02.XLD'!M94,"Lỗi"),"Lỗi") -> 1 | C93: =SUM(D93:G93) -> 1 | D93: 0 | E93: 1 | F93: 0 | G93: 0 | H93: =SUM(I93:N93) -> 0 | I93: 0 | J93: 0 | K93: 0 | L93: 0 | M93: 0 | N93: 0 | O93: 0 | P93: 0 | Q93: 0 | R93: 0 | S93: 0 | T93: 0 | U93: 0 | V93: 0 | W93: 0 | X93: 0 | Y93: 0 | Z93: 0 | AA93: 0 | AB93: 1 | AC93: =B93-F93-G93-H93 -> 1
A94: Xã Lộc Thạnh | B94: =IFERROR(IF((AA94+AB94)='02.XLD'!M95,'02.XLD'!M95,"Lỗi"),"Lỗi") -> 0 | C94: =SUM(D94:G94) -> 0 | D94: 0 | E94: 0 | F94: 0 | G94: 0 | H94: =SUM(I94:N94) -> 0 | I94: 0 | J94: 0 | K94: 0 | L94: 0 | M94: 0 | N94: 0 | O94: 0 | P94: 0 | Q94: 0 | R94: 0 | S94: 0 | T94: 0 | U94: 0 | V94: 0 | W94: 0 | X94: 0 | Y94: 0 | Z94: 0 | AA94: 0 | AB94: 0 | AC94: =B94-F94-G94-H94 -> 0
A95: Xã Bom Bo | B95: =IFERROR(IF((AA95+AB95)='02.XLD'!M96,'02.XLD'!M96,"Lỗi"),"Lỗi") -> 0 | C95: =SUM(D95:G95) -> 0 | D95: 0 | E95: 0 | F95: 0 | G95: 0 | H95: =SUM(I95:N95) -> 0 | I95: 0 | J95: 0 | K95: 0 | L95: 0 | M95: 0 | N95: 0 | O95: 0 | P95: 0 | Q95: 0 | R95: 0 | S95: 0 | T95: 0 | U95: 0 | V95: 0 | W95: 0 | X95: 0 | Y95: 0 | Z95: 0 | AA95: 0 | AB95: 0 | AC95: =B95-F95-G95-H95 -> 0
A96: Phường Đồng Xoài | B96: =IFERROR(IF((AA96+AB96)='02.XLD'!M97,'02.XLD'!M97,"Lỗi"),"Lỗi") -> 0 | C96: =SUM(D96:G96) -> 0 | D96: 0 | E96: 0 | F96: 0 | G96: 0 | H96: =SUM(I96:N96) -> 0 | I96: 0 | J96: 0 | K96: 0 | L96: 0 | M96: 0 | N96: 0 | O96: 0 | P96: 0 | Q96: 0 | R96: 0 | S96: 0 | T96: 0 | U96: 0 | V96: 0 | W96: 0 | X96: 0 | Y96: 0 | Z96: 0 | AA96: 0 | AB96: 0 | AC96: =B96-F96-G96-H96 -> 0
A97: Phường Minh Hưng | B97: =IFERROR(IF((AA97+AB97)='02.XLD'!M98,'02.XLD'!M98,"Lỗi"),"Lỗi") -> 0 | C97: =SUM(D97:G97) -> 0 | D97: 0 | E97: 0 | F97: 0 | G97: 0 | H97: =SUM(I97:N97) -> 0 | I97: 0 | J97: 0 | K97: 0 | L97: 0 | M97: 0 | N97: 0 | O97: 0 | P97: 0 | Q97: 0 | R97: 0 | S97: 0 | T97: 0 | U97: 0 | V97: 0 | W97: 0 | X97: 0 | Y97: 0 | Z97: 0 | AA97: 0 | AB97: 0 | AC97: =B97-F97-G97-H97 -> 0
A98: Phường Chơn Thành | B98: =IFERROR(IF((AA98+AB98)='02.XLD'!M99,'02.XLD'!M99,"Lỗi"),"Lỗi") -> 1 | C98: =SUM(D98:G98) -> 1 | D98: 0 | E98: 1 | F98: 0 | G98: 0 | H98: =SUM(I98:N98) -> 1 | I98: 0 | J98: 1 | K98: 0 | L98: 0 | M98: 0 | N98: 0 | O98: 0 | P98: 0 | Q98: 0 | R98: 0 | S98: 0 | T98: 0 | U98: 0 | V98: 0 | W98: 0 | X98: 0 | Y98: 0 | Z98: 0 | AA98: 0 | AB98: 1 | AC98: =B98-F98-G98-H98 -> 0
A99: Xã Nha Bích | B99: =IFERROR(IF((AA99+AB99)='02.XLD'!M100,'02.XLD'!M100,"Lỗi"),"Lỗi") -> 0 | C99: =SUM(D99:G99) -> 0 | D99: 0 | E99: 0 | F99: 0 | G99: 0 | H99: =SUM(I99:N99) -> 0 | I99: 0 | J99: 0 | K99: 0 | L99: 0 | M99: 0 | N99: 0 | O99: 0 | P99: 0 | Q99: 0 | R99: 0 | S99: 0 | T99: 0 | U99: 0 | V99: 0 | W99: 0 | X99: 0 | Y99: 0 | Z99: 0 | AA99: 0 | AB99: 0 | AC99: =B99-F99-G99-H99 -> 0
A100: Phường An Lộc | B100: =IFERROR(IF((AA100+AB100)='02.XLD'!M101,'02.XLD'!M101,"Lỗi"),"Lỗi") -> 0 | C100: =SUM(D100:G100) -> 0 | D100: 0 | E100: 0 | F100: 0 | G100: 0 | H100: =SUM(I100:N100) -> 0 | I100: 0 | J100: 0 | K100: 0 | L100: 0 | M100: 0 | N100: 0 | O100: 0 | P100: 0 | Q100: 0 | R100: 0 | S100: 0 | T100: 0 | U100: 0 | V100: 0 | W100: 0 | X100: 0 | Y100: 0 | Z100: 0 | AB100: 0 | AC100: =B100-F100-G100-H100 -> 0
A101: Xã Tân Quan | B101: =IFERROR(IF((AA101+AB101)='02.XLD'!M102,'02.XLD'!M102,"Lỗi"),"Lỗi") -> 2 | C101: =SUM(D101:G101) -> 2 | D101: 0 | E101: 1 | F101: 1 | G101: 0 | H101: =SUM(I101:N101) -> 1 | I101: 0 | J101: 0 | K101: 1 | L101: 0 | M101: 0 | N101: 0 | O101: 0 | P101: 0 | Q101: 0 | R101: 0 | S101: 0 | T101: 0 | U101: 0 | V101: 0 | W101: 0 | X101: 0 | Y101: 0 | Z101: 0 | AA101: 0 | AB101: 2 | AC101: =B101-F101-G101-H101 -> 0
A102: Xã Tân Hưng | B102: =IFERROR(IF((AA102+AB102)='02.XLD'!M103,'02.XLD'!M103,"Lỗi"),"Lỗi") -> 0 | C102: =SUM(D102:G102) -> 0 | D102: 0 | E102: 0 | F102: 0 | G102: 0 | H102: =SUM(I102:N102) -> 0 | I102: 0 | J102: 0 | K102: 0 | L102: 0 | M102: 0 | N102: 0 | O102: 0 | P102: 0 | Q102: 0 | R102: 0 | S102: 0 | T102: 0 | U102: 0 | V102: 0 | W102: 0 | X102: 0 | Y102: 0 | Z102: 0 | AA102: 0 | AB102: 0 | AC102: =B102-F102-G102-H102 -> 0
...

Sheet 05.KQTH
A1: UBND THÀNH PHỐ ĐỒNG NAI
A2: THANH TRA THÀNH PHỐ | AF2: 05/KQTH
B3: TỔNG HỢP KẾT QUẢ THI HÀNH QUYẾT ĐỊNH, THỰC HIỆN KẾT LUẬN TRONG 09 THÁNG ĐẦU NĂM 2026 CỦA THÀNH PHỐ ĐỒNG NAI
B4: Số liệu tính từ ngày 06/12/2025 đến ngày 05/9/2026
B5: (Kèm theo Báo cáo số: /BC-TT ngày /9/2026 của Thanh tra thành phố Đồng Nai)
A6: Đơn vị | B6: Kết quả thi hành Quyết định giải quyết khiếu nại | Q6: Kết quả thực hiện Kết luận nội dung tố cáo
B7: Tổng số Quyết định phải thi hành trong kỳ | C7: Tổng số Quyết định đã thi hành xong | D7: Thu hồi cho Nhà nước | H7: Trả lại cho tổ chức, cá nhân | L7: Đã xử lý hành chính | N7: Đã khởi tố | Q7: Tổng số Kết luận phải thực hiện trong kỳ | R7: Tổng số Kết luận đã thực hiện xong | S7: Thu hồi cho Nhà nước | W7: Trả lại cho tổ chức, cá nhân | AA7: Đã xử lý hành chính | AD7: Đã khởi tố
D8: Phải thu | F8: Đã thu | H8: Phải trả | J8: Đã trả | L8: Tổng số người bị xử lý | M8: Trong đó số cán bộ, công chức, viên chức | N8: Số vụ | O8: Số người | P8: Trong đó số cán bộ, công chức, viên chức | S8: Phải thu | U8: Đã thu | W8: Phải trả | Y8: Đã trả | AA8: Tổng số tổ chức bị xử lý | AB8: Tổng số cá nhân bị xử lý | AC8: Trong đó số cán bộ, công chức, viên chức | AD8: Số vụ | AE8: Số đối tượng | AF8: Trong đó số cán bộ, công chức, viên chức
D9: Tiền (Trđ) | E9: Đất (m2) | F9: Tiền (Trđ) | G9: Đất (m2) | H9: Tiền (Trđ) | I9: Đất (m2) | J9: Tiền (Trđ) | K9: Đất (m2) | S9: Tiền (Trđ) | T9: Đất (m2) | U9: Tiền (Trđ) | V9: Đất (m2) | W9: Tiền (Trđ) | X9: Đất (m2) | Y9: Tiền (Trđ) | Z9: Đất (m2)
A10: MS | B10: 1 | C10: 2 | D10: 3 | E10: 4 | F10: 5 | G10: 6 | H10: 7 | I10: 8 | J10: 9 | K10: 10 | L10: 11 | M10: 12 | N10: 13 | O10: 14 | P10: 15 | Q10: 16 | R10: 17 | S10: 18 | T10: 19 | U10: 20 | V10: 21 | W10: 22 | X10: 23 | Y10: 24 | Z10: 25 | AA10: 26 | AB10: 27 | AC10: 28 | AD10: 29 | AE10: 30 | AF10: 31
A11: UBND tỉnh | B11: 8 | C11: 0 | D11: 0 | E11: 0 | F11: 0 | G11: 0 | H11: 0 | I11: 0 | J11: 0 | K11: 0 | L11: 0 | M11: 0 | N11: 0 | O11: 0 | P11: 0 | Q11: 8 | R11: 0 | S11: 0 | T11: 0 | U11: 0 | V11: 0 | W11: 0 | X11: 0 | Y11: 0 | Z11: 0 | AA11: 0 | AB11: 0 | AC11: 0 | AD11: 0 | AE11: 0 | AF11: 0
A12: CẤP SỞ, NGÀNH | B12: =SUM(B13:B25) -> 0 | C12: =SUM(C13:C25) -> 0 | D12: =SUM(D13:D25) -> 0 | E12: =SUM(E13:E25) -> 0 | F12: =SUM(F13:F25) -> 0 | G12: =SUM(G13:G25) -> 0 | H12: =SUM(H13:H25) -> 0 | I12: =SUM(I13:I25) -> 0 | ... AF12: =SUM(AF13:AF25) -> 0
A13: Sở Dân tộc và tôn giáo
A14: Sở Công Thương | B14: 0 | C14: 0 | D14: 0 | E14: 0 | F14: 0 | G14: 0 | H14: 0 | I14: 0 | J14: 0 | K14: 0 | L14: 0 | M14: 0 | N14: 0 | O14: 0 | P14: 0 | Q14: 0 | R14: 0 | S14: 0 | T14: 0 | U14: 0 | V14: 0 | W14: 0 | X14: 0 | Y14: 0 | Z14: 0 | AA14: 0 | AB14: 0 | AC14: 0 | AD14: 0 | AE14: 0 | AF14: 0
A15: Sở GD&ĐT | B15: 0 | C15: 0 | D15: 0 | E15: 0 | F15: 0 | G15: 0 | H15: 0 | I15: 0 | J15: 0 | K15: 0 | L15: 0 | M15: 0 | N15: 0 | O15: 0 | P15: 0 | Q15: 1 | R15: 0 | S15: 118 | T15: 0 | U15: 0 | V15: 0 | W15: 0 | X15: 0 | Y15: 0 | Z15: 0 | AA15: 0 | AB15: 0 | AC15: 0 | AD15: 0 | AE15: 0 | AF15: 0
A16: Sở KH&CN
A17: Sở NN&MT | B17: 0 | C17: 0 | D17: 0 | E17: 0 | F17: 0 | G17: 0 | H17: 0 | I17: 0 | J17: 0 | K17: 0 | L17: 0 | M17: 0 | N17: 0 | O17: 0 | P17: 0 | Q17: 0 | R17: 0 | S17: 0 | T17: 0 | U17: 0 | V17: 0 | W17: 0 | X17: 0 | Y17: 0 | Z17: 0 | AA17: 0 | AB17: 0 | AC17: 0 | AD17: 0 | AE17: 0 | AF17: 0
A18: Sở Nội vụ | B18: 0 | C18: 0 | D18: 0 | E18: 0 | F18: 0 | G18: 0 | H18: 0 | I18: 0 | J18: 0 | K18: 0 | L18: 0 | M18: 0 | N18: 0 | O18: 0 | P18: 0 | Q18: 0 | R18: 0 | S18: 0 | T18: 0 | U18: 0 | V18: 0 | W18: 0 | X18: 0 | Y18: 0 | Z18: 0 | AA18: 0 | AB18: 0 | AC18: 0 | AD18: 0 | AE18: 0 | AF18: 0
A19: Sở Ngoại vụ
A20: Sở Tài chính | B20: 0 | C20: 0 | D20: 0 | E20: 0 | F20: 0 | G20: 0 | H20: 0 | I20: 0 | J20: 0 | K20: 0 | L20: 0 | M20: 0 | N20: 0 | O20: 0 | P20: 0 | Q20: 0 | R20: 0 | S20: 0 | T20: 0 | U20: 0 | V20: 0 | W20: 0 | X20: 0 | Y20: 0 | Z20: 0 | AA20: 0 | AB20: 0 | AC20: 0 | AD20: 0 | AE20: 0 | AF20: 0
A21: Sở Tư pháp | B21: 0 | C21: 0 | D21: 0 | E21: 0 | F21: 0 | G21: 0 | H21: 0 | I21: 0 | J21: 0 | K21: 0 | L21: 0 | M21: 0 | N21: 0 | O21: 0 | P21: 0 | Q21: 0 | R21: 0 | S21: 0 | T21: 0 | U21: 0 | V21: 0 | W21: 0 | X21: 0 | Y21: 0 | Z21: 0 | AA21: 0 | AB21: 0 | AC21: 0 | AD21: 0 | AE21: 0 | AF21: 0
A22: Sở VHTT&DL
A23: Sở Xây dựng | B23: 0 | C23: 0 | D23: 0 | E23: 0 | F23: 0 | G23: 0 | H23: 0 | I23: 0 | J23: 0 | K23: 0 | L23: 0 | M23: 0 | N23: 0 | O23: 0 | P23: 0 | Q23: 0 | R23: 0 | S23: 0 | T23: 0 | U23: 0 | V23: 0 | W23: 0 | X23: 0 | Y23: 0 | Z23: 0 | AA23: 0 | AB23: 0 | AC23: 0 | AD23: 0 | AE23: 0 | AF23: 0
A24: Sở Y tế | B24: 0 | C24: 0 | D24: 0 | E24: 0 | F24: 0 | G24: 0 | H24: 0 | I24: 0 | J24: 0 | K24: 0 | L24: 0 | M24: 0 | N24: 0 | O24: 0 | P24: 0 | Q24: 0 | R24: 0 | S24: 0 | T24: 0 | U24: 0 | V24: 0 | W24: 0 | X24: 0 | Y24: 0 | Z24: 0 | AA24: 0 | AB24: 0 | AC24: 0 | AD24: 0 | AE24: 0 | AF24: 0
A25: Thanh tra tỉnh | B25: 0 | C25: 0 | D25: 0 | E25: 0 | F25: 0 | G25: 0 | H25: 0 | I25: 0 | J25: 0 | K25: 0 | L25: 0 | M25: 0 | N25: 0 | O25: 0 | P25: 0 | Q25: 0 | R25: 0 | S25: 0 | T25: 0 | U25: 0 | V25: 0 | W25: 0 | X25: 0 | Y25: 0 | Z25: 0 | AA25: 0 | AB25: 0 | AC25: 0 | AD25: 0 | AE25: 0 | AF25: 0
A26: UBND CẤP XÃ | B26: =SUM(B27:B121) -> 106 | C26: =SUM(C27:C121) -> 103 | D26: =SUM(D27:D121) -> 0 | E26: =SUM(E27:E121) -> 0 | F26: =SUM(F27:F121) -> 2903 | G26: =SUM(G27:G121) -> 0 | H26: =SUM(H27:H121) -> 4265 | I26: =SUM(I27:I121) -> 0 | ... AF26: =SUM(AF27:AF121) -> 0
A27: Phường Trấn Biên | B27: 0 | C27: 0 | D27: 0 | E27: 0 | F27: 0 | G27: 0 | H27: 0 | I27: 0 | J27: 0 | K27: 0 | L27: 0 | M27: 0 | N27: 0 | O27: 0 | P27: 0 | Q27: 0 | R27: 0 | S27: 0 | T27: 0 | U27: 0 | V27: 0 | W27: 0 | X27: 0 | Y27: 0 | Z27: 0 | AA27: 0 | AB27: 0 | AC27: 0 | AD27: 0 | AE27: 0 | AF27: 0
A28: Phường Biên Hòa
A29: Phường Tam Hiệp | B29: 0 | C29: 0 | D29: 0 | E29: 0 | F29: 0 | G29: 0 | H29: 0 | I29: 0 | J29: 0 | K29: 0 | L29: 0 | M29: 0 | N29: 0 | O29: 0 | P29: 0 | Q29: 0 | R29: 0 | S29: 0 | T29: 0 | U29: 0 | V29: 0 | W29: 0 | X29: 0 | Y29: 0 | Z29: 0 | AA29: 0 | AB29: 0 | AC29: 0 | AD29: 0 | AE29: 0 | AF29: 0
A30: Phường Long Bình | B30: 1 | C30: 1 | D30: 0 | E30: 0 | F30: 0 | G30: 0 | H30: 0 | I30: 0 | J30: 0 | K30: 0 | L30: 0 | M30: 0 | N30: 0 | O30: 0 | P30: 0 | Q30: 1 | R30: 1 | S30: 0 | T30: 0 | U30: 0 | V30: 0 | W30: 0 | X30: 0 | Y30: 0 | Z30: 0 | AA30: 0 | AB30: 0 | AC30: 0 | AD30: 0 | AE30: 0 | AF30: 0
A31: Phường Trảng Dài | B31: 0 | C31: 0 | D31: 0 | E31: 0 | F31: 0 | G31: 0 | H31: 0 | I31: 0 | J31: 0 | K31: 0 | L31: 0 | M31: 0 | N31: 0 | O31: 0 | P31: 0 | Q31: 0 | R31: 0 | S31: 0 | T31: 0 | U31: 0 | V31: 0 | W31: 0 | X31: 0 | Y31: 0 | Z31: 0 | AA31: 0 | AB31: 0 | AC31: 0 | AD31: 0 | AE31: 0 | AF31: 0
A32: Phường Hố Nai | B32: 0 | C32: 0 | D32: 0 | E32: 0 | F32: 0 | G32: 0 | H32: 0 | I32: 0 | J32: 0 | K32: 0 | L32: 0 | M32: 0 | N32: 0 | O32: 0 | P32: 0 | Q32: 0 | R32: 0 | S32: 0 | T32: 0 | U32: 0 | V32: 0 | W32: 0 | X32: 0 | Y32: 0 | Z32: 0 | AA32: 0 | AB32: 0 | AC32: 0 | AD32: 0 | AE32: 0 | AF32: 0
A33: Phường Long Hưng | B33: 0 | C33: 0 | D33: 0 | E33: 0 | F33: 0 | G33: 0 | H33: 0 | I33: 0 | J33: 0 | K33: 0 | L33: 0 | M33: 0 | N33: 0 | O33: 0 | P33: 0 | Q33: 0 | R33: 0 | S33: 0 | T33: 0 | U33: 0 | V33: 0 | W33: 0 | X33: 0 | Y33: 0 | Z33: 0 | AA33: 0 | AB33: 0 | AC33: 0 | AD33: 0 | AE33: 0 | AF33: 0
A34: Phường Phước Tân | B34: 0 | C34: 0 | D34: 0 | E34: 0 | F34: 0 | G34: 0 | H34: 0 | I34: 0 | J34: 0 | K34: 0 | L34: 0 | M34: 0 | N34: 0 | O34: 0 | P34: 0 | Q34: 0 | R34: 0 | S34: 0 | T34: 0 | U34: 0 | V34: 0 | W34: 0 | X34: 0 | Y34: 0 | Z34: 0 | AA34: 0 | AB34: 0 | AC34: 0 | AD34: 0 | AE34: 0 | AF34: 0
A35: Phường Tam Phước | B35: 0 | C35: 0 | D35: 0 | E35: 0 | F35: 0 | G35: 0 | H35: 0 | I35: 0 | J35: 0 | K35: 0 | L35: 0 | M35: 0 | N35: 0 | O35: 0 | P35: 0 | Q35: 0 | R35: 0 | S35: 0 | T35: 0 | U35: 0 | V35: 0 | W35: 0 | X35: 0 | Y35: 0 | Z35: 0 | AA35: 0 | AB35: 0 | AC35: 0 | AD35: 0 | AE35: 0 | AF35: 0
A36: Phường Long Khánh | B36: 0 | C36: 0 | D36: 0 | E36: 0 | F36: 0 | G36: 0 | H36: 0 | I36: 0 | J36: 0 | K36: 0 | L36: 0 | M36: 0 | N36: 0 | O36: 0 | P36: 0 | Q36: 0 | R36: 0 | S36: 0 | T36: 0 | U36: 0 | V36: 0 | W36: 0 | X36: 0 | Y36: 0 | Z36: 0 | AA36: 0 | AB36: 0 | AC36: 0 | AD36: 0 | AE36: 0 | AF36: 0 | AG36: 0
A37: Phường Bình Lộc | B37: 0 | C37: 0 | D37: 0 | E37: 0 | F37: 0 | G37: 0 | H37: 0 | I37: 0 | J37: 0 | K37: 0 | L37: 0 | M37: 0 | N37: 0 | O37: 0 | P37: 0 | Q37: 0 | R37: 0 | S37: 0 | T37: 0 | U37: 0 | V37: 0 | W37: 0 | X37: 0 | Y37: 0 | Z37: 0 | AA37: 0 | AB37: 0 | AC37: 0 | AD37: 0 | AE37: 0 | AF37: 0
A38: Phường Bảo Vinh | B38: 0 | C38: 0 | D38: 0 | E38: 0 | F38: 0 | G38: 0 | H38: 0 | I38: 0 | J38: 0 | K38: 0 | L38: 0 | M38: 0 | N38: 0 | O38: 0 | P38: 0 | Q38: 0 | R38: 0 | S38: 0 | T38: 0 | U38: 0 | V38: 0 | W38: 0 | X38: 0 | Y38: 0 | Z38: 0 | AA38: 0 | AB38: 0 | AC38: 0 | AD38: 0 | AE38: 0 | AF38: 0
A39: Phường Xuân Lập | B39: 0 | C39: 0 | D39: 0 | E39: 0 | F39: 0 | G39: 0 | H39: 0 | I39: 0 | J39: 0 | K39: 0 | L39: 0 | M39: 0 | N39: 0 | O39: 0 | P39: 0 | Q39: 0 | R39: 0 | S39: 0 | T39: 0 | U39: 0 | V39: 0 | W39: 0 | X39: 0 | Y39: 0 | Z39: 0 | AA39: 0 | AB39: 0 | AC39: 0 | AD39: 0 | AE39: 0 | AF39: 0
A40: Phường Hàng Gòn | B40: 0 | C40: 0 | D40: 0 | E40: 0 | F40: 0 | G40: 0 | H40: 0 | I40: 0 | J40: 0 | K40: 0 | L40: 0 | M40: 0 | N40: 0 | O40: 0 | P40: 0 | Q40: 0 | R40: 0 | S40: 0 | T40: 0 | U40: 0 | V40: 0 | W40: 0 | X40: 0 | Y40: 0 | Z40: 0 | AA40: 0 | AB40: 0 | AC40: 0 | AD40: 0 | AE40: 0 | AF40: 0
A41: Phường Trảng Bom | B41: 2 | C41: 2 | D41: 0 | E41: 0 | F41: 0 | G41: 0 | H41: 199 | I41: 0 | J41: 0 | K41: 0 | L41: 0 | M41: 0 | N41: 0 | O41: 0 | P41: 0 | Q41: 0 | R41: 0 | S41: 0 | T41: 0 | U41: 0 | V41: 0 | W41: 0 | X41: 0 | Y41: 0 | Z41: 0 | AA41: 0 | AB41: 0 | AC41: 0 | AD41: 0 | AE41: 0 | AF41: 0
A42: Xã An Viễn | B42: 0 | C42: 0 | D42: 0 | E42: 0 | F42: 0 | G42: 0 | H42: 0 | I42: 0 | J42: 0 | K42: 0 | L42: 0 | M42: 0 | N42: 0 | O42: 0 | P42: 0 | Q42: 0 | R42: 0 | S42: 0 | T42: 0 | U42: 0 | V42: 0 | W42: 0 | X42: 0 | Y42: 0 | Z42: 0 | AA42: 0 | AB42: 0 | AC42: 0 | AD42: 0 | AE42: 0 | AF42: 0
A43: Xã Bình Minh | B43: 0 | C43: 0 | D43: 0 | E43: 0 | F43: 0 | G43: 0 | H43: 0 | I43: 0 | J43: 0 | K43: 0 | L43: 0 | M43: 0 | N43: 0 | O43: 0 | P43: 0 | Q43: 0 | R43: 0 | S43: 0 | T43: 0 | U43: 0 | V43: 0 | W43: 0 | X43: 0 | Y43: 0 | Z43: 0 | AA43: 0 | AB43: 0 | AC43: 0 | AD43: 0 | AE43: 0 | AF43: 0
A44: Xã Bàu Hàm | B44: 2 | C44: 2 | D44: 0 | E44: 0 | F44: 0 | G44: 0 | H44: 0 | I44: 0 | J44: 0 | K44: 0 | L44: 0 | M44: 0 | N44: 0 | O44: 0 | P44: 0 | Q44: 0 | R44: 0 | S44: 0 | T44: 0 | U44: 0 | V44: 0 | W44: 0 | X44: 0 | Y44: 0 | Z44: 0 | AA44: 0 | AB44: 0 | AC44: 0 | AD44: 0 | AE44: 0 | AF44: 0
A45: Xã Hưng Thịnh | B45: 0 | C45: 0 | D45: 0 | E45: 0 | F45: 0 | G45: 0 | H45: 0 | I45: 0 | J45: 0 | K45: 0 | L45: 0 | M45: 0 | N45: 0 | O45: 0 | P45: 0 | Q45: 1 | R45: 1 | S45: 0 | T45: 0 | U45: 0 | V45: 0 | W45: 0 | X45: 0 | Y45: 0 | Z45: 0 | AA45: 0 | AB45: 0 | AC45: 0 | AD45: 0 | AE45: 0 | AF45: 0
A46: Phường Dầu Giây | B46: 0 | C46: 0 | D46: 0 | E46: 0 | F46: 0 | G46: 0 | H46: 0 | I46: 0 | J46: 0 | K46: 0 | L46: 0 | M46: 0 | N46: 0 | O46: 0 | P46: 0 | Q46: 0 | R46: 0 | S46: 0 | T46: 0 | U46: 0 | V46: 0 | W46: 0 | X46: 0 | Y46: 0 | Z46: 0 | AA46: 0 | AB46: 0 | AC46: 0 | AD46: 0 | AF46: 0
A47: Xã Thống Nhất | B47: 0 | C47: 0 | D47: 0 | E47: 0 | F47: 0 | G47: 0 | H47: 0 | I47: 0 | J47: 0 | K47: 0 | L47: 0 | M47: 0 | N47: 0 | O47: 0 | P47: 0 | Q47: 0 | R47: 0 | S47: 0 | T47: 0 | U47: 0 | V47: 0 | W47: 0 | X47: 0 | Y47: 0 | Z47: 0 | AA47: 0 | AB47: 0 | AC47: 0 | AD47: 0 | AE47: 0 | AF47: 0
A48: Xã Gia Kiệm | B48: 0 | C48: 0 | D48: 0 | E48: 0 | F48: 0 | G48: 0 | H48: 0 | I48: 0 | J48: 0 | K48: 0 | L48: 0 | M48: 0 | N48: 0 | O48: 0 | P48: 0 | Q48: 0 | R48: 0 | S48: 0 | T48: 0 | U48: 0 | V48: 0 | W48: 0 | X48: 0 | Y48: 0 | Z48: 0 | AA48: 0 | AB48: 0 | AC48: 0 | AD48: 0 | AE48: 0 | AF48: 0
A49: Xã Cẩm Mỹ
A50: Xã Xuân Quế | B50: 0 | C50: 0 | D50: 0 | E50: 0 | F50: 0 | G50: 0 | H50: 0 | I50: 0 | J50: 0 | K50: 0 | L50: 0 | M50: 0 | N50: 0 | O50: 0 | P50: 0 | Q50: 0 | R50: 0 | S50: 0 | T50: 0 | U50: 0 | V50: 0 | W50: 0 | X50: 0 | Y50: 0 | Z50: 0 | AA50: 0 | AB50: 0 | AC50: 0 | AD50: 0 | AE50: 0 | AF50: 0
A51: Xã Xuân Đường | B51: 2 | C51: 2 | D51: 0 | E51: 0 | F51: 0 | G51: 0 | H51: 0 | I51: 0 | J51: 0 | K51: 0 | L51: 0 | M51: 0 | N51: 0 | O51: 0 | P51: 0 | Q51: 0 | R51: 0 | S51: 0 | T51: 0 | U51: 0 | V51: 0 | W51: 0 | X51: 0 | Y51: 0 | Z51: 0 | AA51: 0 | AB51: 0 | AC51: 0 | AD51: 0 | AE51: 0 | AF51: 0
A52: Xã Xuân Đông | B52: 0 | C52: 0 | D52: 0 | E52: 0 | F52: 0 | G52: 0 | H52: 0 | I52: 0 | J52: 0 | K52: 0 | L52: 0 | M52: 0 | N52: 0 | O52: 0 | P52: 0 | Q52: 0 | R52: 0 | S52: 0 | T52: 0 | U52: 0 | V52: 0 | W52: 0 | X52: 0 | Y52: 0 | Z52: 0 | AA52: 0 | AB52: 0 | AC52: 0 | AD52: 0 | AE52: 0 | AF52: 0
A53: Xã Sông Ray | B53: 0 | C53: 0 | D53: 0 | E53: 0 | F53: 0 | G53: 0 | H53: 0 | I53: 0 | J53: 0 | K53: 0 | L53: 0 | M53: 0 | N53: 0 | O53: 0 | P53: 0 | Q53: 1 | R53: 1 | S53: 0 | T53: 0 | U53: 0 | V53: 0 | W53: 0 | X53: 0 | Y53: 0 | Z53: 0 | AA53: 0 | AB53: 1 | AC53: 1 | AD53: 0 | AE53: 0 | AF53: 0
A54: Phường Xuân Lộc | B54: 0 | C54: 0 | D54: 0 | E54: 0 | F54: 0 | G54: 0 | H54: 0 | I54: 0 | J54: 0 | K54: 0 | L54: 0 | M54: 0 | N54: 0 | O54: 0 | P54: 0 | Q54: 0 | R54: 0 | S54: 0 | T54: 0 | U54: 0 | V54: 0 | W54: 0 | X54: 0 | Y54: 0 | Z54: 0 | AA54: 0 | AB54: 0 | AC54: 0 | AD54: 0 | AE54: 0 | AF54: 0
A55: Xã Xuân Định | B55: 0 | C55: 0 | D55: 0 | E55: 0 | F55: 0 | G55: 0 | H55: 0 | I55: 0 | J55: 0 | K55: 0 | L55: 0 | M55: 0 | N55: 0 | O55: 0 | P55: 0 | Q55: 0 | R55: 0 | S55: 0 | T55: 0 | U55: 0 | V55: 0 | W55: 0 | X55: 0 | Y55: 0 | Z55: 0 | AA55: 0 | AB55: 0 | AC55: 0 | AD55: 0 | AE55: 0 | AF55: 0
A56: Xã Xuân Phú
A57: Xã Xuân Hòa | B57: 0 | C57: 0 | D57: 0 | E57: 0 | F57: 0 | G57: 0 | H57: 0 | I57: 0 | J57: 0 | K57: 0 | L57: 0 | M57: 0 | N57: 0 | O57: 0 | P57: 0 | Q57: 0 | R57: 0 | S57: 0 | T57: 0 | U57: 0 | V57: 0 | W57: 0 | X57: 0 | Y57: 0 | Z57: 0 | AA57: 0 | AB57: 0 | AC57: 0 | AD57: 0 | AE57: 0 | AF57: 0
A58: Xã Xuân Thành | B58: 0 | C58: 0 | D58: 0 | E58: 0 | F58: 0 | G58: 0 | H58: 0 | I58: 0 | J58: 0 | K58: 0 | L58: 0 | M58: 0 | N58: 0 | O58: 0 | P58: 0 | Q58: 0 | R58: 0 | S58: 0 | T58: 0 | U58: 0 | V58: 0 | W58: 0 | X58: 0 | Y58: 0 | Z58: 0 | AA58: 0 | AB58: 0 | AC58: 0 | AD58: 0 | AE58: 0 | AF58: 0
A59: Xã Xuân Bắc | B59: 0 | C59: 0 | D59: 0 | E59: 0 | F59: 0 | G59: 0 | H59: 0 | I59: 0 | J59: 0 | K59: 0 | L59: 0 | M59: 0 | N59: 0 | O59: 0 | P59: 0 | Q59: 0 | R59: 0 | S59: 0 | T59: 0 | U59: 0 | V59: 0 | W59: 0 | X59: 0 | Y59: 0 | Z59: 0 | AA59: 0 | AB59: 0 | AC59: 0 | AD59: 0 | AE59: 0 | AF59: 0
A60: Phường Nhơn Trạch | B60: 10 | C60: 10 | D60: 0 | E60: 0 | F60: 0 | G60: 0 | H60: 0 | I60: 0 | J60: 0 | K60: 0 | L60: 0 | M60: 0 | N60: 0 | O60: 0 | P60: 0 | Q60: 0 | R60: 0 | S60: 0 | T60: 0 | U60: 0 | V60: 0 | W60: 0 | X60: 0 | Y60: 0 | Z60: 0 | AA60: 0 | AB60: 0 | AC60: 0 | AD60: 0 | AE60: 0 | AF60: 0
A61: Xã Đại Phước | B61: 4 | C61: 4 | D61: 0 | E61: 0 | F61: 0 | G61: 0 | H61: 0 | I61: 0 | J61: 0 | K61: 0 | L61: 0 | M61: 0 | N61: 0 | O61: 0 | P61: 0 | Q61: 0 | R61: 0 | S61: 0 | T61: 0 | U61: 0 | V61: 0 | W61: 0 | X61: 0 | Y61: 0 | Z61: 0 | AA61: 0 | AB61: 0 | AC61: 0 | AD61: 0 | AE61: 0 | AF61: 0
A62: Xã Phước An | B62: 1 | C62: 1 | D62: 0 | E62: 0 | F62: 0 | G62: 0 | H62: 0 | I62: 0 | J62: 0 | K62: 0 | L62: 0 | M62: 0 | N62: 0 | O62: 0 | P62: 0 | Q62: 0 | R62: 0 | S62: 0 | T62: 0 | U62: 0 | V62: 0 | W62: 0 | X62: 0 | Y62: 0 | Z62: 0 | AA62: 0 | AB62: 0 | AC62: 0 | AD62: 0 | AE62: 0 | AF62: 0
A63: Phường Long Thành | B63: 0 | C63: 0 | D63: 0 | E63: 0 | F63: 0 | G63: 0 | H63: 0 | I63: 0 | J63: 0 | K63: 0 | L63: 0 | M63: 0 | N63: 0 | O63: 0 | P63: 0 | Q63: 0 | R63: 0 | S63: 0 | T63: 0 | U63: 0 | V63: 0 | W63: 0 | X63: 0 | Y63: 0 | Z63: 0 | AA63: 0 | AB63: 0 | AC63: 0 | AD63: 0 | AE63: 0 | AF63: 0
A64: Xã Phước Thái | B64: 0 | C64: 0 | D64: 0 | E64: 0 | F64: 0 | G64: 0 | H64: 0 | I64: 0 | J64: 0 | K64: 0 | L64: 0 | M64: 0 | N64: 0 | O64: 0 | P64: 0 | Q64: 0 | R64: 0 | S64: 0 | T64: 0 | U64: 0 | V64: 0 | W64: 0 | X64: 0 | Y64: 0 | Z64: 0 | AA64: 0 | AB64: 0 | AC64: 0 | AD64: 0 | AE64: 0 | AF64: 0
A65: Xã Long Phước | B65: 0 | C65: 0 | D65: 0 | E65: 0 | F65: 0 | G65: 0 | H65: 0 | I65: 0 | J65: 0 | K65: 0 | L65: 0 | M65: 0 | N65: 0 | O65: 0 | P65: 0 | Q65: 0 | R65: 0 | S65: 0 | T65: 0 | U65: 0 | V65: 0 | W65: 0 | X65: 0 | Y65: 0 | Z65: 0 | AA65: 0 | AB65: 0 | AC65: 0 | AD65: 0 | AE65: 0 | AF65: 0
A66: Xã Bình An | B66: 0 | C66: 0 | D66: 0 | E66: 0 | F66: 0 | G66: 0 | H66: 0 | I66: 0 | J66: 0 | K66: 0 | L66: 0 | M66: 0 | N66: 0 | O66: 0 | P66: 0 | Q66: 0 | R66: 0 | S66: 0 | T66: 0 | U66: 0 | V66: 0 | W66: 0 | X66: 0 | Y66: 0 | Z66: 0 | AA66: 0 | AB66: 0 | AC66: 0 | AD66: 0 | AE66: 0 | AF66: 0
A67: Xã An Phước | B67: 3 | C67: 3 | D67: 0 | E67: 0 | F67: 0 | G67: 0 | H67: 0 | I67: 0 | J67: 0 | K67: 0 | L67: 0 | M67: 0 | N67: 0 | O67: 0 | P67: 0 | Q67: 0 | R67: 0 | S67: 0 | T67: 0 | U67: 0 | V67: 0 | W67: 0 | X67: 0 | Y67: 0 | Z67: 0 | AA67: 0 | AB67: 0 | AC67: 0 | AD67: 0 | AE67: 0 | AF67: 0
A68: Xã Định Quán | B68: 0 | C68: 0 | D68: 0 | E68: 0 | F68: 0 | G68: 0 | H68: 0 | I68: 0 | J68: 0 | K68: 0 | L68: 0 | M68: 0 | N68: 0 | O68: 0 | P68: 0 | Q68: 0 | R68: 0 | S68: 0 | T68: 0 | U68: 0 | V68: 0 | W68: 0 | X68: 0 | Y68: 0 | Z68: 0 | AA68: 0 | AB68: 0 | AC68: 0 | AD68: 0 | AE68: 0 | AF68: 0
... A79: Phường Tân Triều | B79: 0 | C79: 0 | D79: 0 | E79: 0 | F79: 0 | G79: 0 | H79: 0 | I79: 0 | J79: 0 | K79: 0 | L79: 0 | M79: 0 | N79: 0 | O79: 0 | P79: 0 | Q79: 0 | R79: 0 | S79: 0 | T79: 0 | U79: 0 | V79: 0 | W79: 0 | X79: 0 | Y79: 0 | Z79: 0 | AA79: 0 | AB79: 0 | AC79: 0 | AD79: 0 | AE79: 0 | AF79: 0
A80: Xã Tân An
A81: Xã Phú Lý | B81: 0 | C81: 0 | D81: 0 | E81: 0 | F81: 0 | G81: 0 | H81: 0 | I81: 0 | J81: 0 | K81: 0 | L81: 0 | M81: 0 | N81: 0 | O81: 0 | P81: 0 | Q81: 0 | R81: 0 | S81: 0 | T81: 0 | U81: 0 | V81: 0 | W81: 0 | X81: 0 | Y81: 0 | Z81: 0 | AA81: 0 | AB81: 0 | AC81: 0 | AD81: 0 | AE81: 0 | AF81: 0
A82: Phường Bình Phước | B82: 60 | C82: 57 | D82: 0 | E82: 0 | F82: 2903 | G82: 0 | H82: 4066 | I82: 0 | J82: 4066 | K82: 22 lô đất TĐC | L82: 0 | M82: 0 | N82: 0 | O82: 0 | P82: 0 | Q82: 0 | R82: 0 | S82: 0 | T82: 0 | U82: 0 | V82: 0 | W82: 0 | X82: 0 | Y82: 0 | Z82: 0 | AA82: 0 | AB82: 0 | AC82: 0 | AD82: 0 | AE82: 0 | AF82: 0
A83: Phường Phước Bình | B83: 0 | C83: 0 | D83: 0 | E83: 0 | F83: 0 | G83: 0 | H83: 0 | I83: 0 | J83: 0 | K83: 0 | L83: 0 | M83: 0 | N83: 0 | O83: 0 | P83: 0 | Q83: 0 | R83: 0 | S83: 0 | T83: 0 | U83: 0 | V83: 0 | W83: 0 | X83: 0 | Y83: 0 | Z83: 0 | AA83: 0 | AB83: 0 | AC83: 0 | AD83: 0 | AE83: 0 | AF83: 0
A84: Phường Phước Long | B84: 0 | C84: 0 | D84: 0 | E84: 0 | F84: 0 | G84: 0 | H84: 0 | I84: 0 | J84: 0 | K84: 0 | L84: 0 | M84: 0 | N84: 0 | O84: 0 | P84: 0 | Q84: 0 | R84: 0 | S84: 0 | T84: 0 | U84: 0 | V84: 0 | W84: 0 | X84: 0 | Y84: 0 | Z84: 0 | AA84: 0 | AB84: 0 | AC84: 0 | AD84: 0 | AE84: 0 | AF84: 0
A85: Phường Tân Khai | B85: 0 | C85: 0 | D85: 0 | E85: 0 | F85: 0 | G85: 0 | H85: 0 | I85: 0 | J85: 0 | K85: 0 | L85: 0 | M85: 0 | N85: 0 | O85: 0 | P85: 0 | Q85: 0 | R85: 0 | S85: 0 | T85: 0 | U85: 0 | V85: 0 | W85: 0 | X85: 0 | Y85: 0 | Z85: 0 | AA85: 0 | AB85: 0 | AC85: 0 | AD85: 0 | AE85: 0 | AF85: 0
A86: Phường Bình Long | B86: 0 | C86: 0 | D86: 0 | E86: 0 | F86: 0 | G86: 0 | H86: 0 | I86: 0 | J86: 0 | K86: 0 | L86: 0 | M86: 0 | N86: 0 | O86: 0 | P86: 0 | Q86: 0 | R86: 0 | S86: 0 | T86: 0 | U86: 0 | V86: 0 | W86: 0 | X86: 0 | Y86: 0 | Z86: 0 | AA86: 0 | AB86: 0 | AC86: 0 | AD86: 0 | AE86: 0 | AF86: 0
A87: Xã Lộc Hưng | B87: 0 | C87: 0 | D87: 0 | E87: 0 | F87: 0 | G87: 0 | H87: 0 | I87: 0 | J87: 0 | K87: 0 | L87: 0 | M87: 0 | N87: 0 | O87: 0 | P87: 0 | Q87: 0 | R87: 0 | S87: 0 | T87: 0 | U87: 0 | V87: 0 | W87: 0 | X87: 0 | Y87: 0 | Z87: 0 | AA87: 0 | AB87: 0 | AC87: 0 | AD87: 0 | AE87: 0 | AF87: 0
A88: Xã Thiện Hưng | B88: 0 | C88: 0 | D88: 0 | E88: 0 | F88: 0 | G88: 0 | H88: 0 | I88: 0 | J88: 0 | K88: 0 | L88: 0 | M88: 0 | N88: 0 | O88: 0 | P88: 0 | Q88: 0 | R88: 0 | S88: 0 | T88: 0 | U88: 0 | V88: 0 | W88: 0 | X88: 0 | Y88: 0 | Z88: 0 | AA88: 0 | AB88: 0 | AC88: 0 | AD88: 0 | AE88: 0 | AF88: 0
A89: Xã Đa Kia | B89: 0 | C89: 0 | D89: 0 | E89: 0 | F89: 0 | G89: 0 | H89: 0 | I89: 0 | J89: 0 | K89: 0 | L89: 0 | M89: 0 | N89: 0 | O89: 0 | P89: 0 | Q89: 0 | R89: 0 | S89: 0 | T89: 0 | U89: 0 | V89: 0 | W89: 0 | X89: 0 | Y89: 0 | Z89: 0 | AA89: 0 | AB89: 0 | AC89: 0 | AD89: 0 | AE89: 0 | AF89: 0 | AG89: 0
A90: Xã Đak Ơ | B90: 0 | C90: 0 | D90: 0 | E90: 0 | F90: 0 | G90: 0 | H90: 0 | I90: 0 | J90: 0 | K90: 0 | L90: 0 | M90: 0 | N90: 0 | O90: 0 | P90: 0 | Q90: 0 | R90: 0 | S90: 0 | T90: 0 | U90: 0 | V90: 0 | W90: 0 | X90: 0 | Y90: 0 | Z90: 0 | AA90: 0 | AB90: 0 | AC90: 0 | AD90: 0 | AE90: 0 | AF90: 0
A91: Xã Phú Riềng | B91: 0 | C91: 0 | D91: 0 | E91: 0 | F91: 0 | G91: 0 | H91: 0 | I91: 0 | J91: 0 | K91: 0 | L91: 0 | M91: 0 | N91: 0 | O91: 0 | P91: 0 | Q91: 1 | R91: 1 | S91: 171 | T91: 0 | U91: 171 | V91: 0 | W91: 0 | X91: 0 | Y91: 0 | Z91: 0 | AA91: 0 | AB91: 1 | AC91: 1 | AD91: 0 | AE91: 0 | AF91: 0 | AG91: 0
A92: Phường Đồng Phú | B92: 0 | C92: 0 | D92: 0 | E92: 0 | F92: 0 | G92: 0 | H92: 0 | I92: 0 | J92: 0 | K92: 0 | L92: 0 | M92: 0 | N92: 0 | O92: 0 | P92: 0 | Q92: 0 | R92: 0 | S92: 0 | T92: 0 | U92: 0 | V92: 0 | W92: 0 | X92: 0 | Y92: 0 | Z92: 0 | AA92: 0 | AB92: 0 | AC92: 0 | AD92: 0 | AE92: 0 | AF92: 0
A93: Xã Tân Lợi | B93: 0 | C93: 0 | D93: 0 | E93: 0 | F93: 0 | G93: 0 | H93: 0 | I93: 0 | J93: 0 | K93: 0 | L93: 0 | M93: 0 | N93: 0 | O93: 0 | P93: 0 | Q93: 0 | R93: 0 | S93: 0 | T93: 0 | U93: 0 | V93: 0 | W93: 0 | X93: 0 | Y93: 0 | Z93: 0 | AA93: 0 | AB93: 0 | AC93: 0 | AD93: 0 | AE93: 0 | AF93: 0
A94: Xã Bù Đăng | B94: 0 | C94: 0 | D94: 0 | E94: 0 | F94: 0 | G94: 0 | H94: 0 | I94: 0 | J94: 0 | K94: 0 | L94: 0 | M94: 0 | N94: 0 | O94: 0 | P94: 0 | Q94: 1 | R94: 1 | S94: 0 | T94: 0 | U94: 0 | V94: 0 | W94: 0 | X94: 0 | Y94: 0 | Z94: 0 | AA94: 0 | AB94: 0 | AC94: 0 | AD94: 0 | AE94: 0 | AF94: 0
A95: Xã Lộc Thạnh | B95: 0 | C95: 0 | D95: 0 | E95: 0 | F95: 0 | G95: 0 | H95: 0 | I95: 0 | J95: 0 | K95: 0 | L95: 0 | M95: 0 | N95: 0 | O95: 0 | P95: 0 | Q95: 0 | R95: 0 | S95: 0 | T95: 0 | U95: 0 | V95: 0 | W95: 0 | X95: 0 | Y95: 0 | Z95: 0 | AA95: 0 | AB95: 0 | AC95: 0 | AD95: 0 | AE95: 0 | AF95: 0
A96: Xã Bom Bo | B96: 0 | C96: 0 | D96: 0 | E96: 0 | F96: 0 | G96: 0 | H96: 0 | I96: 0 | J96: 0 | K96: 0 | L96: 0 | M96: 0 | N96: 0 | O96: 0 | P96: 0 | Q96: 0 | R96: 0 | S96: 0 | T96: 0 | U96: 0 | V96: 0 | W96: 0 | X96: 0 | Y96: 0 | Z96: 0 | AA96: 0 | AB96: 0 | AC96: 0 | AD96: 0 | AE96: 0 | AF96: 0
A97: Phường Đồng Xoài | B97: 5 | C97: 5 | D97: 0 | E97: 0 | F97: 0 | G97: 0 | H97: 0 | I97: 0 | J97: 0 | K97: 0 | L97: 0 | M97: 0 | N97: 0 | O97: 0 | P97: 0 | Q97: 0 | R97: 0 | S97: 0 | T97: 0 | U97: 0 | V97: 0 | W97: 0 | X97: 0 | Y97: 0 | Z97: 0 | AA97: 0 | AB97: 0 | AC97: 0 | AD97: 0 | AE97: 0 | AF97: 0
A98: Phường Minh Hưng | B98: 0 | C98: 0 | D98: 0 | E98: 0 | F98: 0 | G98: 0 | H98: 0 | I98: 0 | J98: 0 | K98: 0 | L98: 0 | M98: 0 | N98: 0 | O98: 0 | P98: 0 | Q98: 0 | R98: 0 | S98: 0 | T98: 0 | U98: 0 | V98: 0 | W98: 0 | X98: 0 | Y98: 0 | Z98: 0 | AA98: 0 | AB98: 0 | AC98: 0 | AD98: 0 | AE98: 0 | AF98: 0
A99: Phường Chơn Thành | B99: 3 | C99: 3 | D99: 0 | E99: 0 | F99: 0 | G99: 0 | H99: 0 | I99: 0 | J99: 0 | K99: 0 | L99: 0 | M99: 0 | N99: 0 | O99: 0 | P99: 0 | Q99: 1 | R99: 1 | S99: 0 | T99: 0 | U99: 0 | V99: 0 | W99: 0 | X99: 0 | Y99: 0 | Z99: 0 | AA99: 0 | AB99: 0 | AC99: 0 | AD99: 0 | AE99: 0 | AF99: 0
A100: Xã Nha Bích | B100: 0 | C100: 0 | D100: 0 | E100: 0 | F100: 0 | G100: 0 | H100: 0 | I100: 0 | J100: 0 | K100: 0 | L100: 0 | M100: 0 | N100: 0 | O100: 0 | P100: 0 | Q100: 0 | R100: 0 | S100: 0 | T100: 0 | U100: 0 | V100: 0 | W100: 0 | X100: 0 | Y100: 0 | Z100: 0 | AA100: 0 | AB100: 0 | AC100: 0 | AD100: 0 | AE100: 0 | AF100: 0
A101: Phường An Lộc | B101: 0 | C101: 0 | D101: 0 | E101: 0 | F101: 0 | G101: 0 | H101: 0 | I101: 0 | J101: 0 | K101: 0 | L101: 0 | M101: 0 | N101: 0 | O101: 0 | P101: 0 | Q101: 0 | R101: 0 | S101: 0 | T101: 0 | U101: 0 | V101: 0 | W101: 0 | X101: 0 | Y101: 0 | Z101: 0 | AA101: 0 | AB101: 0 | AC101: 0 | AD101: 0 | AE101: 0 | AF101: 0
A102: Xã Tân Quan | B102: 0 | C102: 0 | D102: 0 | E102: 0 | F102: 0 | G102: 0 | H102: 0 | I102: 0 | J102: 0 | K102: 0 | L102: 0 | M102: 0 | N102: 0 | O102: 0 | P102: 0 | Q102: 1 | R102: 1 | S102: 0 | T102: 0 | U102: 0 | V102: 0 | W102: 0 | X102: 0 | Y102: 0 | Z102: 0 | AA102: 0 | AB102: 0 | AC102: 0 | AD102: 0 | AE102: 0 | AF102: 0
A103: Xã Tân Hưng | B103: 0 | C103: 0 | D103: 0 | E103: 0 | F103: 0 | G103: 0 | H103: 0 | I103: 0 | J103: 0 | K103: 0 | L103: 0 | M103: 0 | N103: 0 | O103: 0 | P103: 0 | Q103: 0 | R103: 0 | S103: 0 | T103: 0 | U103: 0 | V103: 0 | W103: 0 | X103: 0 | Y103: 0 | Z103: 0 | AA103: 0 | AB103: 0 | AC103: 0 | AD103: 0 | AE103: 0 | AF103: 0
A104: Xã Lộc Quang
A105: Xã Lộc Thành | B105: 0 | C105: 0 | D105: 0 | E105: 0 | F105: 0 | G105: 0 | H105: 0 | I105: 0 | J105: 0 | K105: 0 | L105: 0 | M105: 0 | N105: 0 | O105: 0 | P105: 0 | Q105: 0 | R105: 0 | S105: 0 | T105: 0 | U105: 0 | V105: 0 | W105: 0 | X105: 0 | Y105: 0 | Z105: 0 | AA105: 0 | AB105: 0 | AC105: 0 | AD105: 0 | AE105: 0 | AF105: 0
A106: Phường Lộc Ninh | B106: 1 | C106: 1 | D106: 0 | E106: 0 | F106: 0 | G106: 0 | H106: 0 | I106: 0 | J106: 0 | K106: 0 | L106: 0 | M106: 0 | N106: 0 | O106: 0 | P106: 0 | Q106: 1 | R106: 1 | S106: 0 | T106: 0 | U106: 0 | V106: 0 | W106: 0 | X106: 0 | Y106: 0 | Z106: 0 | AA106: 0 | AB106: 0 | AC106: 0 | AD106: 0 | AE106: 0 | AF106: 0
A107: Xã Lộc Tấn | B107: 0 | C107: 0 | D107: 0 | E107: 0 | F107: 0 | G107: 0 | H107: 0 | I107: 0 | J107: 0 | K107: 0 | L107: 0 | M107: 0 | N107: 0 | O107: 0 | P107: 0 | Q107: 0 | R107: 0 | S107: 0 | T107: 0 | U107: 0 | V107: 0 | W107: 0 | X107: 0 | Y107: 0 | Z107: 0 | AA107: 0 | AB107: 0 | AC107: 0 | AD107: 0 | AE107: 0 | AF107: 0
A108: Xã Hưng Phước | B108: 0 | C108: 0 | D108: 0 | E108: 0 | F108: 0 | G108: 0 | H108: 0 | I108: 0 | J108: 0 | K108: 0 | L108: 0 | M108: 0 | N108: 0 | O108: 0 | P108: 0 | Q108: 0 | R108: 0 | S108: 0 | T108: 0 | U108: 0 | V108: 0 | W108: 0 | X108: 0 | Y108: 0 | Z108: 0 | AA108: 0 | AB108: 0 | AC108: 0 | AD108: 0 | AE108: 0 | AF108: 0
A109: Xã Tân Tiến
A110: Xã Bù Gia Mập | B110: 0 | C110: 0 | D110: 0 | E110: 0 | F110: 0 | G110: 0 | H110: 0 | I110: 0 | J110: 0 | K110: 0 | L110: 0 | M110: 0 | N110: 0 | O110: 0 | P110: 0 | Q110: 0 | R110: 0 | S110: 0 | T110: 0 | U110: 0 | V110: 0 | W110: 0 | X110: 0 | Y110: 0 | Z110: 0 | AA110: 0 | AB110: 0 | AC110: 0 | AD110: 0 | AE110: 0 | AF110: 0
...

Sheet 06.QLKNTC
A1: UBND THÀNH PHỐ ĐỒNG NAI
A2: THANH TRA THÀNH PHỐ | R2: 06/QLKNTC
A3: TỔNG HỢP CÔNG TÁC QUẢN LÝ NHÀ NƯỚC VỀ TIẾP CÔNG DÂN, GIẢI QUYẾT KHIẾU NẠI, TỐ CÁO TRONG 09 THÁNG ĐẦU NĂM 2026 CỦA THÀNH PHỐ ĐỒNG NAI
A4: Số liệu tính từ ngày 06/12/2025 đến ngày 05/9/2026
A5: (Kèm theo Báo cáo số: /BC-TT ngày /9/2026 của Thanh tra thành phố Đồng Nai)
A6: Đơn vị | B6: Ban hành văn bản quản lý, chỉ đạo (Bộ, ngành, tỉnh, TP) về công tác TCD, KN, TC | E6: Tập huấn, tuyên truyền, giáo dục pháp luật về TCD, KN, TC | G6: Thanh tra trách nhiệm | N6: Kết quả thực hiện kết luận, quyết định xử lý về thanh tra trách nhiệm
B7: Số văn bản ban hành mới | C7: Số văn bản được sửa đổi, bổ sung | D7: Số văn bản hủy bỏ | E7: Số lớp | F7: Số người | G7: Thực hiện pháp luật về TCD, KN, TC | I7: Số cuộc đã ban hành kết luận | J7: Kiến nghị xử lý | N7: Tổng số KLTT thực hiện | O7: Đã xử lý hành chính | Q7: Đã khởi tố
G8: Số cuộc | H8: Số đơn vị | J8: Hành chính | L8: Chuyển cơ quan điều tra | O8: Tổ chức | P8: Cá nhân | Q8: Vụ | R8: Đối tượng
J9: Tổ chức | K9: Cá nhân | L9: Tổ chức | M9: Cá nhân
A10: MS | B10: 1 | C10: 2 | D10: 3 | E10: 4 | F10: 5 | G10: 6 | H10: 7 | I10: 8 | J10: 9 | K10: 10 | L10: 11 | M10: 12 | N10: 13 | O10: 14 | P10: 15 | Q10: 16 | R10: 17
A11: UBND tỉnh | B11: 30 | C11: 0 | D11: 0 | E11: 0 | F11: 0 | G11: 0 | H11: 0 | I11: 0 | J11: 0 | K11: 0 | L11: 0 | M11: 0 | N11: 0 | O11: 0 | P11: 0 | Q11: 0 | R11: 0
A12: CẤP SỞ, NGÀNH | B12: =SUM(B13:B25) -> 34 | C12: =SUM(C13:C25) -> 0 | D12: =SUM(D13:D25) -> 0 | E12: =SUM(E13:E25) -> 10 | F12: =SUM(F13:F25) -> 1352 | G12: =SUM(G13:G25) -> 2 | H12: =SUM(H13:H25) -> 14 | I12: =SUM(I13:I25) -> 2 | ... R12: =SUM(R13:R25) -> 0
A13: Sở Dân tộc và tôn giáo
A14: Sở Công Thương | B14: 0 | C14: 0 | D14: 0 | E14: 0 | F14: 0 | G14: 0 | H14: 0 | I14: 0 | J14: 0 | K14: 0 | L14: 0 | M14: 0 | N14: 0 | O14: 0 | P14: 0 | Q14: 0 | R14: 0
A15: Sở GD&ĐT | B15: 1 | C15: 0 | D15: 0 | E15: 0 | F15: 0 | G15: 0 | H15: 0 | I15: 0 | J15: 0 | K15: 0 | L15: 0 | M15: 0 | N15: 0 | O15: 0 | P15: 0 | Q15: 0 | R15: 0
A16: Sở KH&CN
A17: Sở NN&MT | B17: 0 | C17: 0 | D17: 0 | E17: 0 | F17: 0 | G17: 0 | H17: 0 | I17: 0 | J17: 0 | K17: 0 | L17: 0 | M17: 0 | N17: 0 | O17: 0 | P17: 0 | Q17: 0 | R17: 0
A18: Sở Nội vụ | B18: 12 | C18: 0 | D18: 0 | E18: 7 | F18: 672 | G18: 0 | H18: 0 | I18: 0 | J18: 0 | K18: 0 | L18: 0 | M18: 0 | N18: 0 | O18: 0 | P18: 0 | Q18: 0 | R18: 0
A19: Sở Ngoại vụ
A20: Sở Tài chính | B20: 0 | C20: 0 | D20: 0 | E20: 0 | F20: 0 | G20: 0 | H20: 0 | I20: 0 | J20: 0 | K20: 0 | L20: 0 | M20: 0 | N20: 0 | O20: 0 | P20: 0 | Q20: 0 | R20: 0
A21: Sở Tư pháp | B21: 15 | C21: 0 | D21: 0 | E21: 0 | F21: 0 | G21: 0 | H21: 0 | I21: 0 | J21: 0 | K21: 0 | L21: 0 | M21: 0 | N21: 0 | O21: 0 | P21: 0 | Q21: 0 | R21: 0
A22: Sở VHTT&DL
A23: Sở Xây dựng | B23: 0 | C23: 0 | D23: 0 | E23: 0 | F23: 0 | G23: 0 | H23: 0 | I23: 0 | J23: 0 | K23: 0 | L23: 0 | M23: 0 | N23: 0 | O23: 0 | P23: 0 | Q23: 0 | R23: 0
A24: Sở Y tế | B24: 0 | C24: 0 | D24: 0 | E24: 0 | F24: 0 | G24: 0 | H24: 0 | I24: 0 | J24: 0 | K24: 0 | L24: 0 | M24: 0 | N24: 0 | O24: 0 | P24: 0 | Q24: 0 | R24: 0
A25: Thanh tra tỉnh | B25: 6 | C25: 0 | D25: 0 | E25: 3 | F25: 680 | G25: 2 | H25: 14 | I25: 2 | J25: 0 | K25: 0 | L25: 0 | M25: 0 | N25: 0 | O25: 0 | P25: 0 | Q25: 0 | R25: 0
A26: UBND CẤP XÃ | B26: =SUM(B27:B121) -> 199 | C26: =SUM(C27:C121) -> 6 | D26: =SUM(D27:D121) -> 7 | E26: =SUM(E27:E121) -> 17 | F26: =SUM(F27:F121) -> 928 | G26: =SUM(G27:G121) -> 0 | H26: =SUM(H27:H121) -> 0 | I26: =SUM(I27:I121) -> 0 | ... R26: =SUM(R27:R121) -> 0
A27: Phường Trấn Biên | B27: 0 | C27: 0 | D27: 0 | E27: 0 | F27: 0 | G27: 0 | H27: 0 | I27: 0 | J27: 0 | K27: 0 | L27: 0 | M27: 0 | N27: 0 | O27: 0 | P27: 0 | R27: 0
A28: Phường Biên Hòa
A29: Phường Tam Hiệp | B29: 0 | C29: 0 | D29: 0 | E29: 0 | F29: 0 | G29: 0 | H29: 0 | I29: 0 | J29: 0 | K29: 0 | L29: 0 | M29: 0 | N29: 0 | O29: 0 | P29: 0 | Q29: 0 | R29: 0
A30: Phường Long Bình | B30: 0 | C30: 0 | D30: 0 | E30: 0 | F30: 0 | G30: 0 | H30: 0 | I30: 0 | J30: 0 | K30: 0 | L30: 0 | M30: 0 | N30: 0 | O30: 0 | P30: 0 | Q30: 0 | R30: 0
A31: Phường Trảng Dài | B31: 0 | C31: 0 | D31: 0 | E31: 0 | F31: 0 | G31: 0 | H31: 0 | I31: 0 | J31: 0 | K31: 0 | L31: 0 | M31: 0 | N31: 0 | O31: 0 | P31: 0 | Q31: 0 | R31: 0
A32: Phường Hố Nai | B32: 0 | C32: 0 | D32: 0 | E32: 0 | F32: 0 | G32: 0 | H32: 0 | I32: 0 | J32: 0 | K32: 0 | L32: 0 | M32: 0 | N32: 0 | O32: 0 | P32: 0 | Q32: 0 | R32: 0
A33: Phường Long Hưng | B33: 0 | C33: 0 | D33: 0 | E33: 0 | F33: 0 | G33: 0 | H33: 0 | I33: 0 | J33: 0 | K33: 0 | L33: 0 | M33: 0 | N33: 0 | O33: 0 | P33: 0 | Q33: 0 | R33: 0
A34: Phường Phước Tân | B34: 0 | C34: 0 | D34: 0 | E34: 0 | F34: 0 | G34: 0 | H34: 0 | I34: 0 | J34: 0 | K34: 0 | L34: 0 | M34: 0 | N34: 0 | O34: 0 | P34: 0 | Q34: 0 | R34: 0
A35: Phường Tam Phước | B35: 0 | C35: 0 | D35: 0 | E35: 0 | F35: 0 | G35: 0 | H35: 0 | I35: 0 | J35: 0 | K35: 0 | L35: 0 | M35: 0 | N35: 0 | O35: 0 | P35: 0 | Q35: 0 | R35: 0
A36: Phường Long Khánh | B36: 3 | C36: 0 | D36: 0 | E36: 0 | F36: 0 | G36: 0 | H36: 0 | I36: 0 | J36: 0 | K36: 0 | L36: 0 | M36: 0 | N36: 0 | O36: 0 | P36: 0 | Q36: 0 | R36: 0
A37: Phường Bình Lộc | B37: 0 | C37: 0 | D37: 0 | E37: 0 | F37: 0 | G37: 0 | H37: 0 | I37: 0 | J37: 0 | K37: 0 | L37: 0 | M37: 0 | N37: 0 | O37: 0 | P37: 0 | Q37: 0 | R37: 0
A38: Phường Bảo Vinh | B38: 0 | C38: 0 | D38: 0 | E38: 0 | F38: 0 | G38: 0 | H38: 0 | I38: 0 | J38: 0 | K38: 0 | L38: 0 | M38: 0 | N38: 0 | O38: 0 | P38: 0 | Q38: 0 | R38: 0
A39: Phường Xuân Lập | B39: 0 | C39: 0 | D39: 0 | E39: 0 | F39: 0 | G39: 0 | H39: 0 | I39: 0 | J39: 0 | K39: 0 | L39: 0 | M39: 0 | N39: 0 | O39: 0 | P39: 0 | Q39: 0 | R39: 0
A40: Phường Hàng Gòn | B40: 0 | C40: 0 | D40: 0 | E40: 0 | F40: 0 | G40: 0 | H40: 0 | I40: 0 | J40: 0 | K40: 0 | L40: 0 | M40: 0 | N40: 0 | O40: 0 | P40: 0 | Q40: 0 | R40: 0
... A48: Xã Gia Kiệm | B48: 3 | C48: 0 | D48: 0 | E48: 1 | F48: 5 | G48: 0 | H48: 0 | I48: 0 | J48: 0 | K48: 0 | L48: 0 | M48: 0 | N48: 0 | O48: 0 | P48: 0 | Q48: 0 | R48: 0
A49: Xã Cẩm Mỹ
A50: Xã Xuân Quế | B50: 6 | C50: 0 | D50: 0 | E50: 0 | F50: 0 | G50: 0 | H50: 0 | I50: 0 | J50: 0 | K50: 0 | L50: 0 | M50: 0 | N50: 0 | O50: 0 | P50: 0 | Q50: 0 | R50: 0
A51: Xã Xuân Đường | B51: 6 | C51: 0 | D51: 0 | E51: 0 | F51: 0 | G51: 0 | H51: 0 | I51: 0 | J51: 0 | K51: 0 | L51: 0 | M51: 0 | N51: 0 | O51: 0 | P51: 0 | Q51: 0 | R51: 0
A52: Xã Xuân Đông | B52: 0 | C52: 0 | D52: 0 | E52: 0 | F52: 0 | G52: 0 | H52: 0 | I52: 0 | J52: 0 | K52: 0 | L52: 0 | M52: 0 | N52: 0 | O52: 0 | P52: 0 | Q52: 0 | R52: 0
A53: Xã Sông Ray | B53: 9 | C53: 0 | D53: 0 | E53: 5 | F53: 460 | G53: 0 | H53: 0 | I53: 0 | J53: 0 | K53: 0 | L53: 0 | M53: 0 | N53: 0 | O53: 0 | P53: 0 | Q53: 0 | R53: 0
A54: Phường Xuân Lộc | B54: 0 | C54: 0 | D54: 0 | E54: 0 | F54: 0 | G54: 0 | H54: 0 | I54: 0 | J54: 0 | K54: 0 | L54: 0 | M54: 0 | N54: 0 | O54: 0 | P54: 0 | Q54: 0 | R54: 0
A55: Xã Xuân Định | B55: 0 | C55: 0 | D55: 0 | E55: 0 | F55: 0 | G55: 0 | H55: 0 | I55: 0 | J55: 0 | K55: 0 | L55: 0 | M55: 0 | N55: 0 | O55: 0 | P55: 0 | Q55: 0 | R55: 0
A56: Xã Xuân Phú
A57: Xã Xuân Hòa | B57: 0 | C57: 0 | D57: 0 | E57: 0 | F57: 0 | G57: 0 | H57: 0 | I57: 0 | J57: 0 | K57: 0 | L57: 0 | M57: 0 | N57: 0 | O57: 0 | P57: 0 | Q57: 0 | R57: 0
A58: Xã Xuân Thành | B58: 5 | C58: 0 | D58: 0 | E58: 1 | F58: 30 | G58: 0 | H58: 0 | I58: 0 | J58: 0 | K58: 0 | L58: 0 | M58: 0 | N58: 0 | O58: 0 | P58: 0 | Q58: 0 | R58: 0
A59: Xã Xuân Bắc | B59: 0 | C59: 0 | D59: 0 | E59: 0 | F59: 0 | G59: 0 | H59: 0 | I59: 0 | J59: 0 | K59: 0 | L59: 0 | M59: 0 | N59: 0 | O59: 0 | P59: 0 | Q59: 0 | R59: 0
A60: Phường Nhơn Trạch | B60: 0 | C60: 0 | D60: 0 | E60: 0 | F60: 0 | G60: 0 | H60: 0 | I60: 0 | J60: 0 | K60: 0 | L60: 0 | M60: 0 | N60: 0 | O60: 0 | P60: 0 | Q60: 0 | R60: 0
A61: Xã Đại Phước | B61: 0 | C61: 1 | D61: 0 | E61: 0 | F61: 0 | G61: 0 | H61: 0 | I61: 0 | J61: 0 | K61: 0 | L61: 0 | M61: 0 | N61: 0 | O61: 0 | P61: 0 | Q61: 0 | R61: 0
A62: Xã Phước An | B62: 0 | C62: 0 | D62: 0 | E62: 0 | F62: 0 | G62: 0 | H62: 0 | I62: 0 | J62: 0 | K62: 0 | L62: 0 | M62: 0 | N62: 0 | O62: 0 | P62: 0 | Q62: 0 | R62: 0
A63: Phường Long Thành | B63: 0 | C63: 0 | D63: 0 | E63: 0 | F63: 0 | G63: 0 | H63: 0 | I63: 0 | J63: 0 | K63: 0 | L63: 0 | M63: 0 | N63: 0 | O63: 0 | P63: 0 | Q63: 0 | R63: 0
A64: Xã Phước Thái | B64: 0 | C64: 0 | D64: 0 | E64: 0 | F64: 0 | G64: 0 | H64: 0 | I64: 0 | J64: 0 | K64: 0 | L64: 0 | M64: 0 | N64: 0 | O64: 0 | P64: 0 | Q64: 0 | R64: 0
A65: Xã Long Phước | B65: 0 | C65: 0 | D65: 0 | E65: 0 | F65: 0 | G65: 0 | H65: 0 | I65: 0 | J65: 0 | K65: 0 | L65: 0 | M65: 0 | N65: 0 | O65: 0 | P65: 0 | Q65: 0 | R65: 0
A66: Xã Bình An | B66: 0 | C66: 0 | D66: 0 | E66: 0 | F66: 0 | G66: 0 | H66: 0 | I66: 0 | J66: 0 | K66: 0 | L66: 0 | M66: 0 | N66: 0 | O66: 0 | P66: 0 | Q66: 0 | R66: 0
A67: Xã An Phước | B67: 0 | C67: 0 | D67: 0 | E67: 0 | F67: 0 | G67: 0 | H67: 0 | I67: 0 | J67: 0 | K67: 0 | L67: 0 | M67: 0 | N67: 0 | O67: 0 | P67: 0 | Q67: 0 | R67: 0
A68: Xã Định Quán | B68: 0 | C68: 0 | D68: 0 | E68: 0 | F68: 0 | G68: 0 | H68: 0 | I68: 0 | J68: 0 | K68: 0 | L68: 0 | M68: 0 | N68: 0 | O68: 0 | P68: 0 | Q68: 0 | R68: 0
... A79: Phường Tân Triều | B79: 27 | C79: 0 | D79: 0 | E79: 0 | F79: 0 | G79: 0 | H79: 0 | I79: 0 | J79: 0 | K79: 0 | L79: 0 | M79: 0 | N79: 0 | O79: 0 | P79: 0 | Q79: 0 | R79: 0
A80: Xã Tân An
A81: Xã Phú Lý | B81: 0 | C81: 0 | D81: 0 | E81: 0 | F81: 0 | G81: 0 | H81: 0 | I81: 0 | J81: 0 | K81: 0 | L81: 0 | M81: 0 | N81: 0 | O81: 0 | P81: 0 | Q81: 0
A82: Phường Bình Phước | B82: 0 | C82: 0 | D82: 0 | E82: 0 | F82: 0 | G82: 0 | H82: 0 | I82: 0 | J82: 0 | K82: 0 | L82: 0 | M82: 0 | N82: 0 | O82: 0 | P82: 0 | Q82: 0 | R82: 0
A83: Phường Phước Bình | B83: 7 | C83: 0 | D83: 0 | E83: 0 | F83: 0 | G83: 0 | H83: 0 | I83: 0 | J83: 0 | K83: 0 | L83: 0 | M83: 0 | N83: 0 | O83: 0 | P83: 0 | Q83: 0 | R83: 0
A84: Phường Phước Long | B84: 0 | C84: 0 | D84: 0 | E84: 0 | F84: 0 | G84: 0 | H84: 0 | I84: 0 | J84: 0 | K84: 0 | L84: 0 | M84: 0 | N84: 0 | O84: 0 | P84: 0 | Q84: 0 | R84: 0
A85: Phường Tân Khai | B85: 7 | C85: 0 | D85: 0 | E85: 0 | F85: 0 | G85: 0 | H85: 0 | I85: 0 | J85: 0 | K85: 0 | L85: 0 | M85: 0 | N85: 0 | O85: 0 | P85: 0 | Q85: 0 | R85: 0
A86: Phường Bình Long | B86: 0 | C86: 0 | D86: 0 | E86: 0 | F86: 0 | G86: 0 | H86: 0 | I86: 0 | J86: 0 | K86: 0 | L86: 0 | M86: 0 | N86: 0 | O86: 0 | P86: 0 | Q86: 0 | R86: 0
A87: Xã Lộc Hưng | B87: 0 | C87: 0 | D87: 0 | E87: 0 | F87: 0 | G87: 0 | H87: 0 | I87: 0 | J87: 0 | K87: 0 | L87: 0 | M87: 0 | N87: 0 | O87: 0 | P87: 0 | Q87: 0 | R87: 0
A88: Xã Thiện Hưng | B88: 5 | C88: 0 | D88: 0 | E88: 2 | F88: 220 | G88: 0 | H88: 0 | I88: 0 | J88: 0 | K88: 0 | L88: 0 | M88: 0 | N88: 0 | O88: 0 | P88: 0 | Q88: 0 | R88: 0
A89: Xã Đa Kia | B89: 0 | C89: 0 | D89: 0 | E89: 0 | F89: 0 | G89: 0 | H89: 0 | I89: 0 | J89: 0 | K89: 0 | L89: 0 | M89: 0 | N89: 0 | O89: 0 | P89: 0 | Q89: 0 | R89: 0
A90: Xã Đak Ơ | B90: 0 | C90: 0 | D90: 0 | E90: 0 | F90: 0 | G90: 0 | H90: 0 | I90: 0 | J90: 0 | K90: 0 | L90: 0 | M90: 0 | N90: 0 | O90: 0 | P90: 0 | Q90: 0 | R90: 0
A91: Xã Phú Riềng | B91: 0 | C91: 0 | D91: 0 | E91: 0 | F91: 0 | G91: 0 | H91: 0 | I91: 0 | J91: 0 | K91: 0 | L91: 0 | M91: 0 | N91: 0 | O91: 0 | P91: 0 | Q91: 0 | R91: 0
A92: Phường Đồng Phú | B92: 0 | C92: 0 | D92: 0 | E92: 0 | F92: 0 | G92: 0 | H92: 0 | I92: 0 | J92: 0 | K92: 0 | L92: 0 | M92: 0 | N92: 0 | O92: 0 | P92: 0 | Q92: 0 | R92: 0
A93: Xã Tân Lợi | B93: 0 | C93: 0 | D93: 0 | E93: 0 | F93: 0 | G93: 0 | H93: 0 | I93: 0 | J93: 0 | K93: 0 | L93: 0 | M93: 0 | N93: 0 | O93: 0 | P93: 0 | Q93: 0 | R93: 0
... A103: Xã Tân Hưng | B103: 0 | C103: 0 | D103: 0 | E103: 0 | F103: 0 | G103: 0 | H103: 0 | I103: 0 | J103: 0 | K103: 0 | L103: 0 | M103: 0 | N103: 0 | O103: 0 | P103: 0 | Q103: 0 | R103: 0
A104: Xã Lộc Quang
A105: Xã Lộc Thành | B105: 10 | C105: 0 | D105: 0 | E105: 0 | F105: 0 | G105: 0 | H105: 0 | I105: 0 | J105: 0 | K105: 0 | L105: 0 | M105: 0 | N105: 0 | O105: 0 | P105: 0 | Q105: 0 | R105: 0
A106: Phường Lộc Ninh | B106: 3 | C106: 0 | D106: 0 | E106: 0 | F106: 0 | G106: 0 | H106: 0 | I106: 0 | J106: 0 | K106: 0 | L106: 0 | M106: 0 | N106: 0 | O106: 0 | P106: 0 | Q106: 0 | R106: 0
A107: Xã Lộc Tấn | B107: 0 | C107: 0 | D107: 0 | E107: 0 | F107: 0 | G107: 0 | H107: 0 | I107: 0 | J107: 0 | K107: 0 | L107: 0 | M107: 0 | N107: 0 | O107: 0 | P107: 0 | Q107: 0 | R107: 0
A108: Xã Hưng Phước | B108: 0 | C108: 0 | D108: 0 | E108: 0 | F108: 0 | G108: 0 | H108: 0 | I108: 0 | J108: 0 | K108: 0 | L108: 0 | M108: 0 | N108: 0 | O108: 0 | P108: 0 | Q108: 0 | R108: 0
A109: Xã Tân Tiến
A110: Xã Bù Gia Mập | B110: 0 | C110: 0 | D110: 0 | E110: 0 | F110: 0 | G110: 0 | H110: 0 | I110: 0 | J110: 0 | K110: 0 | L110: 0 | M110: 0 | N110: 0 | O110: 0 | P110: 0 | Q110: 0 | R110: 0
A111: Xã Phú Nghĩa | B111: 0 | C111: 0 | D111: 0 | E111: 0 | F111: 0 | G111: 0 | H111: 0 | I111: 0 | J111: 0 | K111: 0 | L111: 0 | M111: 0 | N111: 0 | O111: 0 | P111: 0 | Q111: 0 | R111: 0
A112: Xã Bình Tân | B112: 0 | C112: 0 | D112: 0 | E112: 0 | F112: 0 | G112: 0 | H112: 0 | I112: 0 | J112: 0 | K112: 0 | L112: 0 | M112: 0 | N112: 0 | O112: 0 | P112: 0 | Q112: 0 | R112: 0
A113: Xã Long Hà
A114: Xã Thuận Lợi | B114: 0 | C114: 0 | D114: 0 | E114: 0 | F114: 0 | G114: 0 | H114: 0 | I114: 0 | J114: 0 | K114: 0 | L114: 0 | M114: 0 | N114: 0 | O114: 0 | P114: 0 | Q114: 0 | R114: 0
A115: Xã Đồng Tâm | B115: 0 | C115: 0 | D115: 0 | E115: 0 | F115: 0 | G115: 0 | H115: 0 | I115: 0 | J115: 0 | K115: 0 | L115: 0 | M115: 0 | N115: 0 | O115: 0 | P115: 0 | Q115: 0 | R115: 0
A116: Xã Phước Sơn | B116: 0 | C116: 0 | D116: 0 | E116: 0 | F116: 0 | G116: 0 | H116: 0 | I116: 0 | J116: 0 | K116: 0 | L116: 0 | M116: 0 | N116: 0 | O116: 0 | P116: 0 | Q116: 0 | R116: 0
A117: Xã Nghĩa Trung | B117: 0 | C117: 0 | D117: 0 | E117: 0 | F117: 0 | G117: 0 | H117: 0 | I117: 0 | J117: 0 | K117: 0 | L117: 0 | M117: 0 | N117: 0 | O117: 0 | P117: 0 | Q117: 0 | R117: 0
A118: Xã Thọ Sơn | B118: 0 | C118: 0 | D118: 0 | E118: 0 | F118: 0 | G118: 0 | H118: 0 | I118: 0 | J118: 0 | K118: 0 | L118: 0 | M118: 0 | N118: 0 | O118: 0 | P118: 0 | Q118: 0 | R118: 0
A119: Xã Đak Nhau
