Workbook

Sheet 01.TCD
A1: UBND THÀNH PHỐ ĐỒNG NAI
A2: THANH TRA THÀNH PHỐ | U2: 01/TCD
B3: TỔNG HỢP KẾT QUẢ TIẾP CÔNG DÂN THƯỜNG XUYÊN, ĐỊNH KỲ VÀ ĐỘT XUẤT TRONG 09 THÁNG ĐẦU NĂM 2026 CỦA THÀNH PHỐ ĐỒNG NAI
B4: Số liệu tính từ ngày 06/12/2025 đến ngày 05/9/2026
B5: (Kèm theo Báo cáo số: /BC-TT ngày /9/2026 của Thanh tra thành phố Đồng Nai)
A6: Đơn vị | B6: Tổng số lượt tiếp | C6: Tổng số người được tiếp | D6: Tổng số vụ việc tiếp | E6: Tổng số đoàn đông người | F6: Tiếp thường xuyên | K6: Tiếp định kỳ và đột xuất của Thủ trưởng
F7: Số lượt tiếp | G7: Số người được tiếp | H7: Số vụ việc | I7: Trong đó đoàn đông người | K7: Thủ trưởng tiếp | Q7: Ủy quyền tiếp
I8: Số đoàn được tiếp | J8: Số người được tiếp | K8: Số ngày tiếp | L8: Số lượt tiếp | M8: Số người được tiếp | N8: Số vụ việc | O8: Trong đó đoàn đông người | Q8: Số ngày tiếp | R8: Số lượt tiếp | S8: Số người được tiếp | T8: Số vụ việc | U8: Trong đó đoàn đông người
O9: Số đoàn được tiếp | P9: Số người được tiếp | U9: Số đoàn được tiếp | V9: Số người được tiếp
A10: MS | B10: 1=5+11+17 | C10: 2=6+12+18 | D10: 3=7+13+19 | E10: 4=8+14+20 | F10: 5 | G10: 6 | H10: 7 | I10: 8 | J10: 9 | K10: 10 | L10: 11 | M10: 12 | N10: 13 | O10: 14 | P10: 15 | Q10: 16 | R10: 17 | S10: 18 | T10: 19 | U10: 20 | V10: 21
A11: UBND THÀNH PHỐ | B11: =F11+L11+R11 -> 1158 | C11: =G11+M11+S11 -> 1914 | D11: =H11+N11+T11 -> 1156 | E11: =I11+O11+U11 -> 33 | F11: 1146 | G11: 1901 | H11: 1146 | I11: 33 | J11: 667 | K11: 1 | L11: 1 | M11: 1 | N11: 1 | O11: 0 | P11: 0 | Q11: 4 | R11: 11 | S11: 12 | T11: 9 | U11: 0 | V11: 0
A12: CẤP SỞ, NGÀNH | B12: =F12+L12+R12 -> 1335 | C12: =G12+M12+S12 -> 1478 | D12: =H12+N12+T12 -> 1335 | E12: =I12+O12+U12 -> 3 | F12: =SUM(F13:F25) -> 1308 | G12: =SUM(G13:G25) -> 1449 | H12: =SUM(H13:H25) -> 1306 | I12: =SUM(I13:I25) -> 3 | J12: =SUM(J13:J25) -> 24 | K12: =SUM(K13:K25) -> 24 | L12: =SUM(L13:L25) -> 12 | M12: =SUM(M13:M25) -> 12 | ... V12: =SUM(V13:V25) -> 0
A13: Sở Dân tộc và tôn giáo | B13: =F13+L13+R13 -> 0 | C13: =G13+M13+S13 -> 0 | D13: =H13+N13+T13 -> 0 | E13: =I13+O13+U13 -> 0
A14: Sở Công Thương | B14: =F14+L14+R14 -> 2 | C14: =G14+M14+S14 -> 2 | D14: =H14+N14+T14 -> 2 | E14: =I14+O14+U14 -> 0 | F14: 0 | G14: 0 | H14: 0 | I14: 0 | J14: 0 | K14: 2 | L14: 2 | M14: 2 | N14: 2 | O14: 0 | P14: 0 | Q14: 0 | R14: 0 | S14: 0 | T14: 0 | U14: 0 | V14: 0
A15: Sở GD&ĐT | B15: =F15+L15+R15 -> 11 | C15: =G15+M15+S15 -> 20 | D15: =H15+N15+T15 -> 11 | E15: =I15+O15+U15 -> 2 | F15: 11 | G15: 20 | H15: 11 | I15: 2 | J15: 11 | K15: 9 | L15: 0 | M15: 0 | N15: 0 | O15: 0 | P15: 0 | Q15: 0 | R15: 0 | S15: 0 | T15: 0 | U15: 0 | V15: 0
A16: Sở KH&CN | B16: =F16+L16+R16 -> 0 | C16: =G16+M16+S16 -> 0 | D16: =H16+N16+T16 -> 0 | E16: =I16+O16+U16 -> 0
A17: Sở NN&MT | B17: =F17+L17+R17 -> 364 | C17: =G17+M17+S17 -> 367 | D17: =H17+N17+T17 -> 364 | E17: =I17+O17+U17 -> 0 | F17: 358 | G17: 361 | H17: 358 | I17: 0 | J17: 0 | K17: 4 | L17: 1 | M17: 1 | N17: 1 | O17: 0 | P17: 0 | Q17: 5 | R17: 5 | S17: 5 | T17: 5 | U17: 0 | V17: 0
A18: Sở Nội vụ | B18: =F18+L18+R18 -> 530 | C18: =G18+M18+S18 -> 530 | D18: =H18+N18+T18 -> 529 | E18: =I18+O18+U18 -> 0 | F18: 527 | G18: 527 | H18: 526 | I18: 0 | J18: 0 | K18: 0 | L18: 0 | M18: 0 | N18: 0 | O18: 0 | P18: 0 | Q18: 2 | R18: 3 | S18: 3 | T18: 3 | U18: 0 | V18: 0
A19: Sở Ngoại vụ | B19: =F19+L19+R19 -> 0 | C19: =G19+M19+S19 -> 0 | D19: =H19+N19+T19 -> 0 | E19: =I19+O19+U19 -> 0
A20: Sở Tài chính | B20: =F20+L20+R20 -> 7 | C20: =G20+M20+S20 -> 20 | D20: =H20+N20+T20 -> 7 | E20: =I20+O20+U20 -> 1 | F20: 6 | G20: 19 | H20: 6 | I20: 1 | J20: 13 | K20: 0 | L20: 0 | M20: 0 | N20: 0 | O20: 0 | P20: 0 | Q20: 1 | R20: 1 | S20: 1 | T20: 1 | U20: 0 | V20: 0
A21: Sở Tư pháp | B21: =F21+L21+R21 -> 39 | C21: =G21+M21+S21 -> 40 | D21: =H21+N21+T21 -> 38 | E21: =I21+O21+U21 -> 0 | F21: 33 | G21: 34 | H21: 32 | I21: 0 | J21: 0 | K21: 2 | L21: 2 | M21: 2 | N21: 2 | O21: 0 | P21: 0 | Q21: 4 | R21: 4 | S21: 4 | T21: 4 | U21: 0 | V21: 0
A22: Sở VHTT&DL | B22: =F22+L22+R22 -> 0 | C22: =G22+M22+S22 -> 0 | D22: =H22+N22+T22 -> 0 | E22: =I22+O22+U22 -> 0
A23: Sở Xây dựng | B23: =F23+L23+R23 -> 132 | C23: =G23+M23+S23 -> 239 | D23: =H23+N23+T23 -> 134 | E23: =I23+O23+U23 -> 0 | F23: 130 | G23: 235 | H23: 130 | I23: 0 | J23: 0 | K23: 0 | L23: 0 | M23: 0 | N23: 0 | O23: 0 | P23: 0 | Q23: 2 | R23: 2 | S23: 4 | T23: 4 | U23: 0 | V23: 0
A24: Sở Y tế | B24: =F24+L24+R24 -> 5 | C24: =G24+M24+S24 -> 5 | D24: =H24+N24+T24 -> 5 | E24: =I24+O24+U24 -> 0 | F24: 4 | G24: 4 | H24: 4 | I24: 0 | J24: 0 | K24: 1 | L24: 1 | M24: 1 | N24: 1 | O24: 0 | P24: 0 | Q24: 0 | R24: 0 | S24: 0 | T24: 0 | U24: 0 | V24: 0
A25: Thanh tra tỉnh | B25: =F25+L25+R25 -> 245 | C25: =G25+M25+S25 -> 255 | D25: =H25+N25+T25 -> 245 | E25: =I25+O25+U25 -> 0 | F25: 239 | G25: 249 | H25: 239 | I25: 0 | J25: 0 | K25: 6 | L25: 6 | M25: 6 | N25: 6 | O25: 0 | P25: 0 | Q25: 0 | R25: 0 | S25: 0 | T25: 0 | U25: 0 | V25: 0
A26: UBND CẤP XÃ | B26: =F26+L26+R26 -> 12987 | C26: =G26+M26+S26 -> 11515 | D26: =H26+N26+T26 -> 9931 | E26: =I26+O26+U26 -> 59 | F26: =SUM(F27:F121) -> 10896 | G26: =SUM(G27:G121) -> 9575 | H26: =SUM(H27:H121) -> 8405 | I26: =SUM(I27:I121) -> 11 | J26: =SUM(J27:J121) -> 367 | K26: =SUM(K27:K121) -> 3135 | L26: =SUM(L27:L121) -> 1906 | M26: =SUM(M27:M121) -> 1724 | ... V26: =SUM(V27:V121) -> 20
A27: Phường Trấn Biên | B27: =F27+L27+R27 -> 279 | C27: =G27+M27+S27 -> 293 | D27: =H27+N27+T27 -> 264 | E27: =I27+O27+U27 -> 0 | F27: 233 | G27: 234 | H27: 218 | I27: 0 | J27: 0 | K27: 34 | L27: 20 | M27: 31 | N27: 20 | O27: 0 | P27: 0 | Q27: 17 | R27: 26 | S27: 28 | T27: 26 | U27: 0 | V27: 0
A28: Phường Biên Hòa | B28: =F28+L28+R28 -> 119 | C28: =G28+M28+S28 -> 93 | D28: =H28+N28+T28 -> 93 | E28: =I28+O28+U28 -> 0 | F28: 83 | G28: 83 | H28: 83 | I28: 0 | J28: 0 | K28: 36 | L28: 36 | M28: 10 | N28: 10 | O28: 0 | P28: 0 | Q28: 0 | R28: 0 | S28: 0 | T28: 0 | U28: 0 | V28: 0
A29: Phường Tam Hiệp | B29: =F29+L29+R29 -> 194 | C29: =G29+M29+S29 -> 57 | D29: =H29+N29+T29 -> 50 | E29: =I29+O29+U29 -> 0 | F29: 156 | G29: 57 | H29: 50 | I29: 0 | J29: 0 | K29: 38 | L29: 38 | M29: 0 | N29: 0 | O29: 0 | P29: 0 | Q29: 0 | R29: 0 | S29: 0 | T29: 0 | U29: 0 | V29: 0
A30: Phường Long Bình | B30: =F30+L30+R30 -> 80 | C30: =G30+M30+S30 -> 82 | D30: =H30+N30+T30 -> 80 | E30: =I30+O30+U30 -> 0 | F30: 73 | G30: 73 | H30: 73 | I30: 0 | J30: 0 | K30: 28 | L30: 7 | M30: 9 | N30: 7 | O30: 0 | P30: 0 | Q30: 0 | R30: 0 | S30: 0 | T30: 0 | U30: 0 | V30: 0
A31: Phường Trảng Dài | B31: =F31+L31+R31 -> 158 | C31: =G31+M31+S31 -> 338 | D31: =H31+N31+T31 -> 158 | E31: =I31+O31+U31 -> 1 | F31: 151 | G31: 330 | H31: 151 | I31: 1 | J31: 180 | K31: 28 | L31: 7 | M31: 8 | N31: 7 | O31: 0 | P31: 0 | Q31: 0 | R31: 0 | S31: 0 | T31: 0 | U31: 0 | V31: 0
A32: Phường Hố Nai | B32: =F32+L32+R32 -> 53 | C32: =G32+M32+S32 -> 50 | D32: =H32+N32+T32 -> 52 | E32: =I32+O32+U32 -> 0 | F32: 51 | G32: 48 | H32: 50 | I32: 0 | J32: 0 | K32: 36 | L32: 2 | M32: 2 | N32: 2 | O32: 0 | P32: 0 | Q32: 0 | R32: 0 | S32: 0 | T32: 0 | U32: 0 | V32: 0
A33: Phường Long Hưng | B33: =F33+L33+R33 -> 93 | C33: =G33+M33+S33 -> 117 | D33: =H33+N33+T33 -> 81 | E33: =I33+O33+U33 -> 0 | F33: 84 | G33: 100 | H33: 72 | I33: 0 | J33: 0 | K33: 31 | L33: 9 | M33: 17 | N33: 9 | O33: 0 | P33: 0 | Q33: 0 | R33: 0 | S33: 0 | T33: 0 | U33: 0 | V33: 0
A34: Phường Phước Tân | B34: =F34+L34+R34 -> 64 | C34: =G34+M34+S34 -> 64 | D34: =H34+N34+T34 -> 64 | E34: =I34+O34+U34 -> 0 | F34: 59 | G34: 59 | H34: 59 | I34: 0 | J34: 0 | K34: 5 | L34: 5 | M34: 5 | N34: 5 | O34: 0 | P34: 0 | Q34: 0 | R34: 0 | S34: 0 | T34: 0 | U34: 0 | V34: 0
A35: Phường Tam Phước | B35: =F35+L35+R35 -> 50 | C35: =G35+M35+S35 -> 50 | D35: =H35+N35+T35 -> 31 | E35: =I35+O35+U35 -> 0 | F35: 25 | G35: 25 | H35: 6 | I35: 0 | J35: 0 | K35: 25 | L35: 25 | M35: 25 | N35: 25 | O35: 0 | P35: 0 | Q35: 0 | R35: 0 | S35: 0 | T35: 0 | U35: 0 | V35: 0
A36: Phường Long Khánh | B36: =F36+L36+R36 -> 348 | C36: =G36+M36+S36 -> 348 | D36: =H36+N36+T36 -> 336 | E36: =I36+O36+U36 -> 1 | F36: 330 | G36: 330 | H36: 318 | I36: 1 | J36: 5 | K36: 18 | L36: 18 | M36: 18 | N36: 18 | O36: 0 | P36: 0 | Q36: 0 | R36: 0 | S36: 0 | T36: 0 | U36: 0 | V36: 0
A37: Phường Bình Lộc | B37: =F37+L37+R37 -> 106 | C37: =G37+M37+S37 -> 112 | D37: =H37+N37+T37 -> 106 | E37: =I37+O37+U37 -> 0 | F37: 100 | G37: 100 | H37: 100 | I37: 0 | J37: 0 | K37: 38 | L37: 6 | M37: 12 | N37: 6 | O37: 0 | P37: 0 | Q37: 0 | R37: 0 | S37: 0 | T37: 0 | U37: 0 | V37: 0
A38: Phường Bảo Vinh | B38: =F38+L38+R38 -> 66 | C38: =G38+M38+S38 -> 67 | D38: =H38+N38+T38 -> 66 | E38: =I38+O38+U38 -> 0 | F38: 56 | G38: 56 | H38: 56 | I38: 0 | J38: 0 | K38: 34 | L38: 10 | M38: 11 | N38: 10 | O38: 0 | P38: 0 | Q38: 0 | R38: 0 | S38: 0 | T38: 0 | U38: 0 | V38: 0
... A48: Xã Gia Kiệm | B48: =F48+L48+R48 -> 186 | C48: =G48+M48+S48 -> 186 | D48: =H48+N48+T48 -> 32 | E48: =I48+O48+U48 -> 0 | F48: 161 | G48: 161 | H48: 32 | I48: 0 | J48: 0 | K48: 25 | L48: 25 | M48: 25 | N48: 0 | O48: 0 | P48: 0 | Q48: 0 | R48: 0 | S48: 0 | T48: 0 | U48: 0 | V48: 0
A49: Xã Cẩm Mỹ | B49: =F49+L49+R49 -> 32 | C49: =G49+M49+S49 -> 32 | D49: =H49+N49+T49 -> 32 | E49: =I49+O49+U49 -> 0 | F49: 29 | G49: 29 | H49: 29 | I49: 0 | J49: 0 | K49: 3 | L49: 3 | M49: 3 | N49: 3 | O49: 0 | P49: 0 | Q49: 0 | R49: 0 | S49: 0 | T49: 0 | U49: 0 | V49: 0 | W49: 0
...

Sheet 02.XLD
A1: UBND THÀNH PHỐ ĐỒNG NAI
A2: THANH TRA THÀNH PHỐ | Z2: 02.XLD
B3: TỔNG HỢP KẾT QUẢ XỬ LÝ ĐƠN TRONG 09 THÁNG ĐẦU NĂM 2026 CỦA THÀNH PHỐ ĐỒNG NAI
B4: Số liệu tính từ ngày 06/12/2025 đến ngày 05/9/2026
B5: (Kèm theo Báo cáo số: /BC-TT ngày /9/2026 của Thanh tra thành phố Đồng Nai)
A6: Đơn vị | B6: Tổng số đơn | C6: Số đơn đã xử lý | D6: Số đơn đủ điều kiện xử lý | E6: Số đơn thuộc thẩm quyền | F6: Số vụ việc thuộc thẩm quyền | G6: Số đơn thuộc thẩm quyền | X6: Số đơn không thuộc thẩm quyền | AA6: Số đơn Kiến nghị, phản ánh thuộc thẩm quyền đã giải quyết | AB6: Số đơn kỳ trước chuyển sang | AC6: Số đơn trong kỳ | AD6: Số đơn tồn chuyển kỳ sau
G7: Khiếu nại | M7: Tố cáo | T7: Kiến nghị, phản ánh
G8: Tổng số đơn | H8: Phân loại theo thẩm quyền giải quyết | J8: Phân loại theo lĩnh vực | M8: Tổng số đơn | N8: Phân loại theo thẩm quyền giải quyết | P8: Phân loại theo lĩnh vực | T8: Tổng số đơn | U8: Phân loại theo lĩnh vực | X8: Tổng số đơn | Y8: Phân loại theo kết quả xử lý
H9: Khiếu nại lần đầu | I9: Khiếu nại lần 2 | J9: Đất đai | K9: Chế độ, chính sách | L9: Khác | N9: Tố cáo lần đầu | O9: Tố cáo tiếp | P9: Hành chính | Q9: Tham nhũng | R9: Tư pháp | S9: Khác | U9: Chế độ, chính sách | V9: Đất đai | W9: Khác | Y9: Hướng dẫn | Z9: Chuyển đơn
A10: MS | B10: 1 | C10: 2 | D10: 3=4+23 | E10: 4=6+12+19 | F10: 5 | G10: 6=7+8=9+10+11 | H10: 7 | I10: 8 | J10: 9 | K10: 10 | L10: 11 | M10: 12=13+14=15+16+ 17+18 | N10: 13 | O10: 14 | P10: 15 | Q10: 16 | R10: 17 | S10: 18 | T10: 19=20+21+22 | U10: 20 | V10: 21 | W10: 22 | X10: 23=24+25 | Y10: 24 | Z10: 25 | AA10: 26 | AB10: 27 | AC10: 28 | AD10: 29 | AE10: =E11-F11 -> 0
A11: UBND THÀNH PHỐ | B11: =AB11+AC11 -> 3747 | C11: 3551 | D11: =E11+X11 -> 2701 | E11: =G11+M11+T11 -> 188 | F11: 188 | G11: =IFERROR(IF((H11+I11)=(J11+K11+L11),IF(AND((H11+I11)=0,(J11+K11+L11)>0),"Lỗi",(H11+I11)),"Lỗi"),"Lỗi") -> 161 | H11: 0 | I11: 161 | J11: 161 | K11: 0 | L11: 0 | M11: =IFERROR(IF((N11+O11)=(P11+Q11+R11+S11),IF(AND((N11+O11)=0,(P11+Q11+R11+S11)>0),"Lỗi",(N11+O11)),"Lỗi"),"Lỗi") -> 27 | N11: 25 | O11: 2 | P11: 27 | Q11: 0 | R11: 0 | S11: 0 | T11: =U11+V11+W11 -> 0 | U11: 0 | V11: 0 | W11: 0 | X11: =Y11+Z11 -> 2513 | Y11: 209 | Z11: 2304 | AA11: 0 | AB11: 307 | AC11: 3440 | AD11: =B11-C11+T11-AA11+'03.GQKN'!AA10+'04.GQTC'!AC10 -> 312 | AE11: =E11-F11 -> 0 | AF11: 312 | AG11: =AD11-AF11 -> 0
A12: CẤP SỞ, NGÀNH | B12: =AB12+AC12 -> 2718 | C12: =SUM(C13:C25) -> 2666 | D12: =SUM(D13:D25) -> 2135 | E12: =SUM(E13:E25) -> 1090 | F12: =SUM(F13:F24) -> 1019 | G12: =IFERROR(IF((H12+I12)=(J12+K12+L12),IF(AND((H12+I12)=0,(J12+K12+L12)>0),"Lỗi",(H12+I12)),"Lỗi"),"Lỗi") -> 76 | H12: =SUM(H13:H25) -> 63 | I12: =SUM(I13:I25) -> 13 | J12: =SUM(J13:J25) -> 30 | K12: =SUM(K13:K25) -> 17 | L12: =SUM(L13:L25) -> 29 | M12: =SUM(M13:M25) -> 173 | N12: =SUM(N13:N25) -> 173 | O12: =SUM(O13:O25) -> 0 | ... AA12: =SUM(AA13:AA25) -> 809 | AB12: 36 | AC12: =SUM(AC13:AC25) -> 2682 | AD12: =SUM(AD13:AD25) -> 98 | AE12: =E12-F12 -> 71 | AF12: 98 | AG12: =AD12-AF12 -> 0
A13: Sở Dân tộc và tôn giáo | B13: =AB13+AC13 -> 46 | C13: 46 | D13: =E13+X13 -> 46 | E13: =G13+M13+T13 -> 46 | G13: =IFERROR(IF((H13+I13)=(J13+K13+L13),IF(AND((H13+I13)=0,(J13+K13+L13)>0),"Lỗi",(H13+I13)),"Lỗi"),"Lỗi") -> 0 | H13: 0 | I13: 0 | J13: 0 | K13: 0 | L13: 0 | M13: =IFERROR(IF((N13+O13)=(P13+Q13+R13+S13),IF(AND((N13+O13)=0,(P13+Q13+R13+S13)>0),"Lỗi",(N13+O13)),"Lỗi"),"Lỗi") -> 0 | N13: 0 | O13: 0 | P13: 0 | Q13: 0 | R13: 0 | S13: 0 | T13: =U13+V13+W13 -> 46 | U13: 46 | V13: 0 | W13: 0 | X13: =Y13+Z13 -> 0 | Y13: 0 | Z13: 0 | AA13: 46 | AB13: 0 | AC13: 46 | AD13: =B13-C13+T13-AA13+'03.GQKN'!AA12+'04.GQTC'!AC12 -> 0 | AE13: =E13-F13 -> 46 | AF13: 0 | AG13: =AD13-AF13 -> 0
A14: Sở Công Thương | B14: =AB14+AC14 -> 24 | C14: 24 | D14: =E14+X14 -> 23 | E14: =G14+M14+T14 -> 16 | F14: 16 | G14: =IFERROR(IF((H14+I14)=(J14+K14+L14),IF(AND((H14+I14)=0,(J14+K14+L14)>0),"Lỗi",(H14+I14)),"Lỗi"),"Lỗi") -> 0 | H14: 0 | I14: 0 | J14: 0 | K14: 0 | L14: 0 | M14: =IFERROR(IF((N14+O14)=(P14+Q14+R14+S14),IF(AND((N14+O14)=0,(P14+Q14+R14+S14)>0),"Lỗi",(N14+O14)),"Lỗi"),"Lỗi") -> 1 | N14: 1 | O14: 0 | P14: 0 | Q14: 0 | R14: 0 | S14: 1 | T14: =U14+V14+W14 -> 15 | U14: 0 | V14: 0 | W14: 15 | X14: =Y14+Z14 -> 7 | Y14: 0 | Z14: 7 | AA14: 15 | AC14: 24 | AD14: =B14-C14+T14-AA14+'03.GQKN'!AA13+'04.GQTC'!AC13 -> 0 | AE14: =E14-F14 -> 0 | AF14: 0 | AG14: =AD14-AF14 -> 0
A15: Sở GD&ĐT | B15: =AB15+AC15 -> 130 | C15: 130 | D15: =E15+X15 -> 77 | E15: =G15+M15+T15 -> 14 | F15: 14 | G15: =IFERROR(IF((H15+I15)=(J15+K15+L15),IF(AND((H15+I15)=0,(J15+K15+L15)>0),"Lỗi",(H15+I15)),"Lỗi"),"Lỗi") -> 0 | H15: 0 | I15: 0 | J15: 0 | K15: 0 | L15: 0 | M15: =IFERROR(IF((N15+O15)=(P15+Q15+R15+S15),IF(AND((N15+O15)=0,(P15+Q15+R15+S15)>0),"Lỗi",(N15+O15)),"Lỗi"),"Lỗi") -> 2 | N15: 2 | O15: 0 | P15: 0 | Q15: 0 | R15: 0 | S15: 2 | T15: =U15+V15+W15 -> 12 | U15: 0 | V15: 0 | W15: 12 | X15: =Y15+Z15 -> 63 | Y15: 6 | Z15: 57 | AA15: 12 | AB15: 0 | AC15: 130 | AD15: =B15-C15+T15-AA15+'03.GQKN'!AA14+'04.GQTC'!AC14 -> 0 | AE15: =E15-F15 -> 0 | AF15: 0 | AG15: =AD15-AF15 -> 0
A16: Sở KH&CN | B16: =AB16+AC16 -> 0 | D16: =E16+X16 -> 0 | E16: =G16+M16+T16 -> 0 | G16: =IFERROR(IF((H16+I16)=(J16+K16+L16),IF(AND((H16+I16)=0,(J16+K16+L16)>0),"Lỗi",(H16+I16)),"Lỗi"),"Lỗi") -> 0 | M16: =IFERROR(IF((N16+O16)=(P16+Q16+R16+S16),IF(AND((N16+O16)=0,(P16+Q16+R16+S16)>0),"Lỗi",(N16+O16)),"Lỗi"),"Lỗi") -> 0 | T16: =U16+V16+W16 -> 0 | X16: =Y16+Z16 -> 0 | AB16: 0 | AD16: =B16-C16+T16-AA16+'03.GQKN'!AA15+'04.GQTC'!AC15 -> 0 | AE16: =E16-F16 -> 0 | AF16: 0 | AG16: =AD16-AF16 -> 0
A17: Sở NN&MT | B17: =AB17+AC17 -> 903 | C17: 903 | D17: =E17+X17 -> 903 | E17: =G17+M17+T17 -> 698 | F17: 698 | G17: =IFERROR(IF((H17+I17)=(J17+K17+L17),IF(AND((H17+I17)=0,(J17+K17+L17)>0),"Lỗi",(H17+I17)),"Lỗi"),"Lỗi") -> 33 | H17: 32 | I17: 1 | J17: 30 | K17: 0 | L17: 3 | M17: =IFERROR(IF((N17+O17)=(P17+Q17+R17+S17),IF(AND((N17+O17)=0,(P17+Q17+R17+S17)>0),"Lỗi",(N17+O17)),"Lỗi"),"Lỗi") -> 146 | N17: 146 | O17: 0 | P17: 143 | Q17: 0 | R17: 0 | S17: 3 | T17: =U17+V17+W17 -> 519 | U17: 0 | V17: 508 | W17: 11 | X17: =Y17+Z17 -> 205 | Y17: 76 | Z17: 129 | AA17: 500 | AB17: 0 | AC17: 903 | AD17: =B17-C17+T17-AA17+'03.GQKN'!AA16+'04.GQTC'!AC16 -> 29 | AE17: =E17-F17 -> 0 | AF17: 29 | AG17: =AD17-AF17 -> 0
A18: Sở Nội vụ | B18: =AB18+AC18 -> 274 | C18: 274 | D18: =E18+X18 -> 273 | E18: =G18+M18+T18 -> 93 | F18: 93 | G18: =IFERROR(IF((H18+I18)=(J18+K18+L18),IF(AND((H18+I18)=0,(J18+K18+L18)>0),"Lỗi",(H18+I18)),"Lỗi"),"Lỗi") -> 19 | H18: 10 | I18: 9 | J18: 0 | K18: 16 | L18: 3 | M18: =IFERROR(IF((N18+O18)=(P18+Q18+R18+S18),IF(AND((N18+O18)=0,(P18+Q18+R18+S18)>0),"Lỗi",(N18+O18)),"Lỗi"),"Lỗi") -> 5 | N18: 5 | O18: 0 | P18: 0 | Q18: 0 | R18: 0 | S18: 5 | T18: =U18+V18+W18 -> 69 | U18: 56 | V18: 0 | W18: 13 | X18: =Y18+Z18 -> 180 | Y18: 25 | Z18: 155 | AA18: 68 | AB18: 0 | AC18: 274 | AD18: =B18-C18+T18-AA18+'03.GQKN'!AA17+'04.GQTC'!AC17 -> 1 | AE18: =E18-F18 -> 0 | AF18: 1 | AG18: =AD18-AF18 -> 0
A19: Sở Ngoại vụ | B19: =AB19+AC19 -> 0 | D19: =E19+X19 -> 0 | E19: =G19+M19+T19 -> 0 | G19: =IFERROR(IF((H19+I19)=(J19+K19+L19),IF(AND((H19+I19)=0,(J19+K19+L19)>0),"Lỗi",(H19+I19)),"Lỗi"),"Lỗi") -> 0 | M19: =IFERROR(IF((N19+O19)=(P19+Q19+R19+S19),IF(AND((N19+O19)=0,(P19+Q19+R19+S19)>0),"Lỗi",(N19+O19)),"Lỗi"),"Lỗi") -> 0 | T19: =U19+V19+W19 -> 0 | X19: =Y19+Z19 -> 0 | AD19: =B19-C19+T19-AA19+'03.GQKN'!AA18+'04.GQTC'!AC18 -> 0 | AE19: =E19-F19 -> 0 | AF19: 0 | AG19: =AD19-AF19 -> 0
A20: Sở Tài chính | B20: =AB20+AC20 -> 102 | C20: 102 | D20: =E20+X20 -> 102 | E20: =G20+M20+T20 -> 93 | F20: 93 | G20: =IFERROR(IF((H20+I20)=(J20+K20+L20),IF(AND((H20+I20)=0,(J20+K20+L20)>0),"Lỗi",(H20+I20)),"Lỗi"),"Lỗi") -> 5 | H20: 3 | I20: 2 | J20: 0 | K20: 0 | L20: 5 | M20: =IFERROR(IF((N20+O20)=(P20+Q20+R20+S20),IF(AND((N20+O20)=0,(P20+Q20+R20+S20)>0),"Lỗi",(N20+O20)),"Lỗi"),"Lỗi") -> 2 | N20: 2 | O20: 0 | P20: 0 | Q20: 0 | R20: 0 | S20: 2 | T20: =U20+V20+W20 -> 86 | U20: 0 | V20: 0 | W20: 86 | X20: =Y20+Z20 -> 9 | Y20: 5 | Z20: 4 | AA20: 76 | AB20: 0 | AC20: 102 | AD20: =B20-C20+T20-AA20+'03.GQKN'!AA19+'04.GQTC'!AC19 -> 12 | AE20: =E20-F20 -> 0 | AF20: 12 | AG20: =AD20-AF20 -> 0
A21: Sở Tư pháp | B21: =AB21+AC21 -> 105 | C21: 105 | D21: =E21+X21 -> 105 | E21: =G21+M21+T21 -> 47 | F21: 30 | G21: =IFERROR(IF((H21+I21)=(J21+K21+L21),IF(AND((H21+I21)=0,(J21+K21+L21)>0),"Lỗi",(H21+I21)),"Lỗi"),"Lỗi") -> 18 | H21: 18 | I21: 0 | J21: 0 | K21: 0 | L21: 18 | M21: =IFERROR(IF((N21+O21)=(P21+Q21+R21+S21),IF(AND((N21+O21)=0,(P21+Q21+R21+S21)>0),"Lỗi",(N21+O21)),"Lỗi"),"Lỗi") -> 15 | N21: 15 | O21: 0 | P21: 0 | Q21: 0 | R21: 0 | S21: 15 | T21: =U21+V21+W21 -> 14 | U21: 0 | V21: 0 | W21: 14 | X21: =Y21+Z21 -> 58 | Y21: 58 | Z21: 0 | AA21: 14 | AB21: 0 | AC21: 105 | AD21: =B21-C21+T21-AA21+'03.GQKN'!AA20+'04.GQTC'!AC20 -> 1 | AE21: =E21-F21 -> 17 | AF21: 1 | AG21: =AD21-AF21 -> 0
A22: Sở VHTT&DL | B22: =AB22+AC22 -> 3 | C22: 3 | D22: =E22+X22 -> 3 | E22: =G22+M22+T22 -> 3 | G22: =IFERROR(IF((H22+I22)=(J22+K22+L22),IF(AND((H22+I22)=0,(J22+K22+L22)>0),"Lỗi",(H22+I22)),"Lỗi"),"Lỗi") -> 0 | H22: 0 | I22: 0 | J22: 0 | K22: 0 | L22: 0 | M22: =IFERROR(IF((N22+O22)=(P22+Q22+R22+S22),IF(AND((N22+O22)=0,(P22+Q22+R22+S22)>0),"Lỗi",(N22+O22)),"Lỗi"),"Lỗi") -> 1 | N22: 1 | O22: 0 | P22: 0 | Q22: 0 | R22: 0 | S22: 1 | T22: =U22+V22+W22 -> 2 | U22: 0 | V22: 0 | W22: 2 | X22: =Y22+Z22 -> 0 | Y22: 0 | Z22: 0 | AA22: 2 | AB22: 0 | AC22: 3 | AD22: =B22-C22+T22-AA22+'03.GQKN'!AA21+'04.GQTC'!AC21 -> 0 | AE22: =E22-F22 -> 3 | AF22: 0 | AG22: =AD22-AF22 -> 0
A23: Sở Xây dựng | B23: =AB23+AC23 -> 53 | C23: 53 | D23: =E23+X23 -> 53 | E23: =G23+M23+T23 -> 51 | F23: 51 | G23: =IFERROR(IF((H23+I23)=(J23+K23+L23),IF(AND((H23+I23)=0,(J23+K23+L23)>0),"Lỗi",(H23+I23)),"Lỗi"),"Lỗi") -> 0 | H23: 0 | I23: 0 | J23: 0 | K23: 0 | L23: 0 | M23: =IFERROR(IF((N23+O23)=(P23+Q23+R23+S23),IF(AND((N23+O23)=0,(P23+Q23+R23+S23)>0),"Lỗi",(N23+O23)),"Lỗi"),"Lỗi") -> 1 | N23: 1 | O23: 0 | P23: 0 | Q23: 0 | R23: 0 | S23: 1 | T23: =U23+V23+W23 -> 50 | U23: 0 | V23: 0 | W23: 50 | X23: =Y23+Z23 -> 2 | Y23: 0 | Z23: 2 | AA23: 49 | AB23: 0 | AC23: 53 | AD23: =B23-C23+T23-AA23+'03.GQKN'!AA22+'04.GQTC'!AC22 -> 2 | AE23: =E23-F23 -> 0 | AF23: 2 | AG23: =AD23-AF23 -> 0
A24: Sở Y tế | B24: =AB24+AC24 -> 72 | C24: 72 | D24: =E24+X24 -> 51 | E24: =G24+M24+T24 -> 24 | F24: 24 | G24: =IFERROR(IF((H24+I24)=(J24+K24+L24),IF(AND((H24+I24)=0,(J24+K24+L24)>0),"Lỗi",(H24+I24)),"Lỗi"),"Lỗi") -> 1 | H24: 0 | I24: 1 | J24: 0 | K24: 1 | L24: 0 | M24: =IFERROR(IF((N24+O24)=(P24+Q24+R24+S24),IF(AND((N24+O24)=0,(P24+Q24+R24+S24)>0),"Lỗi",(N24+O24)),"Lỗi"),"Lỗi") -> 0 | N24: 0 | O24: 0 | P24: 0 | Q24: 0 | R24: 0 | S24: 0 | T24: =U24+V24+W24 -> 23 | U24: 1 | V24: 0 | W24: 22 | X24: =Y24+Z24 -> 27 | Y24: 3 | Z24: 24 | AA24: 22 | AB24: 0 | AC24: 72 | AD24: =B24-C24+T24-AA24+'03.GQKN'!AA23+'04.GQTC'!AC23 -> 1 | AE24: =E24-F24 -> 0 | AF24: 1 | AG24: =AD24-AF24 -> 0
A25: Thanh tra tỉnh | B25: =AB25+AC25 -> 1006 | C25: 954 | D25: =E25+X25 -> 499 | E25: =G25+M25+T25 -> 5 | F25: 5 | G25: =IFERROR(IF((H25+I25)=(J25+K25+L25),IF(AND((H25+I25)=0,(J25+K25+L25)>0),"Lỗi",(H25+I25)),"Lỗi"),"Lỗi") -> 0 | H25: 0 | I25: 0 | J25: 0 | K25: 0 | L25: 0 | M25: =IFERROR(IF((N25+O25)=(P25+Q25+R25+S25),IF(AND((N25+O25)=0,(P25+Q25+R25+S25)>0),"Lỗi",(N25+O25)),"Lỗi"),"Lỗi") -> 0 | N25: 0 | O25: 0 | P25: 0 | Q25: 0 | R25: 0 | S25: 0 | T25: =U25+V25+W25 -> 5 | U25: 0 | V25: 0 | W25: 5 | X25: =Y25+Z25 -> 494 | Y25: 178 | Z25: 316 | AA25: 5 | AB25: 36 | AC25: 970 | AD25: =B25-C25+T25-AA25+'03.GQKN'!AA24+'04.GQTC'!AC24 -> 52 | AE25: =E25-F25 -> 0 | AF25: 52 | AG25: =AD25-AF25 -> 0
A26: UBND CẤP XÃ | B26: =AB26+AC26 -> 11571 | C26: =SUM(C27:C121) -> 10476 | D26: =SUM(D27:D121) -> 10288 | E26: =SUM(E27:E121) -> 8952 | F26: =SUM(F27:F121) -> 8942 | G26: =SUM(G27:G121) -> 641 | H26: =SUM(H27:H121) -> 641 | I26: =SUM(I27:I121) -> 0 | J26: =SUM(J27:J121) -> 542 | ... AD26: =SUM(AD27:AD121) -> 2382 | AE26: =E26-F26 -> 10 | AF26: 2404 | AG26: =AD26-AF26 -> -22
A27: Phường Trấn Biên | B27: =AB27+AC27 -> 395 | C27: 395 | D27: =E27+X27 -> 395 | E27: =G27+M27+T27 -> 362 | F27: 362 | G27: =IFERROR(IF((H27+I27)=(J27+K27+L27),IF(AND((H27+I27)=0,(J27+K27+L27)>0),"Lỗi",(H27+I27)),"Lỗi"),"Lỗi") -> 21 | H27: 21 | I27: 0 | J27: 20 | K27: 0 | L27: 1 | M27: =IFERROR(IF((N27+O27)=(P27+Q27+R27+S27),IF(AND((N27+O27)=0,(P27+Q27+R27+S27)>0),"Lỗi",(N27+O27)),"Lỗi"),"Lỗi") -> 2 | N27: 2 | O27: 0 | P27: 0 | Q27: 0 | R27: 0 | S27: 2 | T27: =U27+V27+W27 -> 339 | U27: 26 | V27: 233 | W27: 80 | X27: =Y27+Z27 -> 33 | Y27: 11 | Z27: 22 | AA27: 315 | AB27: 33 | AC27: 362 | AD27: =B27-C27+T27-AA27+'03.GQKN'!AA26+'04.GQTC'!AC26 -> 32 | AE27: =E27-F27 -> 0 | AF27: 32 | AG27: =AD27-AF27 -> 0
A28: Phường Biên Hòa | B28: =AB28+AC28 -> 201 | C28: 190 | D28: =E28+X28 -> 190 | E28: =G28+M28+T28 -> 190 | F28: 190 | G28: =IFERROR(IF((H28+I28)=(J28+K28+L28),IF(AND((H28+I28)=0,(J28+K28+L28)>0),"Lỗi",(H28+I28)),"Lỗi"),"Lỗi") -> 3 | H28: 3 | J28: 3 | M28: =IFERROR(IF((N28+O28)=(P28+Q28+R28+S28),IF(AND((N28+O28)=0,(P28+Q28+R28+S28)>0),"Lỗi",(N28+O28)),"Lỗi"),"Lỗi") -> 3 | N28: 3 | S28: 3 | T28: =U28+V28+W28 -> 184 | V28: 184 | X28: =Y28+Z28 -> 0 | AA28: 147 | AB28: 38 | AC28: 163 | AD28: =B28-C28+T28-AA28+'03.GQKN'!AA27+'04.GQTC'!AC27 -> 50 | AE28: =E28-F28 -> 0 | AF28: 50 | AG28: =AD28-AF28 -> 0
A29: Phường Tam Hiệp | B29: =AB29+AC29 -> 160 | C29: 122 | D29: =E29+X29 -> 122 | E29: =G29+M29+T29 -> 122 | F29: 120 | G29: =IFERROR(IF((H29+I29)=(J29+K29+L29),IF(AND((H29+I29)=0,(J29+K29+L29)>0),"Lỗi",(H29+I29)),"Lỗi"),"Lỗi") -> 4 | H29: 4 | I29: 0 | J29: 4 | K29: 0 | L29: 0 | M29: =IFERROR(IF((N29+O29)=(P29+Q29+R29+S29),IF(AND((N29+O29)=0,(P29+Q29+R29+S29)>0),"Lỗi",(N29+O29)),"Lỗi"),"Lỗi") -> 2 | N29: 2 | O29: 0 | P29: 2 | Q29: 0 | R29: 0 | S29: 0 | T29: =U29+V29+W29 -> 116 | U29: 1 | V29: 76 | W29: 39 | X29: =Y29+Z29 -> 0 | Y29: 0 | Z29: 0 | AA29: 74 | AB29: 44 | AC29: 116 | AD29: =B29-C29+T29-AA29+'03.GQKN'!AA28+'04.GQTC'!AC28 -> 80 | AE29: =E29-F29 -> 2 | AF29: 80 | AG29: =AD29-AF29 -> 0
A30: Phường Long Bình | B30: =AB30+AC30 -> 144 | C30: 128 | D30: =E30+X30 -> 127 | E30: =G30+M30+T30 -> 127 | F30: 125 | G30: =IFERROR(IF((H30+I30)=(J30+K30+L30),IF(AND((H30+I30)=0,(J30+K30+L30)>0),"Lỗi",(H30+I30)),"Lỗi"),"Lỗi") -> 1 | H30: 1 | I30: 0 | J30: 1 | K30: 0 | L30: 0 | M30: =IFERROR(IF((N30+O30)=(P30+Q30+R30+S30),IF(AND((N30+O30)=0,(P30+Q30+R30+S30)>0),"Lỗi",(N30+O30)),"Lỗi"),"Lỗi") -> 1 | N30: 1 | O30: 0 | P30: 0 | Q30: 0 | R30: 0 | S30: 1 | T30: =U30+V30+W30 -> 125 | U30: 15 | V30: 96 | W30: 14 | X30: =Y30+Z30 -> 0 | Y30: 0 | Z30: 0 | AA30: 103 | AB30: 19 | AC30: 125 | AD30: =B30-C30+T30-AA30+'03.GQKN'!AA29+'04.GQTC'!AC29 -> 38 | AE30: =E30-F30 -> 2 | AF30: 38 | AG30: =AD30-AF30 -> 0
A31: Phường Trảng Dài | B31: =AB31+AC31 -> 824 | C31: 824 | D31: =E31+X31 -> 824 | E31: =G31+M31+T31 -> 175 | F31: 175 | G31: =IFERROR(IF((H31+I31)=(J31+K31+L31),IF(AND((H31+I31)=0,(J31+K31+L31)>0),"Lỗi",(H31+I31)),"Lỗi"),"Lỗi") -> 1 | H31: 1 | I31: 0 | J31: 0 | K31: 0 | L31: 1 | M31: =IFERROR(IF((N31+O31)=(P31+Q31+R31+S31),IF(AND((N31+O31)=0,(P31+Q31+R31+S31)>0),"Lỗi",(N31+O31)),"Lỗi"),"Lỗi") -> 0 | N31: 0 | O31: 0 | P31: 0 | Q31: 0 | R31: 0 | S31: 0 | T31: =U31+V31+W31 -> 174 | U31: 0 | V31: 111 | W31: 63 | X31: =Y31+Z31 -> 649 | Y31: 649 | Z31: 0 | AA31: 151 | AB31: 0 | AC31: 824 | AD31: =B31-C31+T31-AA31+'03.GQKN'!AA30+'04.GQTC'!AC30 -> 23 | AE31: =E31-F31 -> 0 | AF31: 23 | AG31: =AD31-AF31 -> 0
A32: Phường Hố Nai | B32: =AB32+AC32 -> 74 | C32: 74 | D32: =E32+X32 -> 72 | E32: =G32+M32+T32 -> 65 | F32: 65 | G32: =IFERROR(IF((H32+I32)=(J32+K32+L32),IF(AND((H32+I32)=0,(J32+K32+L32)>0),"Lỗi",(H32+I32)),"Lỗi"),"Lỗi") -> 1 | H32: 1 | I32: 0 | J32: 1 | K32: 0 | L32: 0 | M32: =IFERROR(IF((N32+O32)=(P32+Q32+R32+S32),IF(AND((N32+O32)=0,(P32+Q32+R32+S32)>0),"Lỗi",(N32+O32)),"Lỗi"),"Lỗi") -> 1 | N32: 1 | O32: 0 | P32: 0 | Q32: 0 | R32: 0 | S32: 1 | T32: =U32+V32+W32 -> 63 | U32: 0 | V32: 46 | W32: 17 | X32: =Y32+Z32 -> 7 | Y32: 1 | Z32: 6 | AA32: 61 | AB32: 0 | AC32: 74 | AD32: =B32-C32+T32-AA32+'03.GQKN'!AA31+'04.GQTC'!AC31 -> 2 | AE32: =E32-F32 -> 0 | AF32: 2 | AG32: =AD32-AF32 -> 0
A33: Phường Long Hưng | B33: =AB33+AC33 -> 131 | C33: 99 | D33: =E33+X33 -> 97 | E33: =G33+M33+T33 -> 97 | F33: 97 | G33: =IFERROR(IF((H33+I33)=(J33+K33+L33),IF(AND((H33+I33)=0,(J33+K33+L33)>0),"Lỗi",(H33+I33)),"Lỗi"),"Lỗi") -> 16 | H33: 16 | I33: 0 | J33: 13 | K33: 3 | L33: 0 | M33: =IFERROR(IF((N33+O33)=(P33+Q33+R33+S33),IF(AND((N33+O33)=0,(P33+Q33+R33+S33)>0),"Lỗi",(N33+O33)),"Lỗi"),"Lỗi") -> 3 | N33: 3 | O33: 0 | P33: 3 | Q33: 0 | R33: 0 | S33: 0 | T33: =U33+V33+W33 -> 78 | U33: 0 | V33: 77 | W33: 1 | X33: =Y33+Z33 -> 0 | Y33: 0 | Z33: 0 | AA33: 55 | AB33: 26 | AC33: 105 | AD33: =B33-C33+T33-AA33+'03.GQKN'!AA32+'04.GQTC'!AC32 -> 66 | AE33: =E33-F33 -> 0 | AF33: 66 | AG33: =AD33-AF33 -> 0
A34: Phường Phước Tân | B34: =AB34+AC34 -> 274 | C34: 274 | D34: =E34+X34 -> 223 | E34: =G34+M34+T34 -> 198 | F34: 198 | G34: =IFERROR(IF((H34+I34)=(J34+K34+L34),IF(AND((H34+I34)=0,(J34+K34+L34)>0),"Lỗi",(H34+I34)),"Lỗi"),"Lỗi") -> 35 | H34: 35 | I34: 0 | J34: 34 | K34: 0 | L34: 1 | M34: =IFERROR(IF((N34+O34)=(P34+Q34+R34+S34),IF(AND((N34+O34)=0,(P34+Q34+R34+S34)>0),"Lỗi",(N34+O34)),"Lỗi"),"Lỗi") -> 3 | N34: 3 | O34: 0 | P34: 1 | Q34: 0 | R34: 0 | S34: 2 | T34: =U34+V34+W34 -> 160 | U34: 0 | V34: 142 | W34: 18 | X34: =Y34+Z34 -> 25 | Y34: 12 | Z34: 13 | AA34: 89 | AB34: 54 | AC34: 220 | AD34: =B34-C34+T34-AA34+'03.GQKN'!AA33+'04.GQTC'!AC33 -> 79 | AE34: =E34-F34 -> 0 | AF34: 79 | AG34: =AD34-AF34 -> 0
A35: Phường Tam Phước | B35: =AB35+AC35 -> 116 | C35: 107 | D35: =E35+X35 -> 107 | E35: =G35+M35+T35 -> 107 | F35: 107 | G35: =IFERROR(IF((H35+I35)=(J35+K35+L35),IF(AND((H35+I35)=0,(J35+K35+L35)>0),"Lỗi",(H35+I35)),"Lỗi"),"Lỗi") -> 0 | H35: 0 | I35: 0 | J35: 0 | K35: 0 | L35: 0 | M35: =IFERROR(IF((N35+O35)=(P35+Q35+R35+S35),IF(AND((N35+O35)=0,(P35+Q35+R35+S35)>0),"Lỗi",(N35+O35)),"Lỗi"),"Lỗi") -> 0 | N35: 0 | O35: 0 | P35: 0 | Q35: 0 | R35: 0 | S35: 0 | T35: =U35+V35+W35 -> 107 | U35: 2 | V35: 90 | W35: 15 | X35: =Y35+Z35 -> 0 | Y35: 0 | Z35: 0 | AA35: 102 | AB35: 9 | AC35: 107 | AD35: =B35-C35+T35-AA35+'03.GQKN'!AA34+'04.GQTC'!AC34 -> 14 | AE35: =E35-F35 -> 0 | AF35: 14 | AG35: =AD35-AF35 -> 0
A36: Phường Long Khánh | B36: =AB36+AC36 -> 226 | C36: 226 | D36: =E36+X36 -> 226 | E36: =G36+M36+T36 -> 191 | F36: 191 | G36: =IFERROR(IF((H36+I36)=(J36+K36+L36),IF(AND((H36+I36)=0,(J36+K36+L36)>0),"Lỗi",(H36+I36)),"Lỗi"),"Lỗi") -> 14 | H36: 14 | I36: 0 | J36: 11 | K36: 0 | L36: 3 | M36: =IFERROR(IF((N36+O36)=(P36+Q36+R36+S36),IF(AND((N36+O36)=0,(P36+Q36+R36+S36)>0),"Lỗi",(N36+O36)),"Lỗi"),"Lỗi") -> 1 | N36: 1 | O36: 0 | P36: 1 | Q36: 0 | R36: 0 | S36: 0 | T36: =U36+V36+W36 -> 176 | U36: 0 | V36: 151 | W36: 25 | X36: =Y36+Z36 -> 35 | Y36: 18 | Z36: 17 | AA36: 128 | AB36: 42 | AC36: 184 | AD36: =B36-C36+T36-AA36+'03.GQKN'!AA35+'04.GQTC'!AC35 -> 49 | AE36: =E36-F36 -> 0 | AF36: 49 | AG36: =AD36-AF36 -> 0
A37: Phường Bình Lộc | B37: =AB37+AC37 -> 77 | C37: 75 | D37: =E37+X37 -> 74 | E37: =G37+M37+T37 -> 69 | F37: 69 | G37: =IFERROR(IF((H37+I37)=(J37+K37+L37),IF(AND((H37+I37)=0,(J37+K37+L37)>0),"Lỗi",(H37+I37)),"Lỗi"),"Lỗi") -> 0 | H37: 0 | I37: 0 | J37: 0 | K37: 0 | L37: 0 | M37: =IFERROR(IF((N37+O37)=(P37+Q37+R37+S37),IF(AND((N37+O37)=0,(P37+Q37+R37+S37)>0),"Lỗi",(N37+O37)),"Lỗi"),"Lỗi") -> 0 | N37: 0 | O37: 0 | P37: 0 | Q37: 0 | R37: 0 | S37: 0 | T37: =U37+V37+W37 -> 69 | U37: 0 | V37: 61 | W37: 8 | X37: =Y37+Z37 -> 5 | Y37: 4 | Z37: 1 | AA37: 69 | AB37: 3 | AC37: 74 | AD37: =B37-C37+T37-AA37+'03.GQKN'!AA36+'04.GQTC'!AC36 -> 2 | AE37: =E37-F37 -> 0 | AF37: 2 | AG37: =AD37-AF37 -> 0
A38: Phường Bảo Vinh | B38: =AB38+AC38 -> 44 | C38: 44 | D38: =E38+X38 -> 44 | E38: =G38+M38+T38 -> 38 | F38: 38 | G38: =IFERROR(IF((H38+I38)=(J38+K38+L38),IF(AND((H38+I38)=0,(J38+K38+L38)>0),"Lỗi",(H38+I38)),"Lỗi"),"Lỗi") -> 1 | H38: 1 | I38: 0 | J38: 0 | K38: 1 | L38: 0 | M38: =IFERROR(IF((N38+O38)=(P38+Q38+R38+S38),IF(AND((N38+O38)=0,(P38+Q38+R38+S38)>0),"Lỗi",(N38+O38)),"Lỗi"),"Lỗi") -> 2 | N38: 2 | O38: 0 | P38: 2 | Q38: 0 | R38: 0 | S38: 0 | T38: =U38+V38+W38 -> 35 | U38: 0 | V38: 29 | W38: 6 | X38: =Y38+Z38 -> 6 | Y38: 6 | Z38: 0 | AA38: 32 | AB38: 1 | AC38: 43 | AD38: =B38-C38+T38-AA38+'03.GQKN'!AA37+'04.GQTC'!AC37 -> 4 | AE38: =E38-F38 -> 0 | AF38: 4 | AG38: =AD38-AF38 -> 0
A39: Phường Xuân Lập | B39: =AB39+AC39 -> 37 | C39: 37 | D39: =E39+X39 -> 37 | E39: =G39+M39+T39 -> 37 | F39: 37 | G39: =IFERROR(IF((H39+I39)=(J39+K39+L39),IF(AND((H39+I39)=0,(J39+K39+L39)>0),"Lỗi",(H39+I39)),"Lỗi"),"Lỗi") -> 0 | H39: 0 | I39: 0 | J39: 0 | K39: 0 | L39: 0 | M39: =IFERROR(IF((N39+O39)=(P39+Q39+R39+S39),IF(AND((N39+O39)=0,(P39+Q39+R39+S39)>0),"Lỗi",(N39+O39)),"Lỗi"),"Lỗi") -> 2 | N39: 2 | O39: 0 | P39: 0 | Q39: 0 | R39: 0 | S39: 2 | T39: =U39+V39+W39 -> 35 | U39: 0 | V39: 33 | W39: 2 | X39: =Y39+Z39 -> 0 | Y39: 0 | Z39: 0 | AA39: 30 | AB39: 0 | AC39: 37 | AD39: =B39-C39+T39-AA39+'03.GQKN'!AA38+'04.GQTC'!AC38 -> 5 | AE39: =E39-F39 -> 0 | AF39: 5 | AG39: =AD39-AF39 -> 0
A40: Phường Hàng Gòn | B40: =AB40+AC40 -> 37 | C40: 37 | D40: =E40+X40 -> 37 | E40: =G40+M40+T40 -> 36 | F40: 36 | G40: =IFERROR(IF((H40+I40)=(J40+K40+L40),IF(AND((H40+I40)=0,(J40+K40+L40)>0),"Lỗi",(H40+I40)),"Lỗi"),"Lỗi") -> 0 | H40: 0 | I40: 0 | J40: 0 | K40: 0 | L40: 0 | M40: =IFERROR(IF((N40+O40)=(P40+Q40+R40+S40),IF(AND((N40+O40)=0,(P40+Q40+R40+S40)>0),"Lỗi",(N40+O40)),"Lỗi"),"Lỗi") -> 0 | N40: 0 | O40: 0 | P40: 0 | Q40: 0 | R40: 0 | S40: 0 | T40: =U40+V40+W40 -> 36 | U40: 1 | V40: 27 | W40: 8 | X40: =Y40+Z40 -> 1 | Y40: 1 | Z40: 0 | AA40: 33 | AC40: 37 | AD40: =B40-C40+T40-AA40+'03.GQKN'!AA39+'04.GQTC'!AC39 -> 3 | AE40: =E40-F40 -> 0 | AF40: 3 | AG40: =AD40-AF40 -> 0
...

Sheet 03.GQKN
A1: UBND THÀNH PHỐ ĐỒNG NAI
A2: THANH TRA THÀNH PHỐ | X2: 03.GQKN
B3: TỔNG HỢP KẾT QUẢ GIẢI QUYẾT KHIẾU NẠI TRONG 09 THÁNG ĐẦU NĂM 2026 CỦA THÀNH PHỐ ĐỒNG NAI
B4: Số liệu tính từ ngày 06/12/2025 đến ngày 05/9/2026
B5: (Kèm theo Báo cáo số: /BC-TT ngày /9/2026 của Thanh tra thành phố Đồng Nai)
A6: Đơn vị | B6: Tổng số đơn khiếu nại thuộc thẩm quyền | C6: Tổng số vụ việc | D6: Phân tích kết quả | H6: Tổng số Quyết định ban hành trong kỳ | I6: Giải quyết lần đầu | L6: Giải quyết lần 2 | N6: Kiến nghị thu hồi cho Nhà nước | P6: Trả lại cho tổ chức, cá nhân | T6: Kiến nghị xử lý hành chính | V6: Chuyển cơ quan điều tra | Y6: Số đơn kỳ trước chuyển sang | Z6: Số đơn trong kỳ | AA6: Số đơn tồn chuyển kỳ sau
D7: Đang xem xét điều kiện thụ lý | E7: Đã thụ lý giải quyết | F7: Không thụ lý | G7: Rút đơn, đình chỉ giải quyết | I7: Khiếu nại đúng | J7: Khiếu nại sai | K7: Khiếu nại đúng 1 phần | L7: Công nhận kết quả lần đầu | M7: Hủy, sửa kết quả lần đầu | N7: Tiền (Trđ) | O7: Đất (m2) | P7: Tiền (Trđ) | Q7: Đất (m2) | R7: Số tổ chức được trả lại quyền lợi | S7: Số cá nhân được trả lại quyền lợi | T7: Tổng số người bị kiến nghị xử lý | U7: Trong đó số cán bộ, công chức, viên chức | V7: Số vụ | W7: Tổng số người | X7: Trong đó số cán bộ, công chức, viên chức
A9: MS | B9: 1 | C9: 2=3+4+5+6 | D9: 3 | E9: 4 | F9: 5 | G9: 6 | H9: 7=8+9+10+11+12 | I9: 8 | J9: 9 | K9: 10 | L9: 11 | M9: 12 | N9: 13 | O9: 14 | P9: 15 | Q9: 16 | R9: 17 | S9: 18 | T9: 19 | U9: 20 | V9: 21 | W9: 22 | X9: 23 | Y9: 24 | Z9: 25 | AA9: 26
A10: UBND THÀNH PHỐ | B10: =IFERROR(IF((Y10+Z10)='02.XLD'!G11,'02.XLD'!G11,"Lỗi"),"Lỗi") -> 161 | C10: =SUM(D10:G10) -> 161 | D10: 0 | E10: 147 | F10: 7 | G10: 7 | H10: =SUM(I10:M10) -> 38 | I10: 0 | J10: 1 | K10: 1 | L10: 29 | M10: 7 | N10: 0 | O10: 0 | P10: 0 | Q10: 0 | R10: 0 | S10: 0 | T10: 0 | U10: 0 | V10: 0 | W10: 0 | X10: 0 | Y10: 61 | Z10: 100 | AA10: =B10-F10-G10-H10 -> 109
A11: CẤP SỞ, NGÀNH | B11: =IFERROR(IF((Y11+Z11)='02.XLD'!G12,'02.XLD'!G12,"Lỗi"),"Lỗi") -> 76 | C11: =SUM(D11:G11) -> 76 | D11: =SUM(D12:D24) -> 6 | E11: =SUM(E12:E24) -> 12 | F11: =SUM(F12:F24) -> 35 | G11: =SUM(G12:G24) -> 23 | H11: =SUM(H12:H24) -> 14 | I11: =SUM(I12:I24) -> 4 | J11: =SUM(J12:J24) -> 8 | K11: =SUM(K12:K24) -> 0 | ... X11: =SUM(X12:X24) -> 0 | Y11: 0 | Z11: =SUM(Z12:Z24) -> 76 | AA11: =SUM(AA12:AA24) -> 4
A12: Sở Dân tộc và tôn giáo | B12: =IFERROR(IF((Y12+Z12)='02.XLD'!G13,'02.XLD'!G13,"Lỗi"),"Lỗi") -> 0 | C12: =SUM(D12:G12) -> 0 | H12: =SUM(I12:M12) -> 0 | Y12: 0 | AA12: =B12-F12-G12-H12 -> 0
A13: Sở Công Thương | B13: =IFERROR(IF((Y13+Z13)='02.XLD'!G14,'02.XLD'!G14,"Lỗi"),"Lỗi") -> 0 | C13: =SUM(D13:G13) -> 0 | D13: 0 | E13: 0 | F13: 0 | G13: 0 | H13: =SUM(I13:M13) -> 0 | I13: 0 | J13: 0 | K13: 0 | L13: 0 | M13: 0 | N13: 0 | O13: 0 | P13: 0 | Q13: 0 | R13: 0 | S13: 0 | T13: 0 | U13: 0 | V13: 0 | W13: 0 | X13: 0 | Z13: 0 | AA13: =B13-F13-G13-H13 -> 0
A14: Sở GD&ĐT | B14: =IFERROR(IF((Y14+Z14)='02.XLD'!G15,'02.XLD'!G15,"Lỗi"),"Lỗi") -> 0 | C14: =SUM(D14:G14) -> 0 | D14: 0 | E14: 0 | F14: 0 | G14: 0 | H14: =SUM(I14:M14) -> 0 | I14: 0 | J14: 0 | K14: 0 | L14: 0 | M14: 0 | N14: 0 | O14: 0 | P14: 0 | Q14: 0 | R14: 0 | S14: 0 | T14: 0 | U14: 0 | V14: 0 | W14: 0 | X14: 0 | Y14: 0 | Z14: 0 | AA14: =B14-F14-G14-H14 -> 0
A15: Sở KH&CN | B15: =IFERROR(IF((Y15+Z15)='02.XLD'!G16,'02.XLD'!G16,"Lỗi"),"Lỗi") -> 0 | C15: =SUM(D15:G15) -> 0 | H15: =SUM(I15:M15) -> 0 | AA15: =B15-F15-G15-H15 -> 0
A16: Sở NN&MT | B16: =IFERROR(IF((Y16+Z16)='02.XLD'!G17,'02.XLD'!G17,"Lỗi"),"Lỗi") -> 33 | C16: =SUM(D16:G16) -> 33 | D16: 3 | E16: 0 | F16: 20 | G16: 10 | H16: =SUM(I16:M16) -> 0 | I16: 0 | J16: 0 | K16: 0 | L16: 0 | M16: 0 | N16: 0 | O16: 0 | P16: 0 | Q16: 0 | R16: 0 | S16: 0 | T16: 0 | U16: 0 | V16: 0 | W16: 0 | X16: 0 | Y16: 0 | Z16: 33 | AA16: =B16-F16-G16-H16 -> 3
A17: Sở Nội vụ | B17: =IFERROR(IF((Y17+Z17)='02.XLD'!G18,'02.XLD'!G18,"Lỗi"),"Lỗi") -> 19 | C17: =SUM(D17:G17) -> 19 | D17: 2 | E17: 5 | F17: 1 | G17: 11 | H17: =SUM(I17:M17) -> 7 | I17: 1 | J17: 5 | K17: 0 | L17: 0 | M17: 1 | N17: 0 | O17: 0 | P17: 0 | Q17: 0 | R17: 0 | S17: 2 | T17: 1 | U17: 0 | V17: 0 | W17: 0 | X17: 0 | Y17: 0 | Z17: 19 | AA17: =B17-F17-G17-H17 -> 0
A18: Sở Ngoại vụ | B18: =IFERROR(IF((Y18+Z18)='02.XLD'!G19,'02.XLD'!G19,"Lỗi"),"Lỗi") -> 0 | C18: =SUM(D18:G18) -> 0 | H18: =SUM(I18:M18) -> 0 | Y18: 0 | AA18: =B18-F18-G18-H18 -> 0
A19: Sở Tài chính | B19: =IFERROR(IF((Y19+Z19)='02.XLD'!G20,'02.XLD'!G20,"Lỗi"),"Lỗi") -> 5 | C19: =SUM(D19:G19) -> 5 | D19: 0 | E19: 5 | F19: 0 | G19: 0 | H19: =SUM(I19:M19) -> 5 | I19: 3 | J19: 2 | K19: 0 | L19: 0 | M19: 0 | N19: 0 | O19: 0 | P19: 0 | Q19: 0 | R19: 0 | S19: 0 | T19: 0 | U19: 0 | V19: 0 | W19: 0 | X19: 0 | Y19: 0 | Z19: 5 | AA19: =B19-F19-G19-H19 -> 0
A20: Sở Tư pháp | B20: =IFERROR(IF((Y20+Z20)='02.XLD'!G21,'02.XLD'!G21,"Lỗi"),"Lỗi") -> 18 | C20: =SUM(D20:G20) -> 18 | D20: 1 | E20: 1 | F20: 14 | G20: 2 | H20: =SUM(I20:M20) -> 1 | I20: 0 | J20: 1 | K20: 0 | L20: 0 | M20: 0 | N20: 0 | O20: 0 | P20: 0 | Q20: 0 | R20: 0 | S20: 0 | T20: 0 | U20: 0 | V20: 0 | W20: 0 | X20: 0 | Y20: 0 | Z20: 18 | AA20: =B20-F20-G20-H20 -> 1
A21: Sở VHTT&DL | B21: =IFERROR(IF((Y21+Z21)='02.XLD'!G22,'02.XLD'!G22,"Lỗi"),"Lỗi") -> 0 | C21: =SUM(D21:G21) -> 0 | H21: =SUM(I21:M21) -> 0 | AA21: =B21-F21-G21-H21 -> 0
A22: Sở Xây dựng | B22: =IFERROR(IF((Y22+Z22)='02.XLD'!G23,'02.XLD'!G23,"Lỗi"),"Lỗi") -> 0 | C22: =SUM(D22:G22) -> 0 | D22: 0 | E22: 0 | F22: 0 | G22: 0 | H22: =SUM(I22:M22) -> 0 | I22: 0 | J22: 0 | K22: 0 | L22: 0 | M22: 0 | N22: 0 | O22: 0 | P22: 0 | Q22: 0 | R22: 0 | S22: 0 | T22: 0 | U22: 0 | V22: 0 | W22: 0 | X22: 0 | Y22: 0 | Z22: 0 | AA22: =B22-F22-G22-H22 -> 0
A23: Sở Y tế | B23: =IFERROR(IF((Y23+Z23)='02.XLD'!G24,'02.XLD'!G24,"Lỗi"),"Lỗi") -> 1 | C23: =SUM(D23:G23) -> 1 | D23: 0 | E23: 1 | F23: 0 | G23: 0 | H23: =SUM(I23:M23) -> 1 | I23: 0 | J23: 0 | K23: 0 | L23: 0 | M23: 1 | N23: 0 | O23: 0 | P23: 0 | Q23: 0 | R23: 0 | S23: 0 | T23: 0 | U23: 0 | V23: 0 | W23: 0 | X23: 0 | Y23: 0 | Z23: 1 | AA23: =B23-F23-G23-H23 -> 0
A24: Thanh tra tỉnh | B24: =IFERROR(IF((Y24+Z24)='02.XLD'!G25,'02.XLD'!G25,"Lỗi"),"Lỗi") -> 0 | C24: =SUM(D24:G24) -> 0 | D24: 0 | E24: 0 | F24: 0 | G24: 0 | H24: =SUM(I24:M24) -> 0 | I24: 0 | J24: 0 | K24: 0 | L24: 0 | M24: 0 | N24: 0 | O24: 0 | P24: 0 | Q24: 0 | R24: 0 | S24: 0 | T24: 0 | U24: 0 | V24: 0 | W24: 0 | X24: 0 | Y24: 0 | Z24: 0 | AA24: =B24-F24-G24-H24 -> 0
A25: UBND CẤP XÃ | B25: =IFERROR(IF((Y25+Z25)='02.XLD'!G26,'02.XLD'!G26,"Lỗi"),"Lỗi") -> 641 | C25: =SUM(D25:G25) -> 640 | D25: =SUM(D26:D120) -> 32 | E25: =SUM(E26:E120) -> 359 | F25: =SUM(F26:F120) -> 80 | G25: =SUM(G26:G120) -> 169 | H25: =SUM(H26:H120) -> 255 | I25: =SUM(I26:I120) -> 19 | J25: =SUM(J26:J120) -> 174 | K25: =SUM(K26:K120) -> 62 | ... X25: =SUM(X26:X120) -> 0 | Y25: 33 | Z25: =SUM(Z26:Z120) -> 608 | AA25: =SUM(AA26:AA120) -> 137
A26: Phường Trấn Biên | B26: =IFERROR(IF((Y26+Z26)='02.XLD'!G27,'02.XLD'!G27,"Lỗi"),"Lỗi") -> 21 | C26: =SUM(D26:G26) -> 21 | D26: 5 | E26: 5 | F26: 4 | G26: 7 | H26: =SUM(I26:M26) -> 3 | I26: 0 | J26: 3 | K26: 0 | L26: 0 | M26: 0 | N26: 0 | O26: 0 | P26: 0 | Q26: 0 | R26: 0 | S26: 0 | T26: 0 | U26: 0 | V26: 0 | W26: 0 | X26: 0 | Z26: 21 | AA26: =B26-F26-G26-H26 -> 7
A27: Phường Biên Hòa | B27: =IFERROR(IF((Y27+Z27)='02.XLD'!G28,'02.XLD'!G28,"Lỗi"),"Lỗi") -> 3 | C27: =SUM(D27:G27) -> 3 | D27: 0 | E27: 3 | F27: 0 | G27: 0 | H27: =SUM(I27:M27) -> 1 | I27: 0 | J27: 1 | K27: 0 | L27: 0 | M27: 0 | N27: 0 | O27: 0 | P27: 0 | Q27: 0 | R27: 0 | S27: 0 | T27: 0 | U27: 0 | V27: 0 | W27: 0 | X27: 0 | Y27: 0 | Z27: 3 | AA27: =B27-F27-G27-H27 -> 2
A28: Phường Tam Hiệp | B28: =IFERROR(IF((Y28+Z28)='02.XLD'!G29,'02.XLD'!G29,"Lỗi"),"Lỗi") -> 4 | C28: =SUM(D28:G28) -> 4 | D28: 0 | E28: 0 | F28: 0 | G28: 4 | H28: =SUM(I28:M28) -> 0 | I28: 0 | J28: 0 | K28: 0 | L28: 0 | M28: 0 | N28: 0 | O28: 0 | P28: 0 | Q28: 0 | R28: 0 | S28: 0 | T28: 0 | U28: 0 | V28: 0 | W28: 0 | X28: 0 | Y28: 4 | Z28: 0 | AA28: =B28-F28-G28-H28 -> 0
A29: Phường Long Bình | B29: =IFERROR(IF((Y29+Z29)='02.XLD'!G30,'02.XLD'!G30,"Lỗi"),"Lỗi") -> 1 | C29: =SUM(D29:G29) -> 1 | D29: 0 | E29: 1 | F29: 0 | G29: 0 | H29: =SUM(I29:M29) -> 1 | I29: 1 | J29: 0 | K29: 0 | L29: 0 | M29: 0 | N29: 0 | O29: 0 | P29: 0 | Q29: 0 | R29: 0 | S29: 0 | T29: 0 | U29: 0 | V29: 0 | W29: 0 | X29: 0 | Z29: 1 | AA29: =B29-F29-G29-H29 -> 0
A30: Phường Trảng Dài | B30: =IFERROR(IF((Y30+Z30)='02.XLD'!G31,'02.XLD'!G31,"Lỗi"),"Lỗi") -> 1 | C30: =SUM(D30:G30) -> 1 | D30: 0 | E30: 0 | F30: 0 | G30: 1 | H30: =SUM(I30:M30) -> 0 | I30: 0 | J30: 0 | K30: 0 | L30: 0 | M30: 0 | N30: 0 | O30: 0 | P30: 0 | Q30: 0 | R30: 0 | S30: 0 | T30: 0 | U30: 0 | V30: 0 | W30: 0 | X30: 0 | Y30: 0 | Z30: 1 | AA30: =B30-F30-G30-H30 -> 0
A31: Phường Hố Nai | B31: =IFERROR(IF((Y31+Z31)='02.XLD'!G32,'02.XLD'!G32,"Lỗi"),"Lỗi") -> 1 | C31: =SUM(D31:G31) -> 1 | D31: 0 | E31: 0 | F31: 1 | G31: 0 | H31: =SUM(I31:M31) -> 0 | I31: 0 | J31: 0 | K31: 0 | L31: 0 | M31: 0 | N31: 0 | O31: 0 | P31: 0 | Q31: 0 | R31: 0 | S31: 0 | T31: 0 | U31: 0 | V31: 0 | W31: 0 | X31: 0 | Y31: 0 | Z31: 1 | AA31: =B31-F31-G31-H31 -> 0
A32: Phường Long Hưng | B32: =IFERROR(IF((Y32+Z32)='02.XLD'!G33,'02.XLD'!G33,"Lỗi"),"Lỗi") -> 16 | C32: =SUM(D32:G32) -> 16 | D32: 9 | E32: 7 | F32: 0 | G32: 0 | H32: =SUM(I32:M32) -> 7 | I32: 0 | J32: 4 | K32: 3 | L32: 0 | M32: 0 | N32: 0 | O32: 0 | P32: 0 | Q32: 0 | R32: 0 | S32: 0 | T32: 0 | U32: 0 | V32: 0 | W32: 0 | X32: 0 | Y32: 0 | Z32: 16 | AA32: =B32-F32-G32-H32 -> 9
A33: Phường Phước Tân | B33: =IFERROR(IF((Y33+Z33)='02.XLD'!G34,'02.XLD'!G34,"Lỗi"),"Lỗi") -> 35 | C33: =SUM(D33:G33) -> 28 | D33: 5 | E33: 1 | F33: 7 | G33: 15 | H33: =SUM(I33:M33) -> 5 | I33: 1 | J33: 4 | K33: 0 | L33: 0 | M33: 0 | N33: 0 | O33: 0 | P33: 0 | Q33: 0 | R33: 0 | S33: 0 | T33: 0 | U33: 0 | V33: 0 | W33: 0 | X33: 0 | Z33: 35 | AA33: =B33-F33-G33-H33 -> 8
A34: Phường Tam Phước | B34: =IFERROR(IF((Y34+Z34)='02.XLD'!G35,'02.XLD'!G35,"Lỗi"),"Lỗi") -> 0 | C34: =SUM(D34:G34) -> 0 | D34: 0 | E34: 0 | F34: 0 | G34: 0 | H34: =SUM(I34:M34) -> 0 | I34: 0 | J34: 0 | K34: 0 | L34: 0 | M34: 0 | N34: 0 | O34: 0 | P34: 0 | Q34: 0 | R34: 0 | S34: 0 | T34: 0 | U34: 0 | V34: 0 | W34: 0 | X34: 0 | Z34: 0 | AA34: =B34-F34-G34-H34 -> 0
A35: Phường Long Khánh | B35: =IFERROR(IF((Y35+Z35)='02.XLD'!G36,'02.XLD'!G36,"Lỗi"),"Lỗi") -> 14 | C35: =SUM(D35:G35) -> 14 | D35: 1 | E35: 1 | F35: 1 | G35: 11 | H35: =SUM(I35:M35) -> 1 | I35: 0 | J35: 1 | K35: 0 | L35: 0 | M35: 0 | N35: 0 | O35: 0 | P35: 0 | Q35: 0 | R35: 0 | S35: 0 | T35: 0 | U35: 0 | V35: 0 | W35: 0 | X35: 0 | Y35: 2 | Z35: 12 | AA35: =B35-F35-G35-H35 -> 1
A36: Phường Bình Lộc | B36: =IFERROR(IF((Y36+Z36)='02.XLD'!G37,'02.XLD'!G37,"Lỗi"),"Lỗi") -> 0 | C36: =SUM(D36:G36) -> 0 | D36: 0 | E36: 0 | F36: 0 | G36: 0 | H36: =SUM(I36:M36) -> 0 | I36: 0 | J36: 0 | K36: 0 | L36: 0 | M36: 0 | N36: 0 | O36: 0 | P36: 0 | Q36: 0 | R36: 0 | S36: 0 | T36: 0 | U36: 0 | V36: 0 | W36: 0 | X36: 0 | Y36: 0 | Z36: 0 | AA36: =B36-F36-G36-H36 -> 0
A37: Phường Bảo Vinh | B37: =IFERROR(IF((Y37+Z37)='02.XLD'!G38,'02.XLD'!G38,"Lỗi"),"Lỗi") -> 1 | C37: =SUM(D37:G37) -> 1 | D37: 1 | E37: 0 | F37: 0 | G37: 0 | H37: =SUM(I37:M37) -> 0 | I37: 0 | J37: 0 | K37: 0 | L37: 0 | M37: 0 | N37: 0 | O37: 0 | P37: 0 | Q37: 0 | R37: 0 | S37: 0 | T37: 0 | U37: 0 | V37: 0 | W37: 0 | X37: 0 | Y37: 0 | Z37: 1 | AA37: =B37-F37-G37-H37 -> 1
A38: Phường Xuân Lập | B38: =IFERROR(IF((Y38+Z38)='02.XLD'!G39,'02.XLD'!G39,"Lỗi"),"Lỗi") -> 0 | C38: =SUM(D38:G38) -> 0 | D38: 0 | E38: 0 | F38: 0 | G38: 0 | H38: =SUM(I38:M38) -> 0 | I38: 0 | J38: 0 | K38: 0 | L38: 0 | M38: 0 | N38: 0 | O38: 0 | P38: 0 | Q38: 0 | R38: 0 | S38: 0 | T38: 0 | U38: 0 | V38: 0 | W38: 0 | X38: 0 | Y38: 0 | AA38: =B38-F38-G38-H38 -> 0
A39: Phường Hàng Gòn | B39: =IFERROR(IF((Y39+Z39)='02.XLD'!G40,'02.XLD'!G40,"Lỗi"),"Lỗi") -> 0 | C39: =SUM(D39:G39) -> 0 | D39: 0 | E39: 0 | F39: 0 | G39: 0 | H39: =SUM(I39:M39) -> 0 | I39: 0 | J39: 0 | K39: 0 | L39: 0 | M39: 0 | N39: 0 | O39: 0 | P39: 0 | Q39: 0 | R39: 0 | S39: 0 | T39: 0 | U39: 0 | V39: 0 | W39: 0 | X39: 0 | Z39: 0 | AA39: =B39-F39-G39-H39 -> 0
A40: Phường Trảng Bom | B40: =IFERROR(IF((Y40+Z40)='02.XLD'!G41,'02.XLD'!G41,"Lỗi"),"Lỗi") -> 29 | C40: =SUM(D40:G40) -> 29 | D40: 0 | E40: 19 | F40: 2 | G40: 8 | H40: =SUM(I40:M40) -> 11 | I40: 2 | J40: 9 | K40: 0 | L40: 0 | M40: 0 | N40: 0 | O40: 0 | P40: 199.15 | Q40: 0 | R40: 0 | S40: 2 | T40: 0 | U40: 0 | V40: 0 | W40: 0 | X40: 0 | Y40: 2 | Z40: 27 | AA40: =B40-F40-G40-H40 -> 8
A41: Xã An Viễn | B41: =IFERROR(IF((Y41+Z41)='02.XLD'!G42,'02.XLD'!G42,"Lỗi"),"Lỗi") -> 16 | C41: =SUM(D41:G41) -> 16 | D41: 0 | E41: 4 | F41: 10 | G41: 2 | H41: =SUM(I41:M41) -> 1 | I41: 0 | J41: 1 | K41: 0 | L41: 0 | M41: 0 | N41: 0 | O41: 0 | P41: 0 | Q41: 0 | R41: 0 | S41: 0 | T41: 0 | U41: 0 | V41: 0 | W41: 0 | X41: 0 | Y41: 1 | Z41: 15 | AA41: =B41-F41-G41-H41 -> 3
...

Sheet 04.GQTC
A1: UBND THÀNH PHỐ ĐỒNG NAI
A2: THANH TRA THÀNH PHỐ | Z2: 04/GQTC
B3: TỔNG HỢP KẾT QUẢ GIẢI QUYẾT TỐ CÁO TRONG 09 THÁNG ĐẦU NĂM 2026 CỦA THÀNH PHỐ ĐỒNG NAI
B4: Số liệu tính từ ngày 06/12/2025 đến ngày 05/9/2026
B5: (Kèm theo Báo cáo số: /BC-TT ngày /9/2026 của Thanh tra thành phố Đồng Nai)
A6: Đơn vị | B6: Tổng số đơn tố cáo thuộc thẩm quyền | C6: Tổng số vụ việc | D6: Phân tích kết quả | H6: Tổng số Kết luận ban hành trong kỳ | I6: Tố cáo lần đầu | L6: Tố cáo tiếp | O6: Kiến nghị thu hồi cho Nhà nước | Q6: Trả lại cho tổ chức, cá nhân | U6: Kiến nghị xử lý hành chính | X6: Chuyển cơ quan điều tra | AA6: Số đơn kỳ trước chuyển sang | AB6: Số đơn trong kỳ | AC6: Số đơn tồn chuyển kỳ sau
D7: Đang xem xét điều kiện thụ lý | E7: Đã thụ lý giải quyết | F7: Không thụ lý | G7: Rút đơn, đình chỉ giải quyết | I7: Tố cáo đúng | J7: Tố cáo sai | K7: Tố cáo có đúng có sai | L7: Tố cáo tiếp đúng | M7: Tố cáo tiếp sai | N7: Tố cáo tiếp có đúng có sai | O7: Tiền (Trđ) | P7: Đất (m2) | Q7: Tiền (Trđ) | R7: Đất (m2) | S7: Số tổ chức được trả lại quyền lợi | T7: Số cá nhân được trả lại quyền lợi | U7: Tổ chức | V7: Cá nhân | W7: Trong đó, Cán bộ, công chức | X7: Số vụ | Y7: Số đối tượng | Z7: Trong đó số cán bộ, công chức, viên chức
A9: MS | B9: 1 | C9: 2=3+4+5+6 | D9: 3 | E9: 4 | F9: 5 | G9: 6 | H9: 7=8+9+10+11+12+13 | I9: 8 | J9: 9 | K9: 10 | L9: 11 | M9: 12 | N9: 13 | O9: 14 | P9: 15 | Q9: 16 | R9: 17 | S9: 18 | T9: 19 | U9: 20 | V9: 21 | W9: 22 | X9: 23 | Y9: 24 | Z9: 25 | AA9: 26 | AB9: 27 | AC9: 28
A10: UBND THÀNH PHỐ | B10: =IFERROR(IF((AA10+AB10)='02.XLD'!M11,'02.XLD'!M11,"Lỗi"),"Lỗi") -> 27 | C10: =SUM(D10:G10) -> 27 | D10: 0 | E10: 22 | F10: 0 | G10: 5 | H10: =SUM(I10:N10) -> 15 | I10: 5 | J10: 6 | K10: 3 | L10: 0 | M10: 1 | N10: 0 | O10: 0 | P10: 0 | Q10: 0 | R10: 0 | S10: 0 | T10: 0 | U10: 0 | V10: 0 | W10: 0 | X10: 0 | Y10: 0 | Z10: 0 | AA10: 7 | AB10: 20 | AC10: =B10-F10-G10-H10 -> 7
A11: CẤP SỞ, NGÀNH | B11: =SUM(B12:B24) -> 173 | C11: =SUM(D11:G11) -> 173 | D11: =SUM(D12:D24) -> 7 | E11: =SUM(E12:E24) -> 10 | F11: =SUM(F12:F24) -> 111 | G11: =SUM(G12:G24) -> 45 | H11: =SUM(H12:H24) -> 7 | I11: =SUM(I12:I24) -> 1 | J11: =SUM(J12:J24) -> 4 | K11: =SUM(K12:K24) -> 2 | ... Z11: =SUM(Z12:Z24) -> 0 | AA11: 0 | AB11: =SUM(AB12:AB24) -> 173 | AC11: =SUM(AC12:AC24) -> 10
A12: Sở Dân tộc và tôn giáo | B12: =IFERROR(IF((AA12+AB12)='02.XLD'!M13,'02.XLD'!M13,"Lỗi"),"Lỗi") -> 0 | C12: =SUM(D12:G12) -> 0 | H12: =SUM(I12:N12) -> 0 | AA12: 0 | AC12: =B12-F12-G12-H12 -> 0
A13: Sở Công Thương | B13: =IFERROR(IF((AA13+AB13)='02.XLD'!M14,'02.XLD'!M14,"Lỗi"),"Lỗi") -> 1 | C13: =SUM(D13:G13) -> 1 | D13: 0 | E13: 0 | F13: 1 | G13: 0 | H13: =SUM(I13:N13) -> 0 | I13: 0 | J13: 0 | K13: 0 | L13: 0 | M13: 0 | N13: 0 | O13: 0 | P13: 0 | Q13: 0 | R13: 0 | S13: 0 | T13: 0 | U13: 0 | V13: 0 | W13: 0 | X13: 0 | Y13: 0 | Z13: 0 | AB13: 1 | AC13: =B13-F13-G13-H13 -> 0
A14: Sở GD&ĐT | B14: =IFERROR(IF((AA14+AB14)='02.XLD'!M15,'02.XLD'!M15,"Lỗi"),"Lỗi") -> 2 | C14: =SUM(D14:G14) -> 2 | D14: 0 | E14: 1 | F14: 1 | G14: 0 | H14: =SUM(I14:N14) -> 1 | I14: 0 | J14: 0 | K14: 1 | L14: 0 | M14: 0 | N14: 0 | O14: 118 | P14: 0 | Q14: 0 | R14: 0 | S14: 0 | T14: 0 | U14: 0 | V14: 3 | W14: 3 | X14: 0 | Y14: 0 | Z14: 0 | AA14: 0 | AB14: 2 | AC14: =B14-F14-G14-H14 -> 0
A15: Sở KH&CN | B15: =IFERROR(IF((AA15+AB15)='02.XLD'!M16,'02.XLD'!M16,"Lỗi"),"Lỗi") -> 0 | C15: =SUM(D15:G15) -> 0 | H15: =SUM(I15:N15) -> 0 | AA15: 0 | AC15: =B15-F15-G15-H15 -> 0
A16: Sở NN&MT | B16: =IFERROR(IF((AA16+AB16)='02.XLD'!M17,'02.XLD'!M17,"Lỗi"),"Lỗi") -> 146 | C16: =SUM(D16:G16) -> 146 | D16: 7 | E16: 1 | F16: 98 | G16: 40 | H16: =SUM(I16:N16) -> 1 | I16: 1 | J16: 0 | K16: 0 | L16: 0 | M16: 0 | N16: 0 | O16: 0 | P16: 0 | Q16: 0 | R16: 0 | S16: 0 | T16: 0 | U16: 2 | V16: 1 | W16: 1 | X16: 0 | Y16: 0 | Z16: 0 | AA16: 0 | AB16: 146 | AC16: =B16-F16-G16-H16 -> 7
A17: Sở Nội vụ | B17: =IFERROR(IF((AA17+AB17)='02.XLD'!M18,'02.XLD'!M18,"Lỗi"),"Lỗi") -> 5 | C17: =SUM(D17:G17) -> 5 | D17: 0 | E17: 2 | F17: 0 | G17: 3 | H17: =SUM(I17:N17) -> 2 | I17: 0 | J17: 1 | K17: 1 | L17: 0 | M17: 0 | N17: 0 | O17: 0 | P17: 0 | Q17: 0 | R17: 0 | S17: 0 | T17: 0 | U17: 0 | V17: 0 | W17: 0 | X17: 0 | Y17: 0 | Z17: 0 | AA17: 0 | AB17: 5 | AC17: =B17-F17-G17-H17 -> 0
A18: Sở Ngoại vụ | B18: =IFERROR(IF((AA18+AB18)='02.XLD'!M19,'02.XLD'!M19,"Lỗi"),"Lỗi") -> 0 | C18: =SUM(D18:G18) -> 0 | H18: =SUM(I18:N18) -> 0 | AA18: 0 | AC18: =B18-F18-G18-H18 -> 0
A19: Sở Tài chính | B19: =IFERROR(IF((AA19+AB19)='02.XLD'!M20,'02.XLD'!M20,"Lỗi"),"Lỗi") -> 2 | C19: =SUM(D19:G19) -> 2 | D19: 0 | E19: 2 | F19: 0 | G19: 0 | H19: =SUM(I19:N19) -> 0 | I19: 0 | J19: 0 | K19: 0 | L19: 0 | M19: 0 | N19: 0 | O19: 0 | P19: 0 | Q19: 0 | R19: 0 | S19: 0 | T19: 0 | U19: 0 | V19: 0 | W19: 0 | X19: 0 | Y19: 0 | Z19: 0 | AA19: 0 | AB19: 2 | AC19: =B19-F19-G19-H19 -> 2
A20: Sở Tư pháp | B20: =IFERROR(IF((AA20+AB20)='02.XLD'!M21,'02.XLD'!M21,"Lỗi"),"Lỗi") -> 15 | C20: =SUM(D20:G20) -> 15 | D20: 0 | E20: 2 | F20: 11 | G20: 2 | H20: =SUM(I20:N20) -> 2 | I20: 0 | J20: 2 | K20: 0 | L20: 0 | M20: 0 | N20: 0 | O20: 0 | P20: 0 | Q20: 0 | R20: 0 | S20: 0 | T20: 0 | U20: 0 | V20: 0 | W20: 0 | X20: 0 | Y20: 0 | Z20: 0 | AA20: 0 | AB20: 15 | AC20: =B20-F20-G20-H20 -> 0
A21: Sở VHTT&DL | B21: =IFERROR(IF((AA21+AB21)='02.XLD'!M22,'02.XLD'!M22,"Lỗi"),"Lỗi") -> 1 | C21: =SUM(D21:G21) -> 1 | D21: 0 | E21: 1 | F21: 0 | G21: 0 | H21: =SUM(I21:N21) -> 1 | I21: 0 | J21: 1 | K21: 0 | L21: 0 | M21: 0 | N21: 0 | O21: 0 | P21: 0 | Q21: 0 | R21: 0 | S21: 0 | T21: 0 | U21: 0 | V21: 0 | W21: 0 | X21: 0 | Y21: 0 | Z21: 0 | AA21: 0 | AB21: 1 | AC21: =B21-F21-G21-H21 -> 0
A22: Sở Xây dựng | B22: =IFERROR(IF((AA22+AB22)='02.XLD'!M23,'02.XLD'!M23,"Lỗi"),"Lỗi") -> 1 | C22: =SUM(D22:G22) -> 1 | D22: 0 | E22: 1 | F22: 0 | G22: 0 | H22: =SUM(I22:N22) -> 0 | AA22: 0 | AB22: 1 | AC22: =B22-F22-G22-H22 -> 1
A23: Sở Y tế | B23: =IFERROR(IF((AA23+AB23)='02.XLD'!M24,'02.XLD'!M24,"Lỗi"),"Lỗi") -> 0 | C23: =SUM(D23:G23) -> 0 | D23: 0 | E23: 0 | F23: 0 | G23: 0 | H23: =SUM(I23:N23) -> 0 | I23: 0 | J23: 0 | K23: 0 | L23: 0 | M23: 0 | N23: 0 | O23: 0 | P23: 0 | Q23: 0 | R23: 0 | S23: 0 | T23: 0 | U23: 0 | V23: 0 | W23: 0 | X23: 0 | Y23: 0 | Z23: 0 | AA23: 0 | AB23: 0 | AC23: =B23-F23-G23-H23 -> 0
A24: Thanh tra tỉnh | B24: =IFERROR(IF((AA24+AB24)='02.XLD'!M25,'02.XLD'!M25,"Lỗi"),"Lỗi") -> 0 | C24: =SUM(D24:G24) -> 0 | D24: 0 | E24: 0 | F24: 0 | G24: 0 | H24: =SUM(I24:N24) -> 0 | I24: 0 | J24: 0 | K24: 0 | L24: 0 | M24: 0 | N24: 0 | O24: 0 | P24: 0 | Q24: 0 | R24: 0 | S24: 0 | T24: 0 | U24: 0 | V24: 0 | W24: 0 | X24: 0 | Y24: 0 | Z24: 0 | AA24: 0 | AB24: 0 | AC24: =B24-F24-G24-H24 -> 0
A25: UBND CẤP XÃ | B25: =SUM(B26:B120) -> 75 | C25: =SUM(C26:C120) -> 73 | D25: =SUM(D26:D120) -> 5 | E25: =SUM(E26:E120) -> 31 | F25: =SUM(F26:F120) -> 25 | G25: =SUM(G26:G120) -> 12 | H25: =SUM(H26:H120) -> 28 | I25: =SUM(I26:I120) -> 5 | ... Z25: =SUM(Z26:Z120) -> 0 | AA25: 6 | AB25: =SUM(AB26:AB120) -> 68 | AC25: =SUM(AC26:AC120) -> 10
A26: Phường Trấn Biên | B26: =IFERROR(IF((AA26+AB26)='02.XLD'!M27,'02.XLD'!M27,"Lỗi"),"Lỗi") -> 2 | C26: =SUM(D26:G26) -> 2 | D26: 0 | E26: 1 | F26: 0 | G26: 1 | H26: =SUM(I26:N26) -> 0 | I26: 0 | J26: 0 | K26: 0 | L26: 0 | M26: 0 | N26: 0 | O26: 0 | P26: 0 | Q26: 0 | R26: 0 | S26: 0 | T26: 0 | U26: 0 | V26: 0 | W26: 0 | X26: 0 | Y26: 0 | Z26: 0 | AA26: 0 | AB26: 2 | AC26: =B26-F26-G26-H26 -> 1
A27: Phường Biên Hòa | B27: =IFERROR(IF((AA27+AB27)='02.XLD'!M28,'02.XLD'!M28,"Lỗi"),"Lỗi") -> 3 | C27: =SUM(D27:G27) -> 3 | D27: 0 | E27: 3 | F27: 0 | G27: 0 | H27: =SUM(I27:N27) -> 3 | I27: 0 | J27: 2 | K27: 1 | L27: 0 | M27: 0 | N27: 0 | O27: 0 | P27: 0 | Q27: 0 | R27: 0 | S27: 0 | T27: 0 | U27: 0 | V27: 0 | W27: 0 | X27: 0 | Y27: 0 | Z27: 0 | AA27: 0 | AB27: 3 | AC27: =B27-F27-G27-H27 -> 0
A28: Phường Tam Hiệp | B28: =IFERROR(IF((AA28+AB28)='02.XLD'!M29,'02.XLD'!M29,"Lỗi"),"Lỗi") -> 2 | C28: =SUM(D28:G28) -> 2 | D28: 0 | E28: 2 | F28: 0 | G28: 0 | H28: =SUM(I28:N28) -> 2 | I28: 0 | J28: 0 | K28: 2 | L28: 0 | M28: 0 | N28: 0 | O28: 0 | P28: 0 | Q28: 0 | R28: 0 | S28: 0 | T28: 0 | U28: 0 | V28: 0 | W28: 0 | X28: 0 | Y28: 0 | Z28: 0 | AA28: 2 | AB28: 0 | AC28: =B28-F28-G28-H28 -> 0
A29: Phường Long Bình | B29: =IFERROR(IF((AA29+AB29)='02.XLD'!M30,'02.XLD'!M30,"Lỗi"),"Lỗi") -> 1 | C29: =SUM(D29:G29) -> 1 | D29: 0 | E29: 1 | F29: 0 | G29: 0 | H29: =SUM(I29:N29) -> 1 | I29: 0 | J29: 1 | K29: 0 | L29: 0 | M29: 0 | N29: 0 | O29: 0 | P29: 0 | Q29: 0 | R29: 0 | S29: 0 | T29: 0 | U29: 0 | V29: 0 | W29: 0 | X29: 0 | Y29: 0 | Z29: 0 | AB29: 1 | AC29: =B29-F29-G29-H29 -> 0
A30: Phường Trảng Dài | B30: =IFERROR(IF((AA30+AB30)='02.XLD'!M31,'02.XLD'!M31,"Lỗi"),"Lỗi") -> 0 | C30: =SUM(D30:G30) -> 0 | D30: 0 | E30: 0 | F30: 0 | G30: 0 | H30: =SUM(I30:N30) -> 0 | I30: 0 | J30: 0 | K30: 0 | L30: 0 | M30: 0 | N30: 0 | O30: 0 | P30: 0 | Q30: 0 | R30: 0 | S30: 0 | T30: 0 | U30: 0 | V30: 0 | W30: 0 | X30: 0 | Y30: 0 | Z30: 0 | AA30: 0 | AB30: 0 | AC30: =B30-F30-G30-H30 -> 0
A31: Phường Hố Nai | B31: =IFERROR(IF((AA31+AB31)='02.XLD'!M32,'02.XLD'!M32,"Lỗi"),"Lỗi") -> 1 | C31: =SUM(D31:G31) -> 1 | D31: 0 | E31: 1 | F31: 0 | G31: 0 | H31: =SUM(I31:N31) -> 1 | I31: 0 | J31: 0 | K31: 1 | L31: 0 | M31: 0 | N31: 0 | O31: 0 | P31: 0 | Q31: 0 | R31: 0 | S31: 0 | T31: 0 | U31: 0 | V31: 0 | W31: 0 | X31: 0 | Y31: 0 | Z31: 0 | AA31: 0 | AB31: 1 | AC31: =B31-F31-G31-H31 -> 0
A32: Phường Long Hưng | B32: =IFERROR(IF((AA32+AB32)='02.XLD'!M33,'02.XLD'!M33,"Lỗi"),"Lỗi") -> 3 | C32: =SUM(D32:G32) -> 3 | D32: 3 | E32: 0 | F32: 0 | G32: 0 | H32: =SUM(I32:N32) -> 1 | I32: 0 | J32: 0 | K32: 1 | L32: 0 | M32: 0 | N32: 0 | O32: 0 | P32: 0 | Q32: 0 | R32: 0 | S32: 0 | T32: 0 | U32: 0 | V32: 0 | W32: 0 | X32: 0 | Y32: 0 | Z32: 0 | AA32: 0 | AB32: 3 | AC32: =B32-F32-G32-H32 -> 2
A33: Phường Phước Tân | B33: =IFERROR(IF((AA33+AB33)='02.XLD'!M34,'02.XLD'!M34,"Lỗi"),"Lỗi") -> 3 | C33: =SUM(D33:G33) -> 3 | D33: 0 | E33: 0 | F33: 1 | G33: 2 | H33: =SUM(I33:N33) -> 0 | I33: 0 | J33: 0 | K33: 0 | L33: 0 | M33: 0 | N33: 0 | O33: 0 | P33: 0 | Q33: 0 | R33: 0 | S33: 0 | T33: 0 | U33: 0 | V33: 1 | W33: 1 | X33: 0 | Y33: 0 | Z33: 0 | AA33: 1 | AB33: 2 | AC33: =B33-F33-G33-H33 -> 0
A34: Phường Tam Phước | B34: =IFERROR(IF((AA34+AB34)='02.XLD'!M35,'02.XLD'!M35,"Lỗi"),"Lỗi") -> 0 | C34: =SUM(D34:G34) -> 0 | D34: 0 | E34: 0 | F34: 0 | G34: 0 | H34: =SUM(I34:N34) -> 0 | I34: 0 | J34: 0 | K34: 0 | L34: 0 | M34: 0 | N34: 0 | O34: 0 | P34: 0 | Q34: 0 | R34: 0 | S34: 0 | T34: 0 | U34: 0 | V34: 0 | W34: 0 | X34: 0 | Y34: 0 | Z34: 0 | AB34: 0 | AC34: =B34-F34-G34-H34 -> 0
A35: Phường Long Khánh | B35: =IFERROR(IF((AA35+AB35)='02.XLD'!M36,'02.XLD'!M36,"Lỗi"),"Lỗi") -> 1 | C35: =SUM(D35:G35) -> 1 | D35: 0 | E35: 0 | F35: 0 | G35: 1 | H35: =SUM(I35:N35) -> 0 | I35: 0 | J35: 0 | K35: 0 | L35: 0 | M35: 0 | N35: 0 | O35: 0 | P35: 0 | Q35: 0 | R35: 0 | S35: 0 | T35: 0 | U35: 0 | V35: 0 | W35: 0 | X35: 0 | Y35: 0 | Z35: 0 | AA35: 0 | AB35: 1 | AC35: =B35-F35-G35-H35 -> 0
A36: Phường Bình Lộc | B36: =IFERROR(IF((AA36+AB36)='02.XLD'!M37,'02.XLD'!M37,"Lỗi"),"Lỗi") -> 0 | C36: =SUM(D36:G36) -> 0 | D36: 0 | E36: 0 | F36: 0 | G36: 0 | H36: =SUM(I36:N36) -> 0 | I36: 0 | J36: 0 | K36: 0 | L36: 0 | M36: 0 | N36: 0 | O36: 0 | P36: 0 | Q36: 0 | R36: 0 | S36: 0 | T36: 0 | U36: 0 | V36: 0 | W36: 0 | X36: 0 | Y36: 0 | Z36: 0 | AA36: 0 | AB36: 0 | AC36: =B36-F36-G36-H36 -> 0
A37: Phường Bảo Vinh | B37: =IFERROR(IF((AA37+AB37)='02.XLD'!M38,'02.XLD'!M38,"Lỗi"),"Lỗi") -> 2 | C37: =SUM(D37:G37) -> 2 | D37: 0 | E37: 1 | F37: 1 | G37: 0 | H37: =SUM(I37:N37) -> 1 | I37: 0 | J37: 1 | K37: 0 | L37: 0 | M37: 0 | N37: 0 | O37: 0 | P37: 0 | Q37: 0 | R37: 0 | S37: 0 | T37: 0 | U37: 0 | V37: 0 | W37: 0 | X37: 0 | Y37: 0 | Z37: 0 | AA37: 0 | AB37: 2 | AC37: =B37-F37-G37-H37 -> 0
A38: Phường Xuân Lập | B38: =IFERROR(IF((AA38+AB38)='02.XLD'!M39,'02.XLD'!M39,"Lỗi"),"Lỗi") -> 2 | C38: =SUM(D38:G38) -> 2 | D38: 0 | E38: 1 | F38: 0 | G38: 1 | H38: =SUM(I38:N38) -> 1 | I38: 0 | J38: 1 | K38: 0 | L38: 0 | M38: 0 | N38: 0 | O38: 0 | P38: 0 | Q38: 0 | R38: 0 | S38: 0 | T38: 0 | U38: 0 | V38: 0 | W38: 0 | X38: 0 | Y38: 0 | Z38: 0 | AA38: 0 | AB38: 2 | AC38: =B38-F38-G38-H38 -> 0
A39: Phường Hàng Gòn | B39: =IFERROR(IF((AA39+AB39)='02.XLD'!M40,'02.XLD'!M40,"Lỗi"),"Lỗi") -> 0 | C39: =SUM(D39:G39) -> 0 | D39: 0 | E39: 0 | F39: 0 | G39: 0 | H39: =SUM(I39:N39) -> 0 | I39: 0 | J39: 0 | K39: 0 | L39: 0 | M39: 0 | N39: 0 | O39: 0 | P39: 0 | Q39: 0 | R39: 0 | S39: 0 | T39: 0 | U39: 0 | V39: 0 | W39: 0 | X39: 0 | Y39: 0 | Z39: 0 | AB39: 0 | AC39: =B39-F39-G39-H39 -> 0
A40: Phường Trảng Bom | B40: =IFERROR(IF((AA40+AB40)='02.XLD'!M41,'02.XLD'!M41,"Lỗi"),"Lỗi") -> 3 | C40: =SUM(D40:G40) -> 3 | D40: 0 | E40: 0 | F40: 2 | G40: 1 | H40: =SUM(I40:N40) -> 0 | I40: 0 | J40: 0 | K40: 0 | L40: 0 | M40: 0 | N40: 0 | O40: 0 | P40: 0 | Q40: 0 | R40: 0 | S40: 0 | T40: 0 | U40: 0 | V40: 0 | W40: 0 | X40: 0 | Y40: 0 | Z40: 0 | AA40: 0 | AB40: 3 | AC40: =B40-F40-G40-H40 -> 0
A41: Xã An Viễn | B41: =IFERROR(IF((AA41+AB41)='02.XLD'!M42,'02.XLD'!M42,"Lỗi"),"Lỗi") -> 6 | C41: =SUM(D41:G41) -> 6 | D41: 0 | E41: 4 | F41: 2 | G41: 0 | H41: =SUM(I41:N41) -> 4 | I41: 2 | J41: 1 | K41: 1 | L41: 0 | M41: 0 | N41: 0 | O41: 0 | P41: 0 | Q41: 0 | R41: 0 | S41: 0 | T41: 0 | U41: 0 | V41: 0 | W41: 4 | X41: 0 | Y41: 0 | Z41: 0 | AA41: 0 | AB41: 6 | AC41: =B41-F41-G41-H41 -> 0
...

Sheet 05.KQTH
A1: UBND THÀNH PHỐ ĐỒNG NAI
A2: THANH TRA THÀNH PHỐ | AF2: 05/KQTH
B3: TỔNG HỢP KẾT QUẢ THI HÀNH QUYẾT ĐỊNH, THỰC HIỆN KẾT LUẬN TRONG 09 THÁNG ĐẦU NĂM 2026 CỦA THÀNH PHỐ ĐỒNG NAI
B4: Số liệu tính từ ngày 06/12/2025 đến ngày 05/9/2026
B5: (Kèm theo Báo cáo số: /BC-TT ngày /9/2026 của Thanh tra thành phố Đồng Nai)
A6: Đơn vị | B6: Kết quả thi hành Quyết định giải quyết khiếu nại | Q6: Kết quả thực hiện Kết luận nội dung tố cáo
B7: Tổng số Quyết định phải thi hành trong kỳ | C7: Tổng số Quyết định đã thi hành xong | D7: Thu hồi cho Nhà nước | H7: Trả lại cho tổ chức, cá nhân | L7: Đã xử lý hành chính | N7: Đã khởi tố | Q7: Tổng số Kết luận phải thực hiện trong kỳ | R7: Tổng số Kết luận đã thực hiện xong | S7: Thu hồi cho Nhà nước | W7: Trả lại cho tổ chức, cá nhân | AA7: Đã xử lý hành chính | AD7: Đã khởi tố
D8: Phải thu | F8: Đã thu | H8: Phải trả | J8: Đã trả | L8: Tổng số người bị xử lý | M8: Trong đó số cán bộ, công chức, viên chức | N8: Số vụ | O8: Số người | P8: Trong đó số cán bộ, công chức, viên chức | S8: Phải thu | U8: Đã thu | W8: Phải trả | Y8: Đã trả | AA8: Tổng số tổ chức bị xử lý | AB8: Tổng số cá nhân bị xử lý | AC8: Trong đó số cán bộ, công chức, viên chức | AD8: Số vụ | AE8: Số đối tượng | AF8: Trong đó số cán bộ, công chức, viên chức
D9: Tiền (Trđ) | E9: Đất (m2) | F9: Tiền (Trđ) | G9: Đất (m2) | H9: Tiền (Trđ) | I9: Đất (m2) | J9: Tiền (Trđ) | K9: Đất (m2) | S9: Tiền (Trđ) | T9: Đất (m2) | U9: Tiền (Trđ) | V9: Đất (m2) | W9: Tiền (Trđ) | X9: Đất (m2) | Y9: Tiền (Trđ) | Z9: Đất (m2)
A10: MS | B10: 1 | C10: 2 | D10: 3 | E10: 4 | F10: 5 | G10: 6 | H10: 7 | I10: 8 | J10: 9 | K10: 10 | L10: 11 | M10: 12 | N10: 13 | O10: 14 | P10: 15 | Q10: 16 | R10: 17 | S10: 18 | T10: 19 | U10: 20 | V10: 21 | W10: 22 | X10: 23 | Y10: 24 | Z10: 25 | AA10: 26 | AB10: 27 | AC10: 28 | AD10: 29 | AE10: 30 | AF10: 31
A11: UBND tỉnh | B11: 8 | C11: 0 | D11: 0 | E11: 0 | F11: 0 | G11: 0 | H11: 0 | I11: 0 | J11: 0 | K11: 0 | L11: 0 | M11: 0 | N11: 0 | O11: 0 | P11: 0 | Q11: 8 | R11: 0 | S11: 0 | T11: 0 | U11: 0 | V11: 0 | W11: 0 | X11: 0 | Y11: 0 | Z11: 0 | AA11: 0 | AB11: 0 | AC11: 0 | AD11: 0 | AE11: 0 | AF11: 0
A12: CẤP SỞ, NGÀNH | B12: =SUM(B13:B25) -> 0 | C12: =SUM(C13:C25) -> 0 | D12: =SUM(D13:D25) -> 0 | E12: =SUM(E13:E25) -> 0 | F12: =SUM(F13:F25) -> 0 | G12: =SUM(G13:G25) -> 0 | H12: =SUM(H13:H25) -> 0 | I12: =SUM(I13:I25) -> 0 | ... AF12: =SUM(AF13:AF25) -> 0
A13: Sở Dân tộc và tôn giáo
A14: Sở Công Thương | B14: 0 | C14: 0 | D14: 0 | E14: 0 | F14: 0 | G14: 0 | H14: 0 | I14: 0 | J14: 0 | K14: 0 | L14: 0 | M14: 0 | N14: 0 | O14: 0 | P14: 0 | Q14: 0 | R14: 0 | S14: 0 | T14: 0 | U14: 0 | V14: 0 | W14: 0 | X14: 0 | Y14: 0 | Z14: 0 | AA14: 0 | AB14: 0 | AC14: 0 | AD14: 0 | AE14: 0 | AF14: 0
